Workbook

Sheet Read Me
A1: This spreadsheet has been created by Andy Blackett of Durham Fell Runners, it is intended to be used to collate results for non-commercial fell races. If you wish to use it for any other purpose please contact andyblackett@googlemail.com to discuss terms. This spreadsheet has no affiliation or connection with the FRA or any other organisation.
A3: This spreadsheet has been designed to be easy to use and require no specialist knowledge to operate. It doesn't use macros or anything similar, as the author doesn't understand them either.
A5: Instructions - Registration.
A6: Delete the example data from the 'Entries' tab cells A2:E196, and from the 'Finish order' tab F2:G173.
A7: Input your entry data, this can be pre-populated from pre-entres (by downloading a report from SI Entries or similar), and populated 'on the day'.
A8: Enter runners numbers next to their names in column A of the 'Entries' tab, again, either in advance or on the day.
A9: All the column headers have notes, indicated by red triangles at the top of the column, read these to check you are inputting data in the correct format.
A11: After the race.
A12: Go to the 'Finish order' tab and input the numbers as the runners finish.
A13: All the results will then auto-populate including the team results.
A14: Enter the runners times in the 'Finish order' tab, this will then feed through to the Results tabs and the 'Published format'
A15: If the sheet is 'laggy' and takes time to recalculate after each data entry, change the calculation option to 'manual' and then press F9 each time you want to recalculate.
... A39: Extended to take up to 1000 runners

Sheet Entries
A1: Bib | B1: Number | C1: Name | D1: Club | E1: Gender | F1: Category | G1: Finished?
A2: 1 | C2: Ella Hargreaves | D2: Individual# | E2: Female | F2: WSEN | G2: =IF(Table24[[#This Row],[Number]]<>0,COUNTIF('Finish order'!F:F, Table24[[#This Row],[Number]]),"")
A3: 2 | C3: Katie Lomas | D3: Boro Runners | E3: female | F3: WSEN | G3: =IF(Table24[[#This Row],[Number]]<>0,COUNTIF('Finish order'!F:F, Table24[[#This Row],[Number]]),"")
A4: 3 | B4: 3 | C4: Robyn Watson | D4: Esk Valley Fell Club | E4: Female | F4: WSEN | G4: =IF(Table24[[#This Row],[Number]]<>0,COUNTIF('Finish order'!F:F, Table24[[#This Row],[Number]]),"") -> 1
A5: 4 | B5: 4 | C5: Tabitha McNicholas | D5: North York Moors AC | E5: Female | F5: WSEN | G5: =IF(Table24[[#This Row],[Number]]<>0,COUNTIF('Finish order'!F:F, Table24[[#This Row],[Number]]),"") -> 1
A6: 5 | C6: Hazel Normanhenney | D6: St Theresa's AC | E6: Female | F6: WSEN | G6: =IF(Table24[[#This Row],[Number]]<>0,COUNTIF('Finish order'!F:F, Table24[[#This Row],[Number]]),"")
A7: 6 | C7: Cassie Read | D7: York Knavesmire Harriers | E7: Female | F7: WSEN | G7: =IF(Table24[[#This Row],[Number]]<>0,COUNTIF('Finish order'!F:F, Table24[[#This Row],[Number]]),"")
A8: 7 | C8: Jodi Bemand | D8: West Cheshire AC | E8: Female | F8: WU23 | G8: =IF(Table24[[#This Row],[Number]]<>0,COUNTIF('Finish order'!F:F, Table24[[#This Row],[Number]]),"")
A9: 8 | C9: Harriet Thompson | D9: Individual# | E9: Female | F9: WU23 | G9: =IF(Table24[[#This Row],[Number]]<>0,COUNTIF('Finish order'!F:F, Table24[[#This Row],[Number]]),"")
A10: 9 | C10: Georgia Campbell | D10: Individual# | E10: Female | F10: WSEN | G10: =IF(Table24[[#This Row],[Number]]<>0,COUNTIF('Finish order'!F:F, Table24[[#This Row],[Number]]),"")
A11: 10 | C11: Emily Loftus | D11: Pickering RC | E11: Female | F11: WSEN | G11: =IF(Table24[[#This Row],[Number]]<>0,COUNTIF('Finish order'!F:F, Table24[[#This Row],[Number]]),"")
A12: 11 | C12: Lucy Knight | D12: Individual# | E12: Female | F12: WSEN | G12: =IF(Table24[[#This Row],[Number]]<>0,COUNTIF('Finish order'!F:F, Table24[[#This Row],[Number]]),"")
A13: 12 | C13: Kirsty Brown | D13: Pickering RC | E13: Female | F13: WSEN | G13: =IF(Table24[[#This Row],[Number]]<>0,COUNTIF('Finish order'!F:F, Table24[[#This Row],[Number]]),"")
A14: 13 | C14: Ursula Catton | D14: York Knavesmire Harriers | E14: Female | F14: WSEN | G14: =IF(Table24[[#This Row],[Number]]<>0,COUNTIF('Finish order'!F:F, Table24[[#This Row],[Number]]),"")
A15: 14 | C15: Rose Mather | D15: York Knavesmire Harriers | E15: Female | F15: WSEN | G15: =IF(Table24[[#This Row],[Number]]<>0,COUNTIF('Finish order'!F:F, Table24[[#This Row],[Number]]),"")
A16: 15 | C16: Sarah Roe | D16: Billingham RC | E16: Female | F16: WSEN | G16: =IF(Table24[[#This Row],[Number]]<>0,COUNTIF('Finish order'!F:F, Table24[[#This Row],[Number]]),"")
A17: 16 | C17: Jennifer Thompson | D17: Individual# | E17: Female | F17: WSEN | G17: =IF(Table24[[#This Row],[Number]]<>0,COUNTIF('Finish order'!F:F, Table24[[#This Row],[Number]]),"")
... A37: 36 | C37: Eryn Barber | D37: Calder Valley Fell Runners | E37: Female | F37: WSEN | G37: =IF(Table24[[#This Row],[Number]]<>0,COUNTIF('Finish order'!F:F, Table24[[#This Row],[Number]]),"")
A38: 37 | B38: 37 | C38: Kelly Richmond | D38: Pickering RC | E38: Female | F38: WSEN | G38: =IF(Table24[[#This Row],[Number]]<>0,COUNTIF('Finish order'!F:F, Table24[[#This Row],[Number]]),"") -> 1
A39: 38 | C39: Enya Killen | D39: Sedgefield Harriers | E39: Female | F39: WSEN | G39: =IF(Table24[[#This Row],[Number]]<>0,COUNTIF('Finish order'!F:F, Table24[[#This Row],[Number]]),"")
A40: 39 | C40: Lindy Shelton | D40: Individual# | E40: Female | F40: WSEN | G40: =IF(Table24[[#This Row],[Number]]<>0,COUNTIF('Finish order'!F:F, Table24[[#This Row],[Number]]),"")
A41: 40 | B41: 40 | C41: Kelly Grieve | D41: Thirsk & Sowerby Harriers | E41: Female | F41: WSEN | G41: =IF(Table24[[#This Row],[Number]]<>0,COUNTIF('Finish order'!F:F, Table24[[#This Row],[Number]]),"") -> 1
A42: 41 | C42: Tessa Grant | D42: Thirsk & Sowerby Harriers | E42: Female | F42: WSEN | G42: =IF(Table24[[#This Row],[Number]]<>0,COUNTIF('Finish order'!F:F, Table24[[#This Row],[Number]]),"")
A43: 42 | C43: Kerri-Lee Wooding | D43: Thirsk & Sowerby Harriers | E43: Female | F43: WSEN | G43: =IF(Table24[[#This Row],[Number]]<>0,COUNTIF('Finish order'!F:F, Table24[[#This Row],[Number]]),"")
A44: 43 | C44: Sam Foreman | D44: Sedgefield Harriers | E44: Female | F44: WSEN | G44: =IF(Table24[[#This Row],[Number]]<>0,COUNTIF('Finish order'!F:F, Table24[[#This Row],[Number]]),"")
A45: 44 | C45: Sara Willhoit | D45: Mercia Fell Runners | E45: Female | F45: WSEN | G45: =IF(Table24[[#This Row],[Number]]<>0,COUNTIF('Finish order'!F:F, Table24[[#This Row],[Number]]),"")
A46: 45 | C46: Katharine Woodhead | D46: Nidd Valley Road Runners | E46: Female | F46: WSEN | G46: =IF(Table24[[#This Row],[Number]]<>0,COUNTIF('Finish order'!F:F, Table24[[#This Row],[Number]]),"")
A47: 46 | C47: Gemma Pearce | D47: Boro Runners | E47: Female | F47: WSEN | G47: =IF(Table24[[#This Row],[Number]]<>0,COUNTIF('Finish order'!F:F, Table24[[#This Row],[Number]]),"")
A48: 47 | C48: Harriet Morris | D48: Sedgefield Harriers | E48: Female | F48: WSEN | G48: =IF(Table24[[#This Row],[Number]]<>0,COUNTIF('Finish order'!F:F, Table24[[#This Row],[Number]]),"")
A49: 48 | C49: Katie Nicholson | D49: Swaledale Runners | E49: Female | F49: WSEN | G49: =IF(Table24[[#This Row],[Number]]<>0,COUNTIF('Finish order'!F:F, Table24[[#This Row],[Number]]),"")
A50: 49 | C50: Catherine Dutton | D50: Saltwell Harriers | E50: Female | F50: WSEN | G50: =IF(Table24[[#This Row],[Number]]<>0,COUNTIF('Finish order'!F:F, Table24[[#This Row],[Number]]),"")
A51: 50 | C51: Maria Clemmit | D51: North York Moors AC | E51: Female | F51: WSEN | G51: =IF(Table24[[#This Row],[Number]]<>0,COUNTIF('Finish order'!F:F, Table24[[#This Row],[Number]]),"") | I51: 1208
A52: 51 | C52: Samantha Webster | D52: Individual# | E52: Female | F52: WSEN | G52: =IF(Table24[[#This Row],[Number]]<>0,COUNTIF('Finish order'!F:F, Table24[[#This Row],[Number]]),"")
A53: 52 | C53: Kyah Hall | D53: Loftus & Whitby AC | E53: Female | F53: WSEN | G53: =IF(Table24[[#This Row],[Number]]<>0,COUNTIF('Finish order'!F:F, Table24[[#This Row],[Number]]),"") | I53: 1210
A54: 53 | C54: Lisa Verrill | D54: Loftus & Whitby AC | E54: Female | F54: WSEN | G54: =IF(Table24[[#This Row],[Number]]<>0,COUNTIF('Finish order'!F:F, Table24[[#This Row],[Number]]),"")
A55: 54 | C55: Kore Bent | D55: Individual# | E55: Female | F55: WU23 | G55: =IF(Table24[[#This Row],[Number]]<>0,COUNTIF('Finish order'!F:F, Table24[[#This Row],[Number]]),"")
A56: 55 | B56: 55 | C56: Amie Cooper | D56: Individual# | E56: Female | F56: WU23 | G56: =IF(Table24[[#This Row],[Number]]<>0,COUNTIF('Finish order'!F:F, Table24[[#This Row],[Number]]),"") -> 1
A57: 56 | B57: 56 | C57: Melanie Ellwood | D57: York Knavesmire Harriers | E57: Female | F57: WSEN | G57: =IF(Table24[[#This Row],[Number]]<>0,COUNTIF('Finish order'!F:F, Table24[[#This Row],[Number]]),"") -> 1
A58: 57 | B58: 57 | C58: Alexandra Atkinson | D58: Whitby Running Club | E58: Female | F58: WSEN | G58: =IF(Table24[[#This Row],[Number]]<>0,COUNTIF('Finish order'!F:F, Table24[[#This Row],[Number]]),"") -> 1
A59: 58 | B59: 58 | C59: Siobhan Firman | D59: Individual# | E59: Female | F59: WSEN | G59: =IF(Table24[[#This Row],[Number]]<>0,COUNTIF('Finish order'!F:F, Table24[[#This Row],[Number]]),"") -> 1
...

Sheet Finish order
A1: Position | B1: Gender Position | C1: Column1 | D1: Cat Position | E1: Column2 | F1: Number | G1: Time | H1: Name | I1: Club | J1: Gender | K1: Category | L1: Short Cat. | M1: Short Cat Position | N1: Column3
A2: 1 | B2: =IF(F2<>"",COUNTIF($J$2:J2,J2),"") -> 1 | C2: =IF(F2<>0,J2&":"&B2,"") -> Male:1 | D2: =IF(F2<>0,COUNTIF($K$2:K2,K2),"") -> 1 | E2: =IF(F2<>0,K2&":"&D2,"") -> MU23:1 | F2: 397 | G2: 0.045196759 | H2: =IFERROR(VLOOKUP(F2, Entries!$B:$F, 2, FALSE()),"") -> Harry Butterworth | I2: =IFERROR(VLOOKUP(F2, Entries!$B:$F, 3, FALSE()),"") -> Scarborough AC | J2: =IFERROR(VLOOKUP(F2, Entries!$B:$F, 4, FALSE()),"") -> Male | K2: =IFERROR(VLOOKUP(F2, Entries!$B:$F, 5, FALSE()),"") -> MU23 | L2: =LEFT(Table22[[#This Row],[Category]],2) -> MU | M2: =IF(F2<>0,COUNTIF($L$2:L2,L2),"") -> 1 | N2: =IF(F2<>0,L2&":"&M2,"") -> MU:1
A3: 2 | B3: =IF(F3<>"",COUNTIF($J$2:J3,J3),"") -> 2 | C3: =IF(F3<>0,J3&":"&B3,"") -> Male:2 | D3: =IF(F3<>0,COUNTIF($K$2:K3,K3),"") -> 1 | E3: =IF(F3<>0,K3&":"&D3,"") -> M40:1 | F3: 520 | G3: 0.045243056 | H3: =IFERROR(VLOOKUP(F3, Entries!$B:$F, 2, FALSE()),"") -> Dan Bateson | I3: =IFERROR(VLOOKUP(F3, Entries!$B:$F, 3, FALSE()),"") -> Scarborough AC | J3: =IFERROR(VLOOKUP(F3, Entries!$B:$F, 4, FALSE()),"") -> Male | K3: =IFERROR(VLOOKUP(F3, Entries!$B:$F, 5, FALSE()),"") -> M40 | L3: =LEFT(Table22[[#This Row],[Category]],2) -> M4 | M3: =IF(F3<>0,COUNTIF($L$2:L3,L3),"") -> 1 | N3: =IF(F3<>0,L3&":"&M3,"") -> M4:1
A4: 3 | B4: =IF(F4<>"",COUNTIF($J$2:J4,J4),"") -> 3 | C4: =IF(F4<>0,J4&":"&B4,"") -> Male:3 | D4: =IF(F4<>0,COUNTIF($K$2:K4,K4),"") -> 1 | E4: =IF(F4<>0,K4&":"&D4,"") -> MSEN:1 | F4: 313 | G4: 0.048055556 | H4: =IFERROR(VLOOKUP(F4, Entries!$B:$F, 2, FALSE()),"") -> Robert Preston | I4: =IFERROR(VLOOKUP(F4, Entries!$B:$F, 3, FALSE()),"") -> Pickering RC | J4: =IFERROR(VLOOKUP(F4, Entries!$B:$F, 4, FALSE()),"") -> Male | K4: =IFERROR(VLOOKUP(F4, Entries!$B:$F, 5, FALSE()),"") -> MSEN | L4: =LEFT(Table22[[#This Row],[Category]],2) -> MS | M4: =IF(F4<>0,COUNTIF($L$2:L4,L4),"") -> 1 | N4: =IF(F4<>0,L4&":"&M4,"") -> MS:1
A5: 4 | B5: =IF(F5<>"",COUNTIF($J$2:J5,J5),"") -> 4 | C5: =IF(F5<>0,J5&":"&B5,"") -> Male:4 | D5: =IF(F5<>0,COUNTIF($K$2:K5,K5),"") -> 2 | E5: =IF(F5<>0,K5&":"&D5,"") -> MSEN:2 | F5: 333 | G5: 0.050069444 | H5: =IFERROR(VLOOKUP(F5, Entries!$B:$F, 2, FALSE()),"") -> Paul Lawton | I5: =IFERROR(VLOOKUP(F5, Entries!$B:$F, 3, FALSE()),"") -> Scarborough AC | J5: =IFERROR(VLOOKUP(F5, Entries!$B:$F, 4, FALSE()),"") -> Male | K5: =IFERROR(VLOOKUP(F5, Entries!$B:$F, 5, FALSE()),"") -> MSEN | L5: =LEFT(Table22[[#This Row],[Category]],2) -> MS | M5: =IF(F5<>0,COUNTIF($L$2:L5,L5),"") -> 2 | N5: =IF(F5<>0,L5&":"&M5,"") -> MS:2
A6: 5 | B6: =IF(F6<>"",COUNTIF($J$2:J6,J6),"") -> 5 | C6: =IF(F6<>0,J6&":"&B6,"") -> Male:5 | D6: =IF(F6<>0,COUNTIF($K$2:K6,K6),"") -> 1 | E6: =IF(F6<>0,K6&":"&D6,"") -> M45:1 | F6: 618 | G6: 0.051041667 | H6: =IFERROR(VLOOKUP(F6, Entries!$B:$F, 2, FALSE()),"") -> Ian Rowan | I6: =IFERROR(VLOOKUP(F6, Entries!$B:$F, 3, FALSE()),"") -> Esk Valley Fell Club | J6: =IFERROR(VLOOKUP(F6, Entries!$B:$F, 4, FALSE()),"") -> Male | K6: =IFERROR(VLOOKUP(F6, Entries!$B:$F, 5, FALSE()),"") -> M45 | L6: =LEFT(Table22[[#This Row],[Category]],2) -> M4 | M6: =IF(F6<>0,COUNTIF($L$2:L6,L6),"") -> 2 | N6: =IF(F6<>0,L6&":"&M6,"") -> M4:2
A7: 6 | B7: =IF(F7<>"",COUNTIF($J$2:J7,J7),"") -> 6 | C7: =IF(F7<>0,J7&":"&B7,"") -> Male:6 | D7: =IF(F7<>0,COUNTIF($K$2:K7,K7),"") -> 2 | E7: =IF(F7<>0,K7&":"&D7,"") -> M40:2 | F7: 511 | G7: 0.051423611 | H7: =IFERROR(VLOOKUP(F7, Entries!$B:$F, 2, FALSE()),"") -> Peter Walker | I7: =IFERROR(VLOOKUP(F7, Entries!$B:$F, 3, FALSE()),"") -> York Knavesmire Harriers | J7: =IFERROR(VLOOKUP(F7, Entries!$B:$F, 4, FALSE()),"") -> Male | K7: =IFERROR(VLOOKUP(F7, Entries!$B:$F, 5, FALSE()),"") -> M40 | L7: =LEFT(Table22[[#This Row],[Category]],2) -> M4 | M7: =IF(F7<>0,COUNTIF($L$2:L7,L7),"") -> 3 | N7: =IF(F7<>0,L7&":"&M7,"") -> M4:3
A8: 7 | B8: =IF(F8<>"",COUNTIF($J$2:J8,J8),"") -> 7 | C8: =IF(F8<>0,J8&":"&B8,"") -> Male:7 | D8: =IF(F8<>0,COUNTIF($K$2:K8,K8),"") -> 1 | E8: =IF(F8<>0,K8&":"&D8,"") -> M55:1 | F8: 804 | G8: 0.052349537 | H8: =IFERROR(VLOOKUP(F8, Entries!$B:$F, 2, FALSE()),"") -> Stephen Pugh | I8: =IFERROR(VLOOKUP(F8, Entries!$B:$F, 3, FALSE()),"") -> Esk Valley Fell Club | J8: =IFERROR(VLOOKUP(F8, Entries!$B:$F, 4, FALSE()),"") -> Male | K8: =IFERROR(VLOOKUP(F8, Entries!$B:$F, 5, FALSE()),"") -> M55 | L8: =LEFT(Table22[[#This Row],[Category]],2) -> M5 | M8: =IF(F8<>0,COUNTIF($L$2:L8,L8),"") -> 1 | N8: =IF(F8<>0,L8&":"&M8,"") -> M5:1
A9: 8 | B9: =IF(F9<>"",COUNTIF($J$2:J9,J9),"") -> 8 | C9: =IF(F9<>0,J9&":"&B9,"") -> Male:8 | D9: =IF(F9<>0,COUNTIF($K$2:K9,K9),"") -> 3 | E9: =IF(F9<>0,K9&":"&D9,"") -> M40:3 | F9: 543 | G9: 0.052488426 | H9: =IFERROR(VLOOKUP(F9, Entries!$B:$F, 2, FALSE()),"") -> Rorie McIntosh | I9: =IFERROR(VLOOKUP(F9, Entries!$B:$F, 3, FALSE()),"") -> Esk Valley Fell Club | J9: =IFERROR(VLOOKUP(F9, Entries!$B:$F, 4, FALSE()),"") -> Male | K9: =IFERROR(VLOOKUP(F9, Entries!$B:$F, 5, FALSE()),"") -> M40 | L9: =LEFT(Table22[[#This Row],[Category]],2) -> M4 | M9: =IF(F9<>0,COUNTIF($L$2:L9,L9),"") -> 4 | N9: =IF(F9<>0,L9&":"&M9,"") -> M4:4
A10: 9 | B10: =IF(F10<>"",COUNTIF($J$2:J10,J10),"") -> 9 | C10: =IF(F10<>0,J10&":"&B10,"") -> Male:9 | D10: =IF(F10<>0,COUNTIF($K$2:K10,K10),"") -> 2 | E10: =IF(F10<>0,K10&":"&D10,"") -> M45:2 | F10: 609 | G10: 0.053194444 | H10: =IFERROR(VLOOKUP(F10, Entries!$B:$F, 2, FALSE()),"") -> Damian Kilpin | I10: =IFERROR(VLOOKUP(F10, Entries!$B:$F, 3, FALSE()),"") -> Penistone Footpath Runners & AC | J10: =IFERROR(VLOOKUP(F10, Entries!$B:$F, 4, FALSE()),"") -> Male | K10: =IFERROR(VLOOKUP(F10, Entries!$B:$F, 5, FALSE()),"") -> M45 | L10: =LEFT(Table22[[#This Row],[Category]],2) -> M4 | M10: =IF(F10<>0,COUNTIF($L$2:L10,L10),"") -> 5 | N10: =IF(F10<>0,L10&":"&M10,"") -> M4:5
A11: 10 | B11: =IF(F11<>"",COUNTIF($J$2:J11,J11),"") -> 1 | C11: =IF(F11<>0,J11&":"&B11,"") -> Female:1 | D11: =IF(F11<>0,COUNTIF($K$2:K11,K11),"") -> 1 | E11: =IF(F11<>0,K11&":"&D11,"") -> W40:1 | F11: 100 | G11: 0.053263889 | H11: =IFERROR(VLOOKUP(F11, Entries!$B:$F, 2, FALSE()),"") -> Catherine Williamson | I11: =IFERROR(VLOOKUP(F11, Entries!$B:$F, 3, FALSE()),"") -> Loftus & Whitby AC | J11: =IFERROR(VLOOKUP(F11, Entries!$B:$F, 4, FALSE()),"") -> Female | K11: =IFERROR(VLOOKUP(F11, Entries!$B:$F, 5, FALSE()),"") -> W40 | L11: =LEFT(Table22[[#This Row],[Category]],2) -> W4 | M11: =IF(F11<>0,COUNTIF($L$2:L11,L11),"") -> 1 | N11: =IF(F11<>0,L11&":"&M11,"") -> W4:1
A12: 11 | B12: =IF(F12<>"",COUNTIF($J$2:J12,J12),"") -> 10 | C12: =IF(F12<>0,J12&":"&B12,"") -> Male:10 | D12: =IF(F12<>0,COUNTIF($K$2:K12,K12),"") -> 3 | E12: =IF(F12<>0,K12&":"&D12,"") -> MSEN:3 | F12: 435 | G12: 0.053310185 | H12: =IFERROR(VLOOKUP(F12, Entries!$B:$F, 2, FALSE()),"") -> Glynn Ellwood | I12: =IFERROR(VLOOKUP(F12, Entries!$B:$F, 3, FALSE()),"") -> York Knavesmire Harriers | J12: =IFERROR(VLOOKUP(F12, Entries!$B:$F, 4, FALSE()),"") -> Male | K12: =IFERROR(VLOOKUP(F12, Entries!$B:$F, 5, FALSE()),"") -> MSEN | L12: =LEFT(Table22[[#This Row],[Category]],2) -> MS | M12: =IF(F12<>0,COUNTIF($L$2:L12,L12),"") -> 3 | N12: =IF(F12<>0,L12&":"&M12,"") -> MS:3
A13: 12 | B13: =IF(F13<>"",COUNTIF($J$2:J13,J13),"") -> 11 | C13: =IF(F13<>0,J13&":"&B13,"") -> Male:11 | D13: =IF(F13<>0,COUNTIF($K$2:K13,K13),"") -> 4 | E13: =IF(F13<>0,K13&":"&D13,"") -> MSEN:4 | F13: 328 | G13: 0.05337963 | H13: =IFERROR(VLOOKUP(F13, Entries!$B:$F, 2, FALSE()),"") -> Alex Linsley | I13: =IFERROR(VLOOKUP(F13, Entries!$B:$F, 3, FALSE()),"") -> Individual# | J13: =IFERROR(VLOOKUP(F13, Entries!$B:$F, 4, FALSE()),"") -> Male | K13: =IFERROR(VLOOKUP(F13, Entries!$B:$F, 5, FALSE()),"") -> MSEN | L13: =LEFT(Table22[[#This Row],[Category]],2) -> MS | M13: =IF(F13<>0,COUNTIF($L$2:L13,L13),"") -> 4 | N13: =IF(F13<>0,L13&":"&M13,"") -> MS:4
... A92: 91 | B92: =IF(F92<>"",COUNTIF($J$2:J92,J92),"") -> 30 | C92: =IF(F92<>0,J92&":"&B92,"") -> Female:30 | D92: =IF(F92<>0,COUNTIF($K$2:K92,K92),"") -> 3 | E92: =IF(F92<>0,K92&":"&D92,"") -> W60:3 | F92: 274 | G92: 0.093946759 | H92: =IFERROR(VLOOKUP(F92, Entries!$B:$F, 2, FALSE()),"") -> Sally Kingscott | I92: =IFERROR(VLOOKUP(F92, Entries!$B:$F, 3, FALSE()),"") -> Scarborough AC | J92: =IFERROR(VLOOKUP(F92, Entries!$B:$F, 4, FALSE()),"") -> Female | K92: =IFERROR(VLOOKUP(F92, Entries!$B:$F, 5, FALSE()),"") -> W60 | L92: =LEFT(Table22[[#This Row],[Category]],2) -> W6 | M92: =IF(F92<>0,COUNTIF($L$2:L92,L92),"") -> 3 | N92: =IF(F92<>0,L92&":"&M92,"") -> W6:3
A93: 92 | B93: =IF(F93<>"",COUNTIF($J$2:J93,J93),"") | C93: =IF(F93<>0,J93&":"&B93,"") | D93: =IF(F93<>0,COUNTIF($K$2:K93,K93),"") | E93: =IF(F93<>0,K93&":"&D93,"") | H93: =IFERROR(VLOOKUP(F93, Entries!$B:$F, 2, FALSE()),"") | I93: =IFERROR(VLOOKUP(F93, Entries!$B:$F, 3, FALSE()),"") | J93: =IFERROR(VLOOKUP(F93, Entries!$B:$F, 4, FALSE()),"") | K93: =IFERROR(VLOOKUP(F93, Entries!$B:$F, 5, FALSE()),"") | L93: =LEFT(Table22[[#This Row],[Category]],2) | M93: =IF(F93<>0,COUNTIF($L$2:L93,L93),"") | N93: =IF(F93<>0,L93&":"&M93,"")
A94: 93 | B94: =IF(F94<>"",COUNTIF($J$2:J94,J94),"") | C94: =IF(F94<>0,J94&":"&B94,"") | D94: =IF(F94<>0,COUNTIF($K$2:K94,K94),"") | E94: =IF(F94<>0,K94&":"&D94,"") | H94: =IFERROR(VLOOKUP(F94, Entries!$B:$F, 2, FALSE()),"") | I94: =IFERROR(VLOOKUP(F94, Entries!$B:$F, 3, FALSE()),"") | J94: =IFERROR(VLOOKUP(F94, Entries!$B:$F, 4, FALSE()),"") | K94: =IFERROR(VLOOKUP(F94, Entries!$B:$F, 5, FALSE()),"") | L94: =LEFT(Table22[[#This Row],[Category]],2) | M94: =IF(F94<>0,COUNTIF($L$2:L94,L94),"") | N94: =IF(F94<>0,L94&":"&M94,"")
A95: 94 | B95: =IF(F95<>"",COUNTIF($J$2:J95,J95),"") | C95: =IF(F95<>0,J95&":"&B95,"") | D95: =IF(F95<>0,COUNTIF($K$2:K95,K95),"") | E95: =IF(F95<>0,K95&":"&D95,"") | H95: =IFERROR(VLOOKUP(F95, Entries!$B:$F, 2, FALSE()),"") | I95: =IFERROR(VLOOKUP(F95, Entries!$B:$F, 3, FALSE()),"") | J95: =IFERROR(VLOOKUP(F95, Entries!$B:$F, 4, FALSE()),"") | K95: =IFERROR(VLOOKUP(F95, Entries!$B:$F, 5, FALSE()),"") | L95: =LEFT(Table22[[#This Row],[Category]],2) | M95: =IF(F95<>0,COUNTIF($L$2:L95,L95),"") | N95: =IF(F95<>0,L95&":"&M95,"")
A96: 95 | B96: =IF(F96<>"",COUNTIF($J$2:J96,J96),"") | C96: =IF(F96<>0,J96&":"&B96,"") | D96: =IF(F96<>0,COUNTIF($K$2:K96,K96),"") | E96: =IF(F96<>0,K96&":"&D96,"") | H96: =IFERROR(VLOOKUP(F96, Entries!$B:$F, 2, FALSE()),"") | I96: =IFERROR(VLOOKUP(F96, Entries!$B:$F, 3, FALSE()),"") | J96: =IFERROR(VLOOKUP(F96, Entries!$B:$F, 4, FALSE()),"") | K96: =IFERROR(VLOOKUP(F96, Entries!$B:$F, 5, FALSE()),"") | L96: =LEFT(Table22[[#This Row],[Category]],2) | M96: =IF(F96<>0,COUNTIF($L$2:L96,L96),"") | N96: =IF(F96<>0,L96&":"&M96,"")
A97: 96 | B97: =IF(F97<>"",COUNTIF($J$2:J97,J97),"") | C97: =IF(F97<>0,J97&":"&B97,"") | D97: =IF(F97<>0,COUNTIF($K$2:K97,K97),"") | E97: =IF(F97<>0,K97&":"&D97,"") | H97: =IFERROR(VLOOKUP(F97, Entries!$B:$F, 2, FALSE()),"") | I97: =IFERROR(VLOOKUP(F97, Entries!$B:$F, 3, FALSE()),"") | J97: =IFERROR(VLOOKUP(F97, Entries!$B:$F, 4, FALSE()),"") | K97: =IFERROR(VLOOKUP(F97, Entries!$B:$F, 5, FALSE()),"") | L97: =LEFT(Table22[[#This Row],[Category]],2) | M97: =IF(F97<>0,COUNTIF($L$2:L97,L97),"") | N97: =IF(F97<>0,L97&":"&M97,"")
A98: 97 | B98: =IF(F98<>"",COUNTIF($J$2:J98,J98),"") | C98: =IF(F98<>0,J98&":"&B98,"") | D98: =IF(F98<>0,COUNTIF($K$2:K98,K98),"") | E98: =IF(F98<>0,K98&":"&D98,"") | H98: =IFERROR(VLOOKUP(F98, Entries!$B:$F, 2, FALSE()),"") | I98: =IFERROR(VLOOKUP(F98, Entries!$B:$F, 3, FALSE()),"") | J98: =IFERROR(VLOOKUP(F98, Entries!$B:$F, 4, FALSE()),"") | K98: =IFERROR(VLOOKUP(F98, Entries!$B:$F, 5, FALSE()),"") | L98: =LEFT(Table22[[#This Row],[Category]],2) | M98: =IF(F98<>0,COUNTIF($L$2:L98,L98),"") | N98: =IF(F98<>0,L98&":"&M98,"")
A99: 98 | B99: =IF(F99<>"",COUNTIF($J$2:J99,J99),"") | C99: =IF(F99<>0,J99&":"&B99,"") | D99: =IF(F99<>0,COUNTIF($K$2:K99,K99),"") | E99: =IF(F99<>0,K99&":"&D99,"") | H99: =IFERROR(VLOOKUP(F99, Entries!$B:$F, 2, FALSE()),"") | I99: =IFERROR(VLOOKUP(F99, Entries!$B:$F, 3, FALSE()),"") | J99: =IFERROR(VLOOKUP(F99, Entries!$B:$F, 4, FALSE()),"") | K99: =IFERROR(VLOOKUP(F99, Entries!$B:$F, 5, FALSE()),"") | L99: =LEFT(Table22[[#This Row],[Category]],2) | M99: =IF(F99<>0,COUNTIF($L$2:L99,L99),"") | N99: =IF(F99<>0,L99&":"&M99,"")
A100: 99 | B100: =IF(F100<>"",COUNTIF($J$2:J100,J100),"") | C100: =IF(F100<>0,J100&":"&B100,"") | D100: =IF(F100<>0,COUNTIF($K$2:K100,K100),"") | E100: =IF(F100<>0,K100&":"&D100,"") | H100: =IFERROR(VLOOKUP(F100, Entries!$B:$F, 2, FALSE()),"") | I100: =IFERROR(VLOOKUP(F100, Entries!$B:$F, 3, FALSE()),"") | J100: =IFERROR(VLOOKUP(F100, Entries!$B:$F, 4, FALSE()),"") | K100: =IFERROR(VLOOKUP(F100, Entries!$B:$F, 5, FALSE()),"") | L100: =LEFT(Table22[[#This Row],[Category]],2) | M100: =IF(F100<>0,COUNTIF($L$2:L100,L100),"") | N100: =IF(F100<>0,L100&":"&M100,"")
A101: 100 | B101: =IF(F101<>"",COUNTIF($J$2:J101,J101),"") | C101: =IF(F101<>0,J101&":"&B101,"") | D101: =IF(F101<>0,COUNTIF($K$2:K101,K101),"") | E101: =IF(F101<>0,K101&":"&D101,"") | H101: =IFERROR(VLOOKUP(F101, Entries!$B:$F, 2, FALSE()),"") | I101: =IFERROR(VLOOKUP(F101, Entries!$B:$F, 3, FALSE()),"") | J101: =IFERROR(VLOOKUP(F101, Entries!$B:$F, 4, FALSE()),"") | K101: =IFERROR(VLOOKUP(F101, Entries!$B:$F, 5, FALSE()),"") | L101: =LEFT(Table22[[#This Row],[Category]],2) | M101: =IF(F101<>0,COUNTIF($L$2:L101,L101),"") | N101: =IF(F101<>0,L101&":"&M101,"")
A102: 101 | B102: =IF(F102<>"",COUNTIF($J$2:J102,J102),"") | C102: =IF(F102<>0,J102&":"&B102,"") | D102: =IF(F102<>0,COUNTIF($K$2:K102,K102),"") | E102: =IF(F102<>0,K102&":"&D102,"") | H102: =IFERROR(VLOOKUP(F102, Entries!$B:$F, 2, FALSE()),"") | I102: =IFERROR(VLOOKUP(F102, Entries!$B:$F, 3, FALSE()),"") | J102: =IFERROR(VLOOKUP(F102, Entries!$B:$F, 4, FALSE()),"") | K102: =IFERROR(VLOOKUP(F102, Entries!$B:$F, 5, FALSE()),"") | L102: =LEFT(Table22[[#This Row],[Category]],2) | M102: =IF(F102<>0,COUNTIF($L$2:L102,L102),"") | N102: =IF(F102<>0,L102&":"&M102,"")
A103: 102 | B103: =IF(F103<>"",COUNTIF($J$2:J103,J103),"") | C103: =IF(F103<>0,J103&":"&B103,"") | D103: =IF(F103<>0,COUNTIF($K$2:K103,K103),"") | E103: =IF(F103<>0,K103&":"&D103,"") | H103: =IFERROR(VLOOKUP(F103, Entries!$B:$F, 2, FALSE()),"") | I103: =IFERROR(VLOOKUP(F103, Entries!$B:$F, 3, FALSE()),"") | J103: =IFERROR(VLOOKUP(F103, Entries!$B:$F, 4, FALSE()),"") | K103: =IFERROR(VLOOKUP(F103, Entries!$B:$F, 5, FALSE()),"") | L103: =LEFT(Table22[[#This Row],[Category]],2) | M103: =IF(F103<>0,COUNTIF($L$2:L103,L103),"") | N103: =IF(F103<>0,L103&":"&M103,"")
A104: 103 | B104: =IF(F104<>"",COUNTIF($J$2:J104,J104),"") | C104: =IF(F104<>0,J104&":"&B104,"") | D104: =IF(F104<>0,COUNTIF($K$2:K104,K104),"") | E104: =IF(F104<>0,K104&":"&D104,"") | H104: =IFERROR(VLOOKUP(F104, Entries!$B:$F, 2, FALSE()),"") | I104: =IFERROR(VLOOKUP(F104, Entries!$B:$F, 3, FALSE()),"") | J104: =IFERROR(VLOOKUP(F104, Entries!$B:$F, 4, FALSE()),"") | K104: =IFERROR(VLOOKUP(F104, Entries!$B:$F, 5, FALSE()),"") | L104: =LEFT(Table22[[#This Row],[Category]],2) | M104: =IF(F104<>0,COUNTIF($L$2:L104,L104),"") | N104: =IF(F104<>0,L104&":"&M104,"")
... A200: 199 | B200: =IF(F200<>"",COUNTIF($J$2:J200,J200),"") | C200: =IF(F200<>0,J200&":"&B200,"") | D200: =IF(F200<>0,COUNTIF($K$2:K200,K200),"") | E200: =IF(F200<>0,K200&":"&D200,"") | H200: =IFERROR(VLOOKUP(F200, Entries!$B:$F, 2, FALSE()),"") | I200: =IFERROR(VLOOKUP(F200, Entries!$B:$F, 3, FALSE()),"") | J200: =IFERROR(VLOOKUP(F200, Entries!$B:$F, 4, FALSE()),"") | K200: =IFERROR(VLOOKUP(F200, Entries!$B:$F, 5, FALSE()),"") | L200: =LEFT(Table22[[#This Row],[Category]],2) | M200: =IF(F200<>0,COUNTIF($L$2:L200,L200),"") | N200: =IF(F200<>0,L200&":"&M200,"")
A201: 200 | B201: =IF(F201<>"",COUNTIF($J$2:J201,J201),"") | C201: =IF(F201<>0,J201&":"&B201,"") | D201: =IF(F201<>0,COUNTIF($K$2:K201,K201),"") | E201: =IF(F201<>0,K201&":"&D201,"") | H201: =IFERROR(VLOOKUP(F201, Entries!$B:$F, 2, FALSE()),"") | I201: =IFERROR(VLOOKUP(F201, Entries!$B:$F, 3, FALSE()),"") | J201: =IFERROR(VLOOKUP(F201, Entries!$B:$F, 4, FALSE()),"") | K201: =IFERROR(VLOOKUP(F201, Entries!$B:$F, 5, FALSE()),"") | L201: =LEFT(Table22[[#This Row],[Category]],2) | M201: =IF(F201<>0,COUNTIF($L$2:L1510,L201),"") | N201: =IF(F201<>0,L201&":"&M201,"")
A202: 201 | B202: =IF(F202<>"",COUNTIF($J$2:J202,J202),"") | C202: =IF(F202<>0,J202&":"&B202,"") | D202: =IF(F202<>0,COUNTIF($K$2:K202,K202),"") | E202: =IF(F202<>0,K202&":"&D202,"") | H202: =IFERROR(VLOOKUP(F202, Entries!$B:$F, 2, FALSE()),"") | I202: =IFERROR(VLOOKUP(F202, Entries!$B:$F, 3, FALSE()),"") | J202: =IFERROR(VLOOKUP(F202, Entries!$B:$F, 4, FALSE()),"") | K202: =IFERROR(VLOOKUP(F202, Entries!$B:$F, 5, FALSE()),"") | L202: =LEFT(Table22[[#This Row],[Category]],2) | M202: =IF(F202<>0,COUNTIF($L$2:L202,L202),"") | N202: =IF(F202<>0,L202&":"&M202,"")
A203: 202 | B203: =IF(F203<>"",COUNTIF($J$2:J203,J203),"") | C203: =IF(F203<>0,J203&":"&B203,"") | D203: =IF(F203<>0,COUNTIF($K$2:K203,K203),"") | E203: =IF(F203<>0,K203&":"&D203,"") | H203: =IFERROR(VLOOKUP(F203, Entries!$B:$F, 2, FALSE()),"") | I203: =IFERROR(VLOOKUP(F203, Entries!$B:$F, 3, FALSE()),"") | J203: =IFERROR(VLOOKUP(F203, Entries!$B:$F, 4, FALSE()),"") | K203: =IFERROR(VLOOKUP(F203, Entries!$B:$F, 5, FALSE()),"") | L203: =LEFT(Table22[[#This Row],[Category]],2) | M203: =IF(F203<>0,COUNTIF($L$2:L203,L203),"") | N203: =IF(F203<>0,L203&":"&M203,"")
A204: 203 | B204: =IF(F204<>"",COUNTIF($J$2:J204,J204),"") | C204: =IF(F204<>0,J204&":"&B204,"") | D204: =IF(F204<>0,COUNTIF($K$2:K204,K204),"") | E204: =IF(F204<>0,K204&":"&D204,"") | H204: =IFERROR(VLOOKUP(F204, Entries!$B:$F, 2, FALSE()),"") | I204: =IFERROR(VLOOKUP(F204, Entries!$B:$F, 3, FALSE()),"") | J204: =IFERROR(VLOOKUP(F204, Entries!$B:$F, 4, FALSE()),"") | K204: =IFERROR(VLOOKUP(F204, Entries!$B:$F, 5, FALSE()),"") | L204: =LEFT(Table22[[#This Row],[Category]],2) | M204: =IF(F204<>0,COUNTIF($L$2:L204,L204),"") | N204: =IF(F204<>0,L204&":"&M204,"")
A205: 204 | B205: =IF(F205<>"",COUNTIF($J$2:J205,J205),"") | C205: =IF(F205<>0,J205&":"&B205,"") | D205: =IF(F205<>0,COUNTIF($K$2:K205,K205),"") | E205: =IF(F205<>0,K205&":"&D205,"") | H205: =IFERROR(VLOOKUP(F205, Entries!$B:$F, 2, FALSE()),"") | I205: =IFERROR(VLOOKUP(F205, Entries!$B:$F, 3, FALSE()),"") | J205: =IFERROR(VLOOKUP(F205, Entries!$B:$F, 4, FALSE()),"") | K205: =IFERROR(VLOOKUP(F205, Entries!$B:$F, 5, FALSE()),"") | L205: =LEFT(Table22[[#This Row],[Category]],2) | M205: =IF(F205<>0,COUNTIF($L$2:L205,L205),"") | N205: =IF(F205<>0,L205&":"&M205,"")
A206: 205 | B206: =IF(F206<>"",COUNTIF($J$2:J206,J206),"") | C206: =IF(F206<>0,J206&":"&B206,"") | D206: =IF(F206<>0,COUNTIF($K$2:K206,K206),"") | E206: =IF(F206<>0,K206&":"&D206,"") | H206: =IFERROR(VLOOKUP(F206, Entries!$B:$F, 2, FALSE()),"") | I206: =IFERROR(VLOOKUP(F206, Entries!$B:$F, 3, FALSE()),"") | J206: =IFERROR(VLOOKUP(F206, Entries!$B:$F, 4, FALSE()),"") | K206: =IFERROR(VLOOKUP(F206, Entries!$B:$F, 5, FALSE()),"") | L206: =LEFT(Table22[[#This Row],[Category]],2) | M206: =IF(F206<>0,COUNTIF($L$2:L206,L206),"") | N206: =IF(F206<>0,L206&":"&M206,"")
A207: 206 | B207: =IF(F207<>"",COUNTIF($J$2:J207,J207),"") | C207: =IF(F207<>0,J207&":"&B207,"") | D207: =IF(F207<>0,COUNTIF($K$2:K207,K207),"") | E207: =IF(F207<>0,K207&":"&D207,"") | H207: =IFERROR(VLOOKUP(F207, Entries!$B:$F, 2, FALSE()),"") | I207: =IFERROR(VLOOKUP(F207, Entries!$B:$F, 3, FALSE()),"") | J207: =IFERROR(VLOOKUP(F207, Entries!$B:$F, 4, FALSE()),"") | K207: =IFERROR(VLOOKUP(F207, Entries!$B:$F, 5, FALSE()),"") | L207: =LEFT(Table22[[#This Row],[Category]],2) | M207: =IF(F207<>0,COUNTIF($L$2:L207,L207),"") | N207: =IF(F207<>0,L207&":"&M207,"")
A208: 207 | B208: =IF(F208<>"",COUNTIF($J$2:J208,J208),"") | C208: =IF(F208<>0,J208&":"&B208,"") | D208: =IF(F208<>0,COUNTIF($K$2:K208,K208),"") | E208: =IF(F208<>0,K208&":"&D208,"") | H208: =IFERROR(VLOOKUP(F208, Entries!$B:$F, 2, FALSE()),"") | I208: =IFERROR(VLOOKUP(F208, Entries!$B:$F, 3, FALSE()),"") | J208: =IFERROR(VLOOKUP(F208, Entries!$B:$F, 4, FALSE()),"") | K208: =IFERROR(VLOOKUP(F208, Entries!$B:$F, 5, FALSE()),"") | L208: =LEFT(Table22[[#This Row],[Category]],2) | M208: =IF(F208<>0,COUNTIF($L$2:L208,L208),"") | N208: =IF(F208<>0,L208&":"&M208,"")
A209: 208 | B209: =IF(F209<>"",COUNTIF($J$2:J209,J209),"") | C209: =IF(F209<>0,J209&":"&B209,"") | D209: =IF(F209<>0,COUNTIF($K$2:K209,K209),"") | E209: =IF(F209<>0,K209&":"&D209,"") | H209: =IFERROR(VLOOKUP(F209, Entries!$B:$F, 2, FALSE()),"") | I209: =IFERROR(VLOOKUP(F209, Entries!$B:$F, 3, FALSE()),"") | J209: =IFERROR(VLOOKUP(F209, Entries!$B:$F, 4, FALSE()),"") | K209: =IFERROR(VLOOKUP(F209, Entries!$B:$F, 5, FALSE()),"") | L209: =LEFT(Table22[[#This Row],[Category]],2) | M209: =IF(F209<>0,COUNTIF($L$2:L209,L209),"") | N209: =IF(F209<>0,L209&":"&M209,"")
A210: 209 | B210: =IF(F210<>"",COUNTIF($J$2:J210,J210),"") | C210: =IF(F210<>0,J210&":"&B210,"") | D210: =IF(F210<>0,COUNTIF($K$2:K210,K210),"") | E210: =IF(F210<>0,K210&":"&D210,"") | H210: =IFERROR(VLOOKUP(F210, Entries!$B:$F, 2, FALSE()),"") | I210: =IFERROR(VLOOKUP(F210, Entries!$B:$F, 3, FALSE()),"") | J210: =IFERROR(VLOOKUP(F210, Entries!$B:$F, 4, FALSE()),"") | K210: =IFERROR(VLOOKUP(F210, Entries!$B:$F, 5, FALSE()),"") | L210: =LEFT(Table22[[#This Row],[Category]],2) | M210: =IF(F210<>0,COUNTIF($L$2:L210,L210),"") | N210: =IF(F210<>0,L210&":"&M210,"")
A211: 210 | B211: =IF(F211<>"",COUNTIF($J$2:J211,J211),"") | C211: =IF(F211<>0,J211&":"&B211,"") | D211: =IF(F211<>0,COUNTIF($K$2:K211,K211),"") | E211: =IF(F211<>0,K211&":"&D211,"") | H211: =IFERROR(VLOOKUP(F211, Entries!$B:$F, 2, FALSE()),"") | I211: =IFERROR(VLOOKUP(F211, Entries!$B:$F, 3, FALSE()),"") | J211: =IFERROR(VLOOKUP(F211, Entries!$B:$F, 4, FALSE()),"") | K211: =IFERROR(VLOOKUP(F211, Entries!$B:$F, 5, FALSE()),"") | L211: =LEFT(Table22[[#This Row],[Category]],2) | M211: =IF(F211<>0,COUNTIF($L$2:L211,L211),"") | N211: =IF(F211<>0,L211&":"&M211,"")
A212: 211 | B212: =IF(F212<>"",COUNTIF($J$2:J212,J212),"") | C212: =IF(F212<>0,J212&":"&B212,"") | D212: =IF(F212<>0,COUNTIF($K$2:K212,K212),"") | E212: =IF(F212<>0,K212&":"&D212,"") | H212: =IFERROR(VLOOKUP(F212, Entries!$B:$F, 2, FALSE()),"") | I212: =IFERROR(VLOOKUP(F212, Entries!$B:$F, 3, FALSE()),"") | J212: =IFERROR(VLOOKUP(F212, Entries!$B:$F, 4, FALSE()),"") | K212: =IFERROR(VLOOKUP(F212, Entries!$B:$F, 5, FALSE()),"") | L212: =LEFT(Table22[[#This Row],[Category]],2) | M212: =IF(F212<>0,COUNTIF($L$2:L212,L212),"") | N212: =IF(F212<>0,L212&":"&M212,"")
A213: 212 | B213: =IF(F213<>"",COUNTIF($J$2:J213,J213),"") | C213: =IF(F213<>0,J213&":"&B213,"") | D213: =IF(F213<>0,COUNTIF($K$2:K213,K213),"") | E213: =IF(F213<>0,K213&":"&D213,"") | H213: =IFERROR(VLOOKUP(F213, Entries!$B:$F, 2, FALSE()),"") | I213: =IFERROR(VLOOKUP(F213, Entries!$B:$F, 3, FALSE()),"") | J213: =IFERROR(VLOOKUP(F213, Entries!$B:$F, 4, FALSE()),"") | K213: =IFERROR(VLOOKUP(F213, Entries!$B:$F, 5, FALSE()),"") | L213: =LEFT(Table22[[#This Row],[Category]],2) | M213: =IF(F213<>0,COUNTIF($L$2:L213,L213),"") | N213: =IF(F213<>0,L213&":"&M213,"")
...

Sheet Results 10 year vets
A1: Male | B1: Name | C1: Cat. | D1: Club | E1: Time | F1: Number | G1: 1st counter | H1: 2nd counter | I1: 3rd counter | J1: 4th counter | K1: team total 4 | L1: Team total 3 | M1: Team total 2 | N1: Team Gender | P1: Female | Q1: Name | R1: Cat. | S1: Club | T1: Time | U1: Number | V1: 1st counter | W1: 2nd counter | X1: 3rd counter | Y1: 4th counter | Z1: team total 4 | AA1: Team total 3 | AB1: Team total 2 | AC1: Team Gender | AE1: MU23 | AF1: Name | AG1: Club | AH1: Time | AI1: Number | AJ1: Top3? | AL1: WU23 | AM1: Name | AN1: Club | AO1: Time | AP1: Number | AQ1: Top3? | AS1: M40 | AT1: Name | AU1: Club | AV1: Time | AW1: Number | AX1: Top3? | AZ1: W40 | BA1: Name | BB1: Club | BC1: Time | BD1: Number | BE1: Top3? | BG1: M50 | BH1: Name | BI1: Club | BJ1: Time | BK1: Number | BL1: Top3? | BN1: W50 | BO1: Name | BP1: Club | BQ1: Time | BR1: Number | BS1: Top3? | BU1: M60 | BV1: Name | BW1: Club | BX1: Time | BY1: Number | BZ1: Top3? | CB1: W60 | CC1: Name | CD1: Club | CE1: Time | CF1: Number | CG1: Top3? | CI1: M70 | CJ1: Name | CK1: Club | CL1: Time | CM1: Number | CN1: Top3? | CP1: W70 | CQ1: Name | CR1: Club | CS1: Time | CT1: Number | CU1: Top3? | CW1: M80 | CX1: Name | CY1: Club | CZ1: Time | DA1: Number | DB1: Top3? | DD1: W80 | DE1: Name | DF1: Club | DG1: Time | DH1: Number | DI1: Top3? | DK1: Custom | DL1: Name | DM1: Club | DN1: Time | DO1: Number | DP1: Top3? | DR1: Custom | DS1: Name | DT1: Club | DU1: Time | DV1: Number | DW1: Top3?
A2: 1 | B2: =IFERROR(VLOOKUP(A$1&":"&A2,'Finish order'!$C:$K,6,FALSE()),"") -> Harry Butterworth | C2: =IFERROR(VLOOKUP(A$1&":"&A2,'Finish order'!$C:$K,9,FALSE()),"") -> MU23 | D2: =IFERROR(VLOOKUP(A$1&":"&A2,'Finish order'!$C:$K,7,FALSE()),"") -> Scarborough AC | E2: =IFERROR(VLOOKUP(A$1&":"&A2,'Finish order'!$C:$K,5,FALSE()),"") -> 0.045196759 | F2: =IFERROR(VLOOKUP(A$1&":"&A2,'Finish order'!$C:$K,4,FALSE()),"") -> 397 | G2: {=IFERROR(SMALL(IF($D$2:$D911=D2,$A$2:$A$911*1.001),1),"")} -> 1.001 | H2: {=IFERROR(SMALL(IF($D$2:$D911=D2,$A$2:$A$911*1.0001),2),"")} -> 2.0002 | I2: {=IFERROR(SMALL(IF($D$2:$D911=D2,$A$2:$A$911*1.00001),3),"")} -> 4.00004 | J2: {=IFERROR(SMALL(IF($D$2:$D911=D2,$A$2:$A$911*1.000001),4),"")} -> 27.000027 | K2: =IF(A2<>"", IF(COUNT(G2:J2)=4, SUM(G2:J2), "No"), "") -> 34.001267 | L2: =IF(A2<>"", IF(COUNT(G2:I2)=3, SUM(G2:I2), "No"), "") -> 7.00124 | M2: =IF(A2<>"", IF(COUNT(G2:H2)=2, SUM(G2:H2), "No"), "") -> 3.0012 | N2: =Table1[[#This Row],[Club]]&":"&Table1[[#Headers],[Male]] -> Scarborough AC:Male | P2: 1 | Q2: =IFERROR(VLOOKUP(P$1&":"&P2,'Finish order'!$C:$K,6,FALSE()),"") -> Catherine Williamson | R2: =IFERROR(VLOOKUP(P$1&":"&P2,'Finish order'!$C:$K,9,FALSE()),"") -> W40 | S2: =IFERROR(VLOOKUP(P$1&":"&P2,'Finish order'!$C:$K,7,FALSE()),"") -> Loftus & Whitby AC | T2: =IFERROR(VLOOKUP(P$1&":"&P2,'Finish order'!$C:$K,5,FALSE()),"") -> 0.053263889 | U2: =IFERROR(VLOOKUP(P$1&":"&P2,'Finish order'!$C:$K,4,FALSE()),"") -> 100 | V2: {=IFERROR(SMALL(IF($S$2:$S911=S2,$P$2:$P$911*1.001),1),"")} -> 1.001 | W2: {=IFERROR(SMALL(IF($S$2:$S911=S2,$P$2:$P$911*1.0001),2),"")} -> 14.0014 | X2: {=IFERROR(SMALL(IF($S$2:$S911=S2,$P$2:$P$911*1.00001),3),"")} | Y2: {=IFERROR(SMALL(IF($S$2:$S911=S2,$P$2:$P$911*1.000001),4),"")} | Z2: =IF(P2<>"", IF(COUNT(V2:Y2)=4, SUM(V2:Y2), "No"), "") -> No | AA2: =IF(P2<>"", IF(COUNT(V2:X2)=3, SUM(V2:X2), "No"), "") -> No | AB2: =IF(P2<>"", IF(COUNT(V2:W2)=2, SUM(V2:W2), "No"), "") -> 15.0024 | AC2: =Table4[[#This Row],[Club]]&":"&Table4[[#Headers],[Female]] -> Loftus & Whitby AC:Female | AE2: 1 | AF2: =IFERROR(VLOOKUP(AE$1&":"&AE2,'Finish order'!$E:$K,4,FALSE()),"") -> Harry Butterworth | AG2: =IFERROR(VLOOKUP(AE$1&":"&AE2,'Finish order'!$E:$K,5,FALSE()),"") -> Scarborough AC | AH2: =IFERROR(VLOOKUP(AE$1&":"&AE2,'Finish order'!$E:$K,3,FALSE()),"") -> 0.045196759 | AI2: =IFERROR(VLOOKUP(AE$1&":"&AE2,'Finish order'!$E:$K,2,FALSE()),"") -> 397 | AJ2: =IF(Table7[[#This Row],[Name]]="","",IF((COUNTIF($B$2:$B$4,AF2)>0),"Top3","")) -> Top3 | AL2: 1 | AM2: =IFERROR(VLOOKUP(AL$1&":"&AL2,'Finish order'!$E:$K,4,FALSE()),"") -> Amie Cooper | AN2: =IFERROR(VLOOKUP(AL$1&":"&AL2,'Finish order'!$E:$K,5,FALSE()),"") -> Individual# | AO2: =IFERROR(VLOOKUP(AL$1&":"&AL2,'Finish order'!$E:$K,3,FALSE()),"") -> 0.073634259 | AP2: =IFERROR(VLOOKUP(AL$1&":"&AL2,'Finish order'!$E:$K,2,FALSE()),"") -> 55 | AQ2: =IF(Table8[[#This Row],[Name]]="","",IF((COUNTIF($Q$2:$Q$4,AM2)>0),"Top3","")) | AS2: 1 | AT2: =IFERROR(VLOOKUP(AS$1&":"&AS2,'Finish order'!$E:$K,4,FALSE()),"") -> Dan Bateson | AU2: =IFERROR(VLOOKUP(AS$1&":"&AS2,'Finish order'!$E:$K,5,FALSE()),"") -> Scarborough AC | AV2: =IFERROR(VLOOKUP(AS$1&":"&AS2,'Finish order'!$E:$K,3,FALSE()),"") -> 0.045243056 | AW2: =IFERROR(VLOOKUP(AS$1&":"&AS2,'Finish order'!$E:$K,2,FALSE()),"") -> 520 | AX2: =IF(Table9[[#This Row],[Name]]="","",IF((COUNTIF($B$2:$B$4,AT2)>0),"Top3","")) -> Top3 | AZ2: 1 | BA2: =IFERROR(VLOOKUP(AZ$1&":"&AZ2,'Finish order'!$E:$K,4,FALSE()),"") -> Catherine Williamson | BB2: =IFERROR(VLOOKUP(AZ$1&":"&AZ2,'Finish order'!$E:$K,5,FALSE()),"") -> Loftus & Whitby AC | BC2: =IFERROR(VLOOKUP(AZ$1&":"&AZ2,'Finish order'!$E:$K,3,FALSE()),"") -> 0.053263889 | BD2: =IFERROR(VLOOKUP(AZ$1&":"&AZ2,'Finish order'!$E:$K,2,FALSE()),"") -> 100 | BE2: =IF(Table10[[#This Row],[Name]]="","",IF((COUNTIF($Q$2:$Q$4,BA2)>0),"Top3","")) -> Top3 | BG2: 1 | BH2: =IFERROR(VLOOKUP(BG$1&":"&BG2,'Finish order'!$E:$K,4,FALSE()),"") -> Reiner Hesse | BI2: =IFERROR(VLOOKUP(BG$1&":"&BG2,'Finish order'!$E:$K,5,FALSE()),"") -> Loftus & Whitby AC | BJ2: =IFERROR(VLOOKUP(BG$1&":"&BG2,'Finish order'!$E:$K,3,FALSE()),"") -> 0.054814815 | BK2: =IFERROR(VLOOKUP(BG$1&":"&BG2,'Finish order'!$E:$K,2,FALSE()),"") -> 700 | BL2: =IF(Table10[[#This Row],[Name]]="","",IF((COUNTIF($B$2:$B$4,BH2)>0),"Top3","")) | BN2: 1 | BO2: =IFERROR(VLOOKUP(BN$1&":"&BN2,'Finish order'!$E:$K,4,FALSE()),"") -> Marianne Borsheim | BP2: =IFERROR(VLOOKUP(BN$1&":"&BN2,'Finish order'!$E:$K,5,FALSE()),"") -> Scarborough AC | BQ2: =IFERROR(VLOOKUP(BN$1&":"&BN2,'Finish order'!$E:$K,3,FALSE()),"") -> 0.066782407 | BR2: =IFERROR(VLOOKUP(BN$1&":"&BN2,'Finish order'!$E:$K,2,FALSE()),"") -> 202 | BS2: =IF(Table10[[#This Row],[Name]]="","",IF((COUNTIF($Q$2:$Q$4,BO2)>0),"Top3","")) | BU2: 1 | BV2: =IFERROR(VLOOKUP(BU$1&":"&BU2,'Finish order'!$E:$K,4,FALSE()),"") -> Jim Rogers | BW2: =IFERROR(VLOOKUP(BU$1&":"&BU2,'Finish order'!$E:$K,5,FALSE()),"") -> City of Hull AC | BX2: =IFERROR(VLOOKUP(BU$1&":"&BU2,'Finish order'!$E:$K,3,FALSE()),"") -> 0.055960648 | BY2: =IFERROR(VLOOKUP(BU$1&":"&BU2,'Finish order'!$E:$K,2,FALSE()),"") -> 910 | BZ2: =IF(Table13[[#This Row],[Name]]="","",IF((COUNTIF($B$2:$B$4,BV2)>0),"Top3","")) | CB2: 1 | CC2: =IFERROR(VLOOKUP(CB$1&":"&CB2,'Finish order'!$E:$K,4,FALSE()),"") -> Joanna Schreiber | CD2: =IFERROR(VLOOKUP(CB$1&":"&CB2,'Finish order'!$E:$K,5,FALSE()),"") -> Pudsey & Bramley AC | CE2: =IFERROR(VLOOKUP(CB$1&":"&CB2,'Finish order'!$E:$K,3,FALSE()),"") -> 0.074236111 | CF2: =IFERROR(VLOOKUP(CB$1&":"&CB2,'Finish order'!$E:$K,2,FALSE()),"") -> 277 | CG2: =IF(Table14[[#This Row],[Name]]="","",IF((COUNTIF($Q$2:$Q$4,CC2)>0),"Top3","")) | CI2: 1 | CJ2: =IFERROR(VLOOKUP(CI$1&":"&CI2,'Finish order'!$E:$K,4,FALSE()),"") -> Karl Edwards | CK2: =IFERROR(VLOOKUP(CI$1&":"&CI2,'Finish order'!$E:$K,5,FALSE()),"") -> Hartlepool Burn Road Harriers | CL2: =IFERROR(VLOOKUP(CI$1&":"&CI2,'Finish order'!$E:$K,3,FALSE()),"") -> 0.064872685 | CM2: =IFERROR(VLOOKUP(CI$1&":"&CI2,'Finish order'!$E:$K,2,FALSE()),"") -> 986 | CN2: =IF(Table15[[#This Row],[Name]]="","",IF((COUNTIF($B$2:$B$4,CJ2)>0),"Top3","")) | CP2: 1 | CQ2: =IFERROR(VLOOKUP(CP$1&":"&CP2,'Finish order'!$E:$K,4,FALSE()),"") | CR2: =IFERROR(VLOOKUP(CP$1&":"&CP2,'Finish order'!$E:$K,5,FALSE()),"") | CS2: =IFERROR(VLOOKUP(CP$1&":"&CP2,'Finish order'!$E:$K,3,FALSE()),"") | CT2: =IFERROR(VLOOKUP(CP$1&":"&CP2,'Finish order'!$E:$K,2,FALSE()),"") | CU2: =IF(Table16[[#This Row],[Name]]="","",IF((COUNTIF($Q$2:$Q$4,CQ2)>0),"Top3","")) | CW2: 1 | CX2: =IFERROR(VLOOKUP(CW$1&":"&CW2,'Finish order'!$E:$K,4,FALSE()),"") | CY2: =IFERROR(VLOOKUP(CW$1&":"&CW2,'Finish order'!$E:$K,5,FALSE()),"") | CZ2: =IFERROR(VLOOKUP(CW$1&":"&CW2,'Finish order'!$E:$K,3,FALSE()),"") | DA2: =IFERROR(VLOOKUP(CW$1&":"&CW2,'Finish order'!$E:$K,2,FALSE()),"") | DB2: =IF(Table17[[#This Row],[Name]]="","",IF((COUNTIF($B$2:$B$4,CX2)>0),"Top3","")) | DD2: 1 | DE2: =IFERROR(VLOOKUP(DD$1&":"&DD2,'Finish order'!$E:$K,4,FALSE()),"") | DF2: =IFERROR(VLOOKUP(DD$1&":"&DD2,'Finish order'!$E:$K,5,FALSE()),"") | DG2: =IFERROR(VLOOKUP(DD$1&":"&DD2,'Finish order'!$E:$K,3,FALSE()),"") | DH2: =IFERROR(VLOOKUP(DD$1&":"&DD2,'Finish order'!$E:$K,2,FALSE()),"") | DI2: =IF(Table18[[#This Row],[Name]]="","",IF((COUNTIF($Q$2:$Q$4,DE2)>0),"Top3","")) | DK2: 1 | DL2: =IFERROR(VLOOKUP(DK$1&":"&DK2,'Finish order'!$E:$K,4,FALSE()),"") | DM2: =IFERROR(VLOOKUP(DK$1&":"&DK2,'Finish order'!$E:$K,5,FALSE()),"") | DN2: =IFERROR(VLOOKUP(DK$1&":"&DK2,'Finish order'!$E:$K,3,FALSE()),"") | DO2: =IFERROR(VLOOKUP(DK$1&":"&DK2,'Finish order'!$E:$K,2,FALSE()),"") | DP2: =IF(Table1739[[#This Row],[Name]]="","",IF((COUNTIF($B$2:$B$4,DL2)>0),"Top3","")) | DR2: 1 | DS2: =IFERROR(VLOOKUP(DR$1&":"&DR2,'Finish order'!$E:$K,4,FALSE()),"") | DT2: =IFERROR(VLOOKUP(DR$1&":"&DR2,'Finish order'!$E:$K,5,FALSE()),"") | DU2: =IFERROR(VLOOKUP(DR$1&":"&DR2,'Finish order'!$E:$K,3,FALSE()),"") | DV2: =IFERROR(VLOOKUP(DR$1&":"&DR2,'Finish order'!$E:$K,2,FALSE()),"") | DW2: =IF(Table1840[[#This Row],[Name]]="","",IF((COUNTIF($Q$2:$Q$4,DS2)>0),"Top3",""))
A3: 2 | B3: =IFERROR(VLOOKUP($A$1&":"&A3,'Finish order'!C:K,6,FALSE()),"") -> Dan Bateson | C3: =IFERROR(VLOOKUP(A$1&":"&A3,'Finish order'!$C:$K,9,FALSE()),"") -> M40 | D3: =IFERROR(VLOOKUP(A$1&":"&A3,'Finish order'!$C:$K,7,FALSE()),"") -> Scarborough AC | E3: =IFERROR(VLOOKUP($A$1&":"&A3,'Finish order'!C:K,5,FALSE()),"") -> 0.045243056 | F3: =IFERROR(VLOOKUP($A$1&":"&A3,'Finish order'!C:K,4,FALSE()),"") -> 520 | G3: {=IFERROR(SMALL(IF($D$2:$D912=D3,$A$2:$A$911*1.001),1),"")} -> 1.001 | H3: {=IFERROR(SMALL(IF($D$2:$D912=D3,$A$2:$A$911*1.0001),2),"")} -> 2.0002 | I3: {=IFERROR(SMALL(IF($D$2:$D912=D3,$A$2:$A$911*1.00001),3),"")} -> 4.00004 | J3: {=IFERROR(SMALL(IF($D$2:$D912=D3,$A$2:$A$911*1.000001),4),"")} -> 27.000027 | K3: =IF(A3<>"", IF(COUNT(G3:J3)=4, SUM(G3:J3), "No"), "") -> 34.001267 | L3: =IF(A3<>"", IF(COUNT(G3:I3)=3, SUM(G3:I3), "No"), "") -> 7.00124 | M3: =IF(A3<>"", IF(COUNT(G3:H3)=2, SUM(G3:H3), "No"), "") -> 3.0012 | N3: =Table1[[#This Row],[Club]]&":"&Table1[[#Headers],[Male]] -> Scarborough AC:Male | P3: 2 | Q3: =IFERROR(VLOOKUP(P$1&":"&P3,'Finish order'!$C:$K,6,FALSE()),"") -> Rhona Marshall | R3: =IFERROR(VLOOKUP(P$1&":"&P3,'Finish order'!$C:$K,9,FALSE()),"") -> W40 | S3: =IFERROR(VLOOKUP(P$1&":"&P3,'Finish order'!$C:$K,7,FALSE()),"") -> Scarborough AC | T3: =IFERROR(VLOOKUP(P$1&":"&P3,'Finish order'!$C:$K,5,FALSE()),"") -> 0.054513889 | U3: =IFERROR(VLOOKUP(P$1&":"&P3,'Finish order'!$C:$K,4,FALSE()),"") -> 109 | V3: {=IFERROR(SMALL(IF($S$2:$S912=S3,$P$2:$P$911*1.001),1),"")} -> 2.002 | W3: {=IFERROR(SMALL(IF($S$2:$S912=S3,$P$2:$P$911*1.0001),2),"")} -> 4.0004 | X3: {=IFERROR(SMALL(IF($S$2:$S912=S3,$P$2:$P$911*1.00001),3),"")} -> 8.00008 | Y3: {=IFERROR(SMALL(IF($S$2:$S912=S3,$P$2:$P$911*1.000001),4),"")} -> 23.000023 | Z3: =IF(P3<>"", IF(COUNT(V3:Y3)=4, SUM(V3:Y3), "No"), "") -> 37.002503 | AA3: =IF(P3<>"", IF(COUNT(V3:X3)=3, SUM(V3:X3), "No"), "") -> 14.00248 | AB3: =IF(P3<>"", IF(COUNT(V3:W3)=2, SUM(V3:W3), "No"), "") -> 6.0024 | AC3: =Table4[[#This Row],[Club]]&":"&Table4[[#Headers],[Female]] -> Scarborough AC:Female | AE3: 2 | AF3: =IFERROR(VLOOKUP(AE$1&":"&AE3,'Finish order'!$E:$K,4,FALSE()),"") -> James Mullholland | AG3: =IFERROR(VLOOKUP(AE$1&":"&AE3,'Finish order'!$E:$K,5,FALSE()),"") -> Individual# | AH3: =IFERROR(VLOOKUP(AE$1&":"&AE3,'Finish order'!$E:$K,3,FALSE()),"") -> 0.055162037 | AI3: =IFERROR(VLOOKUP(AE$1&":"&AE3,'Finish order'!$E:$K,2,FALSE()),"") -> 344 | AJ3: =IF(Table7[[#This Row],[Name]]="","",IF((COUNTIF($B$2:$B$4,AF3)>0),"Top3","")) | AL3: 2 | AM3: =IFERROR(VLOOKUP(AL$1&":"&AL3,'Finish order'!$E:$K,4,FALSE()),"") | AN3: =IFERROR(VLOOKUP(AL$1&":"&AL3,'Finish order'!$E:$K,5,FALSE()),"") | AO3: =IFERROR(VLOOKUP(AL$1&":"&AL3,'Finish order'!$E:$K,3,FALSE()),"") | AP3: =IFERROR(VLOOKUP(AL$1&":"&AL3,'Finish order'!$E:$K,2,FALSE()),"") | AQ3: =IF(Table8[[#This Row],[Name]]="","",IF((COUNTIF($Q$2:$Q$4,AM3)>0),"Top3","")) | AS3: 2 | AT3: =IFERROR(VLOOKUP(AS$1&":"&AS3,'Finish order'!$E:$K,4,FALSE()),"") -> Peter Walker | AU3: =IFERROR(VLOOKUP(AS$1&":"&AS3,'Finish order'!$E:$K,5,FALSE()),"") -> York Knavesmire Harriers | AV3: =IFERROR(VLOOKUP(AS$1&":"&AS3,'Finish order'!$E:$K,3,FALSE()),"") -> 0.051423611 | AW3: =IFERROR(VLOOKUP(AS$1&":"&AS3,'Finish order'!$E:$K,2,FALSE()),"") -> 511 | AX3: =IF(Table9[[#This Row],[Name]]="","",IF((COUNTIF($B$2:$B$4,AT3)>0),"Top3","")) | AZ3: 2 | BA3: =IFERROR(VLOOKUP(AZ$1&":"&AZ3,'Finish order'!$E:$K,4,FALSE()),"") -> Rhona Marshall | BB3: =IFERROR(VLOOKUP(AZ$1&":"&AZ3,'Finish order'!$E:$K,5,FALSE()),"") -> Scarborough AC | BC3: =IFERROR(VLOOKUP(AZ$1&":"&AZ3,'Finish order'!$E:$K,3,FALSE()),"") -> 0.054513889 | BD3: =IFERROR(VLOOKUP(AZ$1&":"&AZ3,'Finish order'!$E:$K,2,FALSE()),"") -> 109 | BE3: =IF(Table10[[#This Row],[Name]]="","",IF((COUNTIF($Q$2:$Q$4,BA3)>0),"Top3","")) -> Top3 | BG3: 2 | BH3: =IFERROR(VLOOKUP(BG$1&":"&BG3,'Finish order'!$E:$K,4,FALSE()),"") -> Ashley Dodgson | BI3: =IFERROR(VLOOKUP(BG$1&":"&BG3,'Finish order'!$E:$K,5,FALSE()),"") -> Thirsk & Sowerby Harriers | BJ3: =IFERROR(VLOOKUP(BG$1&":"&BG3,'Finish order'!$E:$K,3,FALSE()),"") -> 0.05693287 | BK3: =IFERROR(VLOOKUP(BG$1&":"&BG3,'Finish order'!$E:$K,2,FALSE()),"") -> 718 | BL3: =IF(Table10[[#This Row],[Name]]="","",IF((COUNTIF($B$2:$B$4,BH3)>0),"Top3","")) | BN3: 2 | BO3: =IFERROR(VLOOKUP(BN$1&":"&BN3,'Finish order'!$E:$K,4,FALSE()),"") -> Steph Lishman | BP3: =IFERROR(VLOOKUP(BN$1&":"&BN3,'Finish order'!$E:$K,5,FALSE()),"") -> Esk Valley Fell Club | BQ3: =IFERROR(VLOOKUP(BN$1&":"&BN3,'Finish order'!$E:$K,3,FALSE()),"") -> 0.068078704 | BR3: =IFERROR(VLOOKUP(BN$1&":"&BN3,'Finish order'!$E:$K,2,FALSE()),"") -> 206 | BS3: =IF(Table10[[#This Row],[Name]]="","",IF((COUNTIF($Q$2:$Q$4,BO3)>0),"Top3","")) | BU3: 2 | BV3: =IFERROR(VLOOKUP(BU$1&":"&BU3,'Finish order'!$E:$K,4,FALSE()),"") -> David Hughes | BW3: =IFERROR(VLOOKUP(BU$1&":"&BU3,'Finish order'!$E:$K,5,FALSE()),"") -> North York Moors AC | BX3: =IFERROR(VLOOKUP(BU$1&":"&BU3,'Finish order'!$E:$K,3,FALSE()),"") -> 0.056076389 | BY3: =IFERROR(VLOOKUP(BU$1&":"&BU3,'Finish order'!$E:$K,2,FALSE()),"") -> 903 | BZ3: =IF(Table13[[#This Row],[Name]]="","",IF((COUNTIF($B$2:$B$4,BV3)>0),"Top3","")) | CB3: 2 | CC3: =IFERROR(VLOOKUP(CB$1&":"&CB3,'Finish order'!$E:$K,4,FALSE()),"") -> Julie Clayton | CD3: =IFERROR(VLOOKUP(CB$1&":"&CB3,'Finish order'!$E:$K,5,FALSE()),"") -> Scarborough AC | CE3: =IFERROR(VLOOKUP(CB$1&":"&CB3,'Finish order'!$E:$K,3,FALSE()),"") -> 0.080243056 | CF3: =IFERROR(VLOOKUP(CB$1&":"&CB3,'Finish order'!$E:$K,2,FALSE()),"") -> 276 | CG3: =IF(Table14[[#This Row],[Name]]="","",IF((COUNTIF($Q$2:$Q$4,CC3)>0),"Top3","")) | CI3: 2 | CJ3: =IFERROR(VLOOKUP(CI$1&":"&CI3,'Finish order'!$E:$K,4,FALSE()),"") -> Geoffrey Usher | CK3: =IFERROR(VLOOKUP(CI$1&":"&CI3,'Finish order'!$E:$K,5,FALSE()),"") -> Individual# | CL3: =IFERROR(VLOOKUP(CI$1&":"&CI3,'Finish order'!$E:$K,3,FALSE()),"") -> 0.079895833 | CM3: =IFERROR(VLOOKUP(CI$1&":"&CI3,'Finish order'!$E:$K,2,FALSE()),"") -> 987 | CN3: =IF(Table15[[#This Row],[Name]]="","",IF((COUNTIF($B$2:$B$4,CJ3)>0),"Top3","")) | CP3: 2 | CQ3: =IFERROR(VLOOKUP(CP$1&":"&CP3,'Finish order'!$E:$K,4,FALSE()),"") | CR3: =IFERROR(VLOOKUP(CP$1&":"&CP3,'Finish order'!$E:$K,5,FALSE()),"") | CS3: =IFERROR(VLOOKUP(CP$1&":"&CP3,'Finish order'!$E:$K,3,FALSE()),"") | CT3: =IFERROR(VLOOKUP(CP$1&":"&CP3,'Finish order'!$E:$K,2,FALSE()),"") | CU3: =IF(Table16[[#This Row],[Name]]="","",IF((COUNTIF($Q$2:$Q$4,CQ3)>0),"Top3","")) | CW3: 2 | CX3: =IFERROR(VLOOKUP(CW$1&":"&CW3,'Finish order'!$E:$K,4,FALSE()),"") | CY3: =IFERROR(VLOOKUP(CW$1&":"&CW3,'Finish order'!$E:$K,5,FALSE()),"") | CZ3: =IFERROR(VLOOKUP(CW$1&":"&CW3,'Finish order'!$E:$K,3,FALSE()),"") | DA3: =IFERROR(VLOOKUP(CW$1&":"&CW3,'Finish order'!$E:$K,2,FALSE()),"") | DB3: =IF(Table17[[#This Row],[Name]]="","",IF((COUNTIF($B$2:$B$4,CX3)>0),"Top3","")) | DD3: 2 | DE3: =IFERROR(VLOOKUP(DD$1&":"&DD3,'Finish order'!$E:$K,4,FALSE()),"") | DF3: =IFERROR(VLOOKUP(DD$1&":"&DD3,'Finish order'!$E:$K,5,FALSE()),"") | DG3: =IFERROR(VLOOKUP(DD$1&":"&DD3,'Finish order'!$E:$K,3,FALSE()),"") | DH3: =IFERROR(VLOOKUP(DD$1&":"&DD3,'Finish order'!$E:$K,2,FALSE()),"") | DI3: =IF(Table18[[#This Row],[Name]]="","",IF((COUNTIF($Q$2:$Q$4,DE3)>0),"Top3","")) | DK3: 2 | DL3: =IFERROR(VLOOKUP(DK$1&":"&DK3,'Finish order'!$E:$K,4,FALSE()),"") | DM3: =IFERROR(VLOOKUP(DK$1&":"&DK3,'Finish order'!$E:$K,5,FALSE()),"") | DN3: =IFERROR(VLOOKUP(DK$1&":"&DK3,'Finish order'!$E:$K,3,FALSE()),"") | DO3: =IFERROR(VLOOKUP(DK$1&":"&DK3,'Finish order'!$E:$K,2,FALSE()),"") | DP3: =IF(Table1739[[#This Row],[Name]]="","",IF((COUNTIF($B$2:$B$4,DL3)>0),"Top3","")) | DR3: 2 | DS3: =IFERROR(VLOOKUP(DR$1&":"&DR3,'Finish order'!$E:$K,4,FALSE()),"") | DT3: =IFERROR(VLOOKUP(DR$1&":"&DR3,'Finish order'!$E:$K,5,FALSE()),"") | DU3: =IFERROR(VLOOKUP(DR$1&":"&DR3,'Finish order'!$E:$K,3,FALSE()),"") | DV3: =IFERROR(VLOOKUP(DR$1&":"&DR3,'Finish order'!$E:$K,2,FALSE()),"") | DW3: =IF(Table1840[[#This Row],[Name]]="","",IF((COUNTIF($Q$2:$Q$4,DS3)>0),"Top3",""))
A4: 3 | B4: =IFERROR(VLOOKUP($A$1&":"&A4,'Finish order'!C:K,6,FALSE()),"") -> Robert Preston | C4: =IFERROR(VLOOKUP(A$1&":"&A4,'Finish order'!$C:$K,9,FALSE()),"") -> MSEN | D4: =IFERROR(VLOOKUP(A$1&":"&A4,'Finish order'!$C:$K,7,FALSE()),"") -> Pickering RC | E4: =IFERROR(VLOOKUP($A$1&":"&A4,'Finish order'!C:K,5,FALSE()),"") -> 0.048055556 | F4: =IFERROR(VLOOKUP($A$1&":"&A4,'Finish order'!C:K,4,FALSE()),"") -> 313 | G4: {=IFERROR(SMALL(IF($D$2:$D913=D4,$A$2:$A$911*1.001),1),"")} -> 3.003 | H4: {=IFERROR(SMALL(IF($D$2:$D913=D4,$A$2:$A$911*1.0001),2),"")} -> 13.0013 | I4: {=IFERROR(SMALL(IF($D$2:$D913=D4,$A$2:$A$911*1.00001),3),"")} -> 20.0002 | J4: {=IFERROR(SMALL(IF($D$2:$D913=D4,$A$2:$A$911*1.000001),4),"")} -> 32.000032 | K4: =IF(A4<>"", IF(COUNT(G4:J4)=4, SUM(G4:J4), "No"), "") -> 68.004532 | L4: =IF(A4<>"", IF(COUNT(G4:I4)=3, SUM(G4:I4), "No"), "") -> 36.0045 | M4: =IF(A4<>"", IF(COUNT(G4:H4)=2, SUM(G4:H4), "No"), "") -> 16.0043 | N4: =Table1[[#This Row],[Club]]&":"&Table1[[#Headers],[Male]] -> Pickering RC:Male | P4: 3 | Q4: =IFERROR(VLOOKUP(P$1&":"&P4,'Finish order'!$C:$K,6,FALSE()),"") -> Kelly Richmond | R4: =IFERROR(VLOOKUP(P$1&":"&P4,'Finish order'!$C:$K,9,FALSE()),"") -> WSEN | S4: =IFERROR(VLOOKUP(P$1&":"&P4,'Finish order'!$C:$K,7,FALSE()),"") -> Pickering RC | T4: =IFERROR(VLOOKUP(P$1&":"&P4,'Finish order'!$C:$K,5,FALSE()),"") -> 0.061076389 | U4: =IFERROR(VLOOKUP(P$1&":"&P4,'Finish order'!$C:$K,4,FALSE()),"") -> 37 | V4: {=IFERROR(SMALL(IF($S$2:$S913=S4,$P$2:$P$911*1.001),1),"")} -> 3.003 | W4: {=IFERROR(SMALL(IF($S$2:$S913=S4,$P$2:$P$911*1.0001),2),"")} -> 12.0012 | X4: {=IFERROR(SMALL(IF($S$2:$S913=S4,$P$2:$P$911*1.00001),3),"")} -> 15.00015 | Y4: {=IFERROR(SMALL(IF($S$2:$S913=S4,$P$2:$P$911*1.000001),4),"")} -> 22.000022 | Z4: =IF(P4<>"", IF(COUNT(V4:Y4)=4, SUM(V4:Y4), "No"), "") -> 52.004372 | AA4: =IF(P4<>"", IF(COUNT(V4:X4)=3, SUM(V4:X4), "No"), "") -> 30.00435 | AB4: =IF(P4<>"", IF(COUNT(V4:W4)=2, SUM(V4:W4), "No"), "") -> 15.0042 | AC4: =Table4[[#This Row],[Club]]&":"&Table4[[#Headers],[Female]] -> Pickering RC:Female | AE4: 3 | AF4: =IFERROR(VLOOKUP(AE$1&":"&AE4,'Finish order'!$E:$K,4,FALSE()),"") | AG4: =IFERROR(VLOOKUP(AE$1&":"&AE4,'Finish order'!$E:$K,5,FALSE()),"") | AH4: =IFERROR(VLOOKUP(AE$1&":"&AE4,'Finish order'!$E:$K,3,FALSE()),"") | AI4: =IFERROR(VLOOKUP(AE$1&":"&AE4,'Finish order'!$E:$K,2,FALSE()),"") | AJ4: =IF(Table7[[#This Row],[Name]]="","",IF((COUNTIF($B$2:$B$4,AF4)>0),"Top3","")) | AL4: 3 | AM4: =IFERROR(VLOOKUP(AL$1&":"&AL4,'Finish order'!$E:$K,4,FALSE()),"") | AN4: =IFERROR(VLOOKUP(AL$1&":"&AL4,'Finish order'!$E:$K,5,FALSE()),"") | AO4: =IFERROR(VLOOKUP(AL$1&":"&AL4,'Finish order'!$E:$K,3,FALSE()),"") | AP4: =IFERROR(VLOOKUP(AL$1&":"&AL4,'Finish order'!$E:$K,2,FALSE()),"") | AQ4: =IF(Table8[[#This Row],[Name]]="","",IF((COUNTIF($Q$2:$Q$4,AM4)>0),"Top3","")) | AS4: 3 | AT4: =IFERROR(VLOOKUP(AS$1&":"&AS4,'Finish order'!$E:$K,4,FALSE()),"") -> Rorie McIntosh | AU4: =IFERROR(VLOOKUP(AS$1&":"&AS4,'Finish order'!$E:$K,5,FALSE()),"") -> Esk Valley Fell Club | AV4: =IFERROR(VLOOKUP(AS$1&":"&AS4,'Finish order'!$E:$K,3,FALSE()),"") -> 0.052488426 | AW4: =IFERROR(VLOOKUP(AS$1&":"&AS4,'Finish order'!$E:$K,2,FALSE()),"") -> 543 | AX4: =IF(Table9[[#This Row],[Name]]="","",IF((COUNTIF($B$2:$B$4,AT4)>0),"Top3","")) | AZ4: 3 | BA4: =IFERROR(VLOOKUP(AZ$1&":"&AZ4,'Finish order'!$E:$K,4,FALSE()),"") | BB4: =IFERROR(VLOOKUP(AZ$1&":"&AZ4,'Finish order'!$E:$K,5,FALSE()),"") | BC4: =IFERROR(VLOOKUP(AZ$1&":"&AZ4,'Finish order'!$E:$K,3,FALSE()),"") | BD4: =IFERROR(VLOOKUP(AZ$1&":"&AZ4,'Finish order'!$E:$K,2,FALSE()),"") | BE4: =IF(Table10[[#This Row],[Name]]="","",IF((COUNTIF($Q$2:$Q$4,BA4)>0),"Top3","")) | BG4: 3 | BH4: =IFERROR(VLOOKUP(BG$1&":"&BG4,'Finish order'!$E:$K,4,FALSE()),"") -> Stephen Hardy | BI4: =IFERROR(VLOOKUP(BG$1&":"&BG4,'Finish order'!$E:$K,5,FALSE()),"") -> Loftus & Whitby AC | BJ4: =IFERROR(VLOOKUP(BG$1&":"&BG4,'Finish order'!$E:$K,3,FALSE()),"") -> 0.059131944 | BK4: =IFERROR(VLOOKUP(BG$1&":"&BG4,'Finish order'!$E:$K,2,FALSE()),"") -> 701 | BL4: =IF(Table10[[#This Row],[Name]]="","",IF((COUNTIF($B$2:$B$4,BH4)>0),"Top3","")) | BN4: 3 | BO4: =IFERROR(VLOOKUP(BN$1&":"&BN4,'Finish order'!$E:$K,4,FALSE()),"") -> Sally Carro Goodwill | BP4: =IFERROR(VLOOKUP(BN$1&":"&BN4,'Finish order'!$E:$K,5,FALSE()),"") -> York Knavesmire Harriers | BQ4: =IFERROR(VLOOKUP(BN$1&":"&BN4,'Finish order'!$E:$K,3,FALSE()),"") -> 0.068622685 | BR4: =IFERROR(VLOOKUP(BN$1&":"&BN4,'Finish order'!$E:$K,2,FALSE()),"") -> 220 | BS4: =IF(Table10[[#This Row],[Name]]="","",IF((COUNTIF($Q$2:$Q$4,BO4)>0),"Top3","")) | BU4: 3 | BV4: =IFERROR(VLOOKUP(BU$1&":"&BU4,'Finish order'!$E:$K,4,FALSE()),"") -> David Allison | BW4: =IFERROR(VLOOKUP(BU$1&":"&BU4,'Finish order'!$E:$K,5,FALSE()),"") -> North York Moors AC | BX4: =IFERROR(VLOOKUP(BU$1&":"&BU4,'Finish order'!$E:$K,3,FALSE()),"") -> 0.056157407 | BY4: =IFERROR(VLOOKUP(BU$1&":"&BU4,'Finish order'!$E:$K,2,FALSE()),"") -> 904 | BZ4: =IF(Table13[[#This Row],[Name]]="","",IF((COUNTIF($B$2:$B$4,BV4)>0),"Top3","")) | CB4: 3 | CC4: =IFERROR(VLOOKUP(CB$1&":"&CB4,'Finish order'!$E:$K,4,FALSE()),"") -> Sally Kingscott | CD4: =IFERROR(VLOOKUP(CB$1&":"&CB4,'Finish order'!$E:$K,5,FALSE()),"") -> Scarborough AC | CE4: =IFERROR(VLOOKUP(CB$1&":"&CB4,'Finish order'!$E:$K,3,FALSE()),"") -> 0.093946759 | CF4: =IFERROR(VLOOKUP(CB$1&":"&CB4,'Finish order'!$E:$K,2,FALSE()),"") -> 274 | CG4: =IF(Table14[[#This Row],[Name]]="","",IF((COUNTIF($Q$2:$Q$4,CC4)>0),"Top3","")) | CI4: 3 | CJ4: =IFERROR(VLOOKUP(CI$1&":"&CI4,'Finish order'!$E:$K,4,FALSE()),"") | CK4: =IFERROR(VLOOKUP(CI$1&":"&CI4,'Finish order'!$E:$K,5,FALSE()),"") | CL4: =IFERROR(VLOOKUP(CI$1&":"&CI4,'Finish order'!$E:$K,3,FALSE()),"") | CM4: =IFERROR(VLOOKUP(CI$1&":"&CI4,'Finish order'!$E:$K,2,FALSE()),"") | CN4: =IF(Table15[[#This Row],[Name]]="","",IF((COUNTIF($B$2:$B$4,CJ4)>0),"Top3","")) | CP4: 3 | CQ4: =IFERROR(VLOOKUP(CP$1&":"&CP4,'Finish order'!$E:$K,4,FALSE()),"") | CR4: =IFERROR(VLOOKUP(CP$1&":"&CP4,'Finish order'!$E:$K,5,FALSE()),"") | CS4: =IFERROR(VLOOKUP(CP$1&":"&CP4,'Finish order'!$E:$K,3,FALSE()),"") | CT4: =IFERROR(VLOOKUP(CP$1&":"&CP4,'Finish order'!$E:$K,2,FALSE()),"") | CU4: =IF(Table16[[#This Row],[Name]]="","",IF((COUNTIF($Q$2:$Q$4,CQ4)>0),"Top3","")) | CW4: 3 | CX4: =IFERROR(VLOOKUP(CW$1&":"&CW4,'Finish order'!$E:$K,4,FALSE()),"") | CY4: =IFERROR(VLOOKUP(CW$1&":"&CW4,'Finish order'!$E:$K,5,FALSE()),"") | CZ4: =IFERROR(VLOOKUP(CW$1&":"&CW4,'Finish order'!$E:$K,3,FALSE()),"") | DA4: =IFERROR(VLOOKUP(CW$1&":"&CW4,'Finish order'!$E:$K,2,FALSE()),"") | DB4: =IF(Table17[[#This Row],[Name]]="","",IF((COUNTIF($B$2:$B$4,CX4)>0),"Top3","")) | DD4: 3 | DE4: =IFERROR(VLOOKUP(DD$1&":"&DD4,'Finish order'!$E:$K,4,FALSE()),"") | DF4: =IFERROR(VLOOKUP(DD$1&":"&DD4,'Finish order'!$E:$K,5,FALSE()),"") | DG4: =IFERROR(VLOOKUP(DD$1&":"&DD4,'Finish order'!$E:$K,3,FALSE()),"") | DH4: =IFERROR(VLOOKUP(DD$1&":"&DD4,'Finish order'!$E:$K,2,FALSE()),"") | DI4: =IF(Table18[[#This Row],[Name]]="","",IF((COUNTIF($Q$2:$Q$4,DE4)>0),"Top3","")) | DK4: 3 | DL4: =IFERROR(VLOOKUP(DK$1&":"&DK4,'Finish order'!$E:$K,4,FALSE()),"") | DM4: =IFERROR(VLOOKUP(DK$1&":"&DK4,'Finish order'!$E:$K,5,FALSE()),"") | DN4: =IFERROR(VLOOKUP(DK$1&":"&DK4,'Finish order'!$E:$K,3,FALSE()),"") | DO4: =IFERROR(VLOOKUP(DK$1&":"&DK4,'Finish order'!$E:$K,2,FALSE()),"") | DP4: =IF(Table1739[[#This Row],[Name]]="","",IF((COUNTIF($B$2:$B$4,DL4)>0),"Top3","")) | DR4: 3 | DS4: =IFERROR(VLOOKUP(DR$1&":"&DR4,'Finish order'!$E:$K,4,FALSE()),"") | DT4: =IFERROR(VLOOKUP(DR$1&":"&DR4,'Finish order'!$E:$K,5,FALSE()),"") | DU4: =IFERROR(VLOOKUP(DR$1&":"&DR4,'Finish order'!$E:$K,3,FALSE()),"") | DV4: =IFERROR(VLOOKUP(DR$1&":"&DR4,'Finish order'!$E:$K,2,FALSE()),"") | DW4: =IF(Table1840[[#This Row],[Name]]="","",IF((COUNTIF($Q$2:$Q$4,DS4)>0),"Top3",""))
