Workbook

Sheet Read Me
A1: This spreadsheet has been created by Andy Blackett of Durham Fell Runners, it is intended to be used to collate results for non-commercial fell races. If you wish to use it for any other purpose please contact andyblackett@googlemail.com to discuss terms. This spreadsheet has no affiliation or connection with the FRA or any other organisation.
A3: This spreadsheet has been designed to be easy to use and require no specialist knowledge to operate. It doesn't use macros or anything similar, as the author doesn't understand them either.
A5: Instructions - Registration.
A6: Delete the example data from the 'Entries' tab cells A2:E196, and from the 'Finish order' tab F2:G173.
A7: Input your entry data, this can be pre-populated from pre-entres (by downloading a report from SI Entries or similar), and populated 'on the day'.
A8: Enter runners numbers next to their names in column A of the 'Entries' tab, again, either in advance or on the day.
A9: All the column headers have notes, indicated by red triangles at the top of the column, read these to check you are inputting data in the correct format.
A11: After the race.
A12: Go to the 'Finish order' tab and input the numbers as the runners finish.
A13: All the results will then auto-populate including the team results.
A14: Enter the runners times in the 'Finish order' tab, this will then feed through to the Results tabs and the 'Published format'
A15: If the sheet is 'laggy' and takes time to recalculate after each data entry, change the calculation option to 'manual' and then press F9 each time you want to recalculate.
... A39: Extended to take up to 1000 runners

Sheet Entries
A1: Bib | B1: Number | C1: Name | D1: Club | E1: Gender | F1: Category | G1: Finished?
A2: 1 | C2: Ella Hargreaves | D2: Individual# | E2: Female | F2: WSEN | G2: =IF(Table24[[#This Row],[Number]]<>0,COUNTIF('Finish order'!F:F, Table24[[#This Row],[Number]]),"")
A3: 2 | C3: Katie Lomas | D3: Boro Runners | E3: female | F3: WSEN | G3: =IF(Table24[[#This Row],[Number]]<>0,COUNTIF('Finish order'!F:F, Table24[[#This Row],[Number]]),"")
A4: 3 | B4: 3 | C4: Robyn Watson | D4: Esk Valley Fell Club | E4: Female | F4: WSEN | G4: =IF(Table24[[#This Row],[Number]]<>0,COUNTIF('Finish order'!F:F, Table24[[#This Row],[Number]]),"") -> 1
A5: 4 | B5: 4 | C5: Tabitha McNicholas | D5: North York Moors AC | E5: Female | F5: WSEN | G5: =IF(Table24[[#This Row],[Number]]<>0,COUNTIF('Finish order'!F:F, Table24[[#This Row],[Number]]),"") -> 1
A6: 5 | C6: Hazel Normanhenney | D6: St Theresa's AC | E6: Female | F6: WSEN | G6: =IF(Table24[[#This Row],[Number]]<>0,COUNTIF('Finish order'!F:F, Table24[[#This Row],[Number]]),"")
A7: 6 | C7: Cassie Read | D7: York Knavesmire Harriers | E7: Female | F7: WSEN | G7: =IF(Table24[[#This Row],[Number]]<>0,COUNTIF('Finish order'!F:F, Table24[[#This Row],[Number]]),"")
A8: 7 | C8: Jodi Bemand | D8: West Cheshire AC | E8: Female | F8: WU23 | G8: =IF(Table24[[#This Row],[Number]]<>0,COUNTIF('Finish order'!F:F, Table24[[#This Row],[Number]]),"")
A9: 8 | C9: Harriet Thompson | D9: Individual# | E9: Female | F9: WU23 | G9: =IF(Table24[[#This Row],[Number]]<>0,COUNTIF('Finish order'!F:F, Table24[[#This Row],[Number]]),"")
A10: 9 | C10: Georgia Campbell | D10: Individual# | E10: Female | F10: WSEN | G10: =IF(Table24[[#This Row],[Number]]<>0,COUNTIF('Finish order'!F:F, Table24[[#This Row],[Number]]),"")
A11: 10 | C11: Emily Loftus | D11: Pickering RC | E11: Female | F11: WSEN | G11: =IF(Table24[[#This Row],[Number]]<>0,COUNTIF('Finish order'!F:F, Table24[[#This Row],[Number]]),"")
A12: 11 | C12: Lucy Knight | D12: Individual# | E12: Female | F12: WSEN | G12: =IF(Table24[[#This Row],[Number]]<>0,COUNTIF('Finish order'!F:F, Table24[[#This Row],[Number]]),"")
A13: 12 | C13: Kirsty Brown | D13: Pickering RC | E13: Female | F13: WSEN | G13: =IF(Table24[[#This Row],[Number]]<>0,COUNTIF('Finish order'!F:F, Table24[[#This Row],[Number]]),"")
A14: 13 | C14: Ursula Catton | D14: York Knavesmire Harriers | E14: Female | F14: WSEN | G14: =IF(Table24[[#This Row],[Number]]<>0,COUNTIF('Finish order'!F:F, Table24[[#This Row],[Number]]),"")
A15: 14 | C15: Rose Mather | D15: York Knavesmire Harriers | E15: Female | F15: WSEN | G15: =IF(Table24[[#This Row],[Number]]<>0,COUNTIF('Finish order'!F:F, Table24[[#This Row],[Number]]),"")
A16: 15 | C16: Sarah Roe | D16: Billingham RC | E16: Female | F16: WSEN | G16: =IF(Table24[[#This Row],[Number]]<>0,COUNTIF('Finish order'!F:F, Table24[[#This Row],[Number]]),"")
A17: 16 | C17: Jennifer Thompson | D17: Individual# | E17: Female | F17: WSEN | G17: =IF(Table24[[#This Row],[Number]]<>0,COUNTIF('Finish order'!F:F, Table24[[#This Row],[Number]]),"")
... A37: 36 | C37: Eryn Barber | D37: Calder Valley Fell Runners | E37: Female | F37: WSEN | G37: =IF(Table24[[#This Row],[Number]]<>0,COUNTIF('Finish order'!F:F, Table24[[#This Row],[Number]]),"")
A38: 37 | B38: 37 | C38: Kelly Richmond | D38: Pickering RC | E38: Female | F38: WSEN | G38: =IF(Table24[[#This Row],[Number]]<>0,COUNTIF('Finish order'!F:F, Table24[[#This Row],[Number]]),"") -> 1
A39: 38 | C39: Enya Killen | D39: Sedgefield Harriers | E39: Female | F39: WSEN | G39: =IF(Table24[[#This Row],[Number]]<>0,COUNTIF('Finish order'!F:F, Table24[[#This Row],[Number]]),"")
A40: 39 | C40: Lindy Shelton | D40: Individual# | E40: Female | F40: WSEN | G40: =IF(Table24[[#This Row],[Number]]<>0,COUNTIF('Finish order'!F:F, Table24[[#This Row],[Number]]),"")
A41: 40 | B41: 40 | C41: Kelly Grieve | D41: Thirsk & Sowerby Harriers | E41: Female | F41: WSEN | G41: =IF(Table24[[#This Row],[Number]]<>0,COUNTIF('Finish order'!F:F, Table24[[#This Row],[Number]]),"") -> 1
A42: 41 | C42: Tessa Grant | D42: Thirsk & Sowerby Harriers | E42: Female | F42: WSEN | G42: =IF(Table24[[#This Row],[Number]]<>0,COUNTIF('Finish order'!F:F, Table24[[#This Row],[Number]]),"")
A43: 42 | C43: Kerri-Lee Wooding | D43: Thirsk & Sowerby Harriers | E43: Female | F43: WSEN | G43: =IF(Table24[[#This Row],[Number]]<>0,COUNTIF('Finish order'!F:F, Table24[[#This Row],[Number]]),"")
A44: 43 | C44: Sam Foreman | D44: Sedgefield Harriers | E44: Female | F44: WSEN | G44: =IF(Table24[[#This Row],[Number]]<>0,COUNTIF('Finish order'!F:F, Table24[[#This Row],[Number]]),"")
A45: 44 | C45: Sara Willhoit | D45: Mercia Fell Runners | E45: Female | F45: WSEN | G45: =IF(Table24[[#This Row],[Number]]<>0,COUNTIF('Finish order'!F:F, Table24[[#This Row],[Number]]),"")
A46: 45 | C46: Katharine Woodhead | D46: Nidd Valley Road Runners | E46: Female | F46: WSEN | G46: =IF(Table24[[#This Row],[Number]]<>0,COUNTIF('Finish order'!F:F, Table24[[#This Row],[Number]]),"")
A47: 46 | C47: Gemma Pearce | D47: Boro Runners | E47: Female | F47: WSEN | G47: =IF(Table24[[#This Row],[Number]]<>0,COUNTIF('Finish order'!F:F, Table24[[#This Row],[Number]]),"")
A48: 47 | C48: Harriet Morris | D48: Sedgefield Harriers | E48: Female | F48: WSEN | G48: =IF(Table24[[#This Row],[Number]]<>0,COUNTIF('Finish order'!F:F, Table24[[#This Row],[Number]]),"")
A49: 48 | C49: Katie Nicholson | D49: Swaledale Runners | E49: Female | F49: WSEN | G49: =IF(Table24[[#This Row],[Number]]<>0,COUNTIF('Finish order'!F:F, Table24[[#This Row],[Number]]),"")
A50: 49 | C50: Catherine Dutton | D50: Saltwell Harriers | E50: Female | F50: WSEN | G50: =IF(Table24[[#This Row],[Number]]<>0,COUNTIF('Finish order'!F:F, Table24[[#This Row],[Number]]),"")
A51: 50 | C51: Maria Clemmit | D51: North York Moors AC | E51: Female | F51: WSEN | G51: =IF(Table24[[#This Row],[Number]]<>0,COUNTIF('Finish order'!F:F, Table24[[#This Row],[Number]]),"") | I51: 1208
A52: 51 | C52: Samantha Webster | D52: Individual# | E52: Female | F52: WSEN | G52: =IF(Table24[[#This Row],[Number]]<>0,COUNTIF('Finish order'!F:F, Table24[[#This Row],[Number]]),"")
A53: 52 | C53: Kyah Hall | D53: Loftus & Whitby AC | E53: Female | F53: WSEN | G53: =IF(Table24[[#This Row],[Number]]<>0,COUNTIF('Finish order'!F:F, Table24[[#This Row],[Number]]),"") | I53: 1210
A54: 53 | C54: Lisa Verrill | D54: Loftus & Whitby AC | E54: Female | F54: WSEN | G54: =IF(Table24[[#This Row],[Number]]<>0,COUNTIF('Finish order'!F:F, Table24[[#This Row],[Number]]),"")
A55: 54 | C55: Kore Bent | D55: Individual# | E55: Female | F55: WU23 | G55: =IF(Table24[[#This Row],[Number]]<>0,COUNTIF('Finish order'!F:F, Table24[[#This Row],[Number]]),"")
A56: 55 | B56: 55 | C56: Amie Cooper | D56: Individual# | E56: Female | F56: WU23 | G56: =IF(Table24[[#This Row],[Number]]<>0,COUNTIF('Finish order'!F:F, Table24[[#This Row],[Number]]),"") -> 1
A57: 56 | B57: 56 | C57: Melanie Ellwood | D57: York Knavesmire Harriers | E57: Female | F57: WSEN | G57: =IF(Table24[[#This Row],[Number]]<>0,COUNTIF('Finish order'!F:F, Table24[[#This Row],[Number]]),"") -> 1
A58: 57 | B58: 57 | C58: Alexandra Atkinson | D58: Whitby Running Club | E58: Female | F58: WSEN | G58: =IF(Table24[[#This Row],[Number]]<>0,COUNTIF('Finish order'!F:F, Table24[[#This Row],[Number]]),"") -> 1
A59: 58 | B59: 58 | C59: Siobhan Firman | D59: Individual# | E59: Female | F59: WSEN | G59: =IF(Table24[[#This Row],[Number]]<>0,COUNTIF('Finish order'!F:F, Table24[[#This Row],[Number]]),"") -> 1
A60: 59 | E60: Female | F60: WSEN | G60: =IF(Table24[[#This Row],[Number]]<>0,COUNTIF('Finish order'!F:F, Table24[[#This Row],[Number]]),"")
A61: 60 | E61: Female | F61: WSEN | G61: =IF(Table24[[#This Row],[Number]]<>0,COUNTIF('Finish order'!F:F, Table24[[#This Row],[Number]]),"")
A62: 61 | E62: Female | F62: WSEN | G62: =IF(Table24[[#This Row],[Number]]<>0,COUNTIF('Finish order'!F:F, Table24[[#This Row],[Number]]),"")
A63: 62 | E63: Female | F63: WSEN | G63: =IF(Table24[[#This Row],[Number]]<>0,COUNTIF('Finish order'!F:F, Table24[[#This Row],[Number]]),"")
A64: 63 | E64: Female | F64: WSEN | G64: =IF(Table24[[#This Row],[Number]]<>0,COUNTIF('Finish order'!F:F, Table24[[#This Row],[Number]]),"")
A65: 64 | E65: Female | F65: WSEN | G65: =IF(Table24[[#This Row],[Number]]<>0,COUNTIF('Finish order'!F:F, Table24[[#This Row],[Number]]),"")
A66: 65 | E66: Female | F66: WSEN | G66: =IF(Table24[[#This Row],[Number]]<>0,COUNTIF('Finish order'!F:F, Table24[[#This Row],[Number]]),"")
A67: 66 | E67: Female | F67: WSEN | G67: =IF(Table24[[#This Row],[Number]]<>0,COUNTIF('Finish order'!F:F, Table24[[#This Row],[Number]]),"")
A68: 67 | E68: Female | F68: WSEN | G68: =IF(Table24[[#This Row],[Number]]<>0,COUNTIF('Finish order'!F:F, Table24[[#This Row],[Number]]),"")
A69: 68 | E69: Female | F69: WSEN | G69: =IF(Table24[[#This Row],[Number]]<>0,COUNTIF('Finish order'!F:F, Table24[[#This Row],[Number]]),"")
A70: 69 | E70: Female | F70: WSEN | G70: =IF(Table24[[#This Row],[Number]]<>0,COUNTIF('Finish order'!F:F, Table24[[#This Row],[Number]]),"")
A71: 70 | E71: Female | F71: WSEN | G71: =IF(Table24[[#This Row],[Number]]<>0,COUNTIF('Finish order'!F:F, Table24[[#This Row],[Number]]),"")
... A100: 99 | E100: Female | F100: WSEN | G100: =IF(Table24[[#This Row],[Number]]<>0,COUNTIF('Finish order'!F:F, Table24[[#This Row],[Number]]),"")
A101: 100 | B101: 100 | C101: Catherine Williamson | D101: Loftus & Whitby AC | E101: Female | F101: W40 | G101: =IF(Table24[[#This Row],[Number]]<>0,COUNTIF('Finish order'!F:F, Table24[[#This Row],[Number]]),"") -> 1
A102: 101 | C102: Kim Cavill | D102: Pickering RC | E102: Female | F102: W40 | G102: =IF(Table24[[#This Row],[Number]]<>0,COUNTIF('Finish order'!F:F, Table24[[#This Row],[Number]]),"")
A103: 102 | C103: Esther Harrison | D103: Thirsk & Sowerby Harriers | E103: Female | F103: W40 | G103: =IF(Table24[[#This Row],[Number]]<>0,COUNTIF('Finish order'!F:F, Table24[[#This Row],[Number]]),"")
A104: 103 | C104: Victoria Burns | D104: Middlesbrough & Cleveland Harriers | E104: Female | F104: W40 | G104: =IF(Table24[[#This Row],[Number]]<>0,COUNTIF('Finish order'!F:F, Table24[[#This Row],[Number]]),"")
A105: 104 | C105: Sarah Harrison | D105: Thirsk & Sowerby Harriers | E105: Female | F105: W40 | G105: =IF(Table24[[#This Row],[Number]]<>0,COUNTIF('Finish order'!F:F, Table24[[#This Row],[Number]]),"")
A106: 105 | C106: Beverley Isherwood | D106: Individual# | E106: Female | F106: W40 | G106: =IF(Table24[[#This Row],[Number]]<>0,COUNTIF('Finish order'!F:F, Table24[[#This Row],[Number]]),"")
A107: 106 | C107: Fran Jeffery | D107: Thirsk & Sowerby Harriers | E107: Female | F107: W40 | G107: =IF(Table24[[#This Row],[Number]]<>0,COUNTIF('Finish order'!F:F, Table24[[#This Row],[Number]]),"")
A108: 107 | C108: Kirsty Naylor | D108: Thirsk & Sowerby Harriers | E108: Female | F108: W40 | G108: =IF(Table24[[#This Row],[Number]]<>0,COUNTIF('Finish order'!F:F, Table24[[#This Row],[Number]]),"")
A109: 108 | C109: Jenny Storrie | D109: Individual# | E109: Female | F109: W40 | G109: =IF(Table24[[#This Row],[Number]]<>0,COUNTIF('Finish order'!F:F, Table24[[#This Row],[Number]]),"")
A110: 109 | B110: 109 | C110: Rhona Marshall | D110: Scarborough AC | E110: Female | F110: W40 | G110: =IF(Table24[[#This Row],[Number]]<>0,COUNTIF('Finish order'!F:F, Table24[[#This Row],[Number]]),"") -> 1
A111: 110 | C111: Laura Bennett | D111: York Acorn RC | E111: Female | F111: W40 | G111: =IF(Table24[[#This Row],[Number]]<>0,COUNTIF('Finish order'!F:F, Table24[[#This Row],[Number]]),"")
A112: 111 | C112: Natalie Greaves | D112: York Knavesmire Harriers | E112: Female | F112: W40 | G112: =IF(Table24[[#This Row],[Number]]<>0,COUNTIF('Finish order'!F:F, Table24[[#This Row],[Number]]),"")
A113: 112 | C113: NIcola Kidd | D113: Scarborough AC | E113: Female | F113: W40 | G113: =IF(Table24[[#This Row],[Number]]<>0,COUNTIF('Finish order'!F:F, Table24[[#This Row],[Number]]),"")
A114: 113 | C114: Ruth Kaftiriani | D114: Pickering RC | E114: Female | F114: W40 | G114: =IF(Table24[[#This Row],[Number]]<>0,COUNTIF('Finish order'!F:F, Table24[[#This Row],[Number]]),"")
A115: 114 | C115: Nicola Dyson | D115: Saltwell Harriers | E115: Female | F115: W40 | G115: =IF(Table24[[#This Row],[Number]]<>0,COUNTIF('Finish order'!F:F, Table24[[#This Row],[Number]]),"")
A116: 115 | C116: Freya Wright | D116: Individual# | E116: Female | F116: W40 | G116: =IF(Table24[[#This Row],[Number]]<>0,COUNTIF('Finish order'!F:F, Table24[[#This Row],[Number]]),"")
A117: 116 | C117: Holly James-Maddocks | D117: Individual# | E117: Female | F117: W40 | G117: =IF(Table24[[#This Row],[Number]]<>0,COUNTIF('Finish order'!F:F, Table24[[#This Row],[Number]]),"")
A118: 117 | C118: Jemima Jones | D118: Thirsk & Sowerby Harriers | E118: Female | F118: W40 | G118: =IF(Table24[[#This Row],[Number]]<>0,COUNTIF('Finish order'!F:F, Table24[[#This Row],[Number]]),"")
A119: 118 | C119: Angela Gribbon | D119: Individual# | E119: Female | F119: W40 | G119: =IF(Table24[[#This Row],[Number]]<>0,COUNTIF('Finish order'!F:F, Table24[[#This Row],[Number]]),"")
A120: 119 | C120: Becky Penty | D120: York Knavesmire Harriers | E120: Female | F120: W40 | G120: =IF(Table24[[#This Row],[Number]]<>0,COUNTIF('Finish order'!F:F, Table24[[#This Row],[Number]]),"") | I120: 1386
A121: 120 | E121: Female | F121: W40 | G121: =IF(Table24[[#This Row],[Number]]<>0,COUNTIF('Finish order'!F:F, Table24[[#This Row],[Number]]),"")
A122: 121 | E122: Female | F122: W40 | G122: =IF(Table24[[#This Row],[Number]]<>0,COUNTIF('Finish order'!F:F, Table24[[#This Row],[Number]]),"")
A123: 122 | E123: Female | F123: W40 | G123: =IF(Table24[[#This Row],[Number]]<>0,COUNTIF('Finish order'!F:F, Table24[[#This Row],[Number]]),"")
A124: 123 | E124: Female | F124: W40 | G124: =IF(Table24[[#This Row],[Number]]<>0,COUNTIF('Finish order'!F:F, Table24[[#This Row],[Number]]),"")
A125: 124 | E125: Female | F125: W40 | G125: =IF(Table24[[#This Row],[Number]]<>0,COUNTIF('Finish order'!F:F, Table24[[#This Row],[Number]]),"")
A126: 125 | E126: Female | F126: W40 | G126: =IF(Table24[[#This Row],[Number]]<>0,COUNTIF('Finish order'!F:F, Table24[[#This Row],[Number]]),"")
A127: 126 | E127: Female | F127: W40 | G127: =IF(Table24[[#This Row],[Number]]<>0,COUNTIF('Finish order'!F:F, Table24[[#This Row],[Number]]),"")
A128: 127 | E128: Female | F128: W40 | G128: =IF(Table24[[#This Row],[Number]]<>0,COUNTIF('Finish order'!F:F, Table24[[#This Row],[Number]]),"")
A129: 128 | E129: Female | F129: W40 | G129: =IF(Table24[[#This Row],[Number]]<>0,COUNTIF('Finish order'!F:F, Table24[[#This Row],[Number]]),"")
A130: 129 | E130: Female | F130: W40 | G130: =IF(Table24[[#This Row],[Number]]<>0,COUNTIF('Finish order'!F:F, Table24[[#This Row],[Number]]),"")
A131: 130 | E131: Female | F131: W40 | G131: =IF(Table24[[#This Row],[Number]]<>0,COUNTIF('Finish order'!F:F, Table24[[#This Row],[Number]]),"")
A132: 131 | E132: Female | F132: W40 | G132: =IF(Table24[[#This Row],[Number]]<>0,COUNTIF('Finish order'!F:F, Table24[[#This Row],[Number]]),"")
... A150: 149 | E150: Female | F150: W40 | G150: =IF(Table24[[#This Row],[Number]]<>0,COUNTIF('Finish order'!F:F, Table24[[#This Row],[Number]]),"")
A151: 150 | B151: 150 | C151: Helen Spring | D151: Easingwold RC | E151: Female | F151: W45 | G151: =IF(Table24[[#This Row],[Number]]<>0,COUNTIF('Finish order'!F:F, Table24[[#This Row],[Number]]),"") -> 1
A152: 151 | B152: 151 | C152: Alice Hayter | D152: Pickering RC | E152: Female | F152: W45 | G152: =IF(Table24[[#This Row],[Number]]<>0,COUNTIF('Finish order'!F:F, Table24[[#This Row],[Number]]),"") -> 1
A153: 152 | B153: 152 | C153: Lynn Humpleby | D153: Pickering RC | E153: Female | F153: W45 | G153: =IF(Table24[[#This Row],[Number]]<>0,COUNTIF('Finish order'!F:F, Table24[[#This Row],[Number]]),"") -> 1
A154: 153 | B154: 153 | C154: Sarah Hudson | D154: Loftus & Whitby AC | E154: Female | F154: W45 | G154: =IF(Table24[[#This Row],[Number]]<>0,COUNTIF('Finish order'!F:F, Table24[[#This Row],[Number]]),"") -> 1
A155: 154 | C155: Rebecca Cacioppo | D155: Loftus & Whitby AC | E155: Female | F155: W45 | G155: =IF(Table24[[#This Row],[Number]]<>0,COUNTIF('Finish order'!F:F, Table24[[#This Row],[Number]]),"")
A156: 155 | B156: 155 | C156: Sarah Walch | D156: Denby Dale AC | E156: Female | F156: W45 | G156: =IF(Table24[[#This Row],[Number]]<>0,COUNTIF('Finish order'!F:F, Table24[[#This Row],[Number]]),"") -> 1
A157: 156 | C157: Abigail Carter | D157: St Theresa's AC | E157: Female | F157: W45 | G157: =IF(Table24[[#This Row],[Number]]<>0,COUNTIF('Finish order'!F:F, Table24[[#This Row],[Number]]),"")
A158: 157 | B158: 157 | C158: Jess Evans | D158: St Theresa's AC | E158: Female | F158: W45 | G158: =IF(Table24[[#This Row],[Number]]<>0,COUNTIF('Finish order'!F:F, Table24[[#This Row],[Number]]),"") -> 1
A159: 158 | C159: Joanne Hall | D159: Esk Valley Fell Club | E159: Female | F159: W45 | G159: =IF(Table24[[#This Row],[Number]]<>0,COUNTIF('Finish order'!F:F, Table24[[#This Row],[Number]]),"")
A160: 159 | B160: 159 | C160: Kathryn Waterworth | D160: Individual# | E160: Female | F160: W45 | G160: =IF(Table24[[#This Row],[Number]]<>0,COUNTIF('Finish order'!F:F, Table24[[#This Row],[Number]]),"") -> 1
A161: 160 | C161: Michaela Welham | D161: Loftus & Whitby AC | E161: Female | F161: W45 | G161: =IF(Table24[[#This Row],[Number]]<>0,COUNTIF('Finish order'!F:F, Table24[[#This Row],[Number]]),"")
A162: 161 | C162: Anneke Imeson | D162: Ripon Runners | E162: Female | F162: W45 | G162: =IF(Table24[[#This Row],[Number]]<>0,COUNTIF('Finish order'!F:F, Table24[[#This Row],[Number]]),"")
A163: 162 | C163: Victoria Shipton | D163: Loftus & Whitby AC | E163: Female | F163: W45 | G163: =IF(Table24[[#This Row],[Number]]<>0,COUNTIF('Finish order'!F:F, Table24[[#This Row],[Number]]),"")
A164: 163 | C164: Sarah Jackson | D164: Penny Lane Striders | E164: Female | F164: W45 | G164: =IF(Table24[[#This Row],[Number]]<>0,COUNTIF('Finish order'!F:F, Table24[[#This Row],[Number]]),"")
...

Sheet Finish order
A1: Position | B1: Gender Position | C1: Column1 | D1: Cat Position | E1: Column2 | F1: Number | G1: Time | H1: Name | I1: Club | J1: Gender | K1: Category | L1: Short Cat. | M1: Short Cat Position | N1: Column3
A2: 1 | B2: =IF(F2<>"",COUNTIF($J$2:J2,J2),"") -> 1 | C2: =IF(F2<>0,J2&":"&B2,"") -> Male:1 | D2: =IF(F2<>0,COUNTIF($K$2:K2,K2),"") -> 1 | E2: =IF(F2<>0,K2&":"&D2,"") -> MU23:1 | F2: 397 | G2: 0.045196759 | H2: =IFERROR(VLOOKUP(F2, Entries!$B:$F, 2, FALSE()),"") -> Harry Butterworth | I2: =IFERROR(VLOOKUP(F2, Entries!$B:$F, 3, FALSE()),"") -> Scarborough AC | J2: =IFERROR(VLOOKUP(F2, Entries!$B:$F, 4, FALSE()),"") -> Male | K2: =IFERROR(VLOOKUP(F2, Entries!$B:$F, 5, FALSE()),"") -> MU23 | L2: =LEFT(Table22[[#This Row],[Category]],2) -> MU | M2: =IF(F2<>0,COUNTIF($L$2:L2,L2),"") -> 1 | N2: =IF(F2<>0,L2&":"&M2,"") -> MU:1
A3: 2 | B3: =IF(F3<>"",COUNTIF($J$2:J3,J3),"") -> 2 | C3: =IF(F3<>0,J3&":"&B3,"") -> Male:2 | D3: =IF(F3<>0,COUNTIF($K$2:K3,K3),"") -> 1 | E3: =IF(F3<>0,K3&":"&D3,"") -> M40:1 | F3: 520 | G3: 0.045243056 | H3: =IFERROR(VLOOKUP(F3, Entries!$B:$F, 2, FALSE()),"") -> Dan Bateson | I3: =IFERROR(VLOOKUP(F3, Entries!$B:$F, 3, FALSE()),"") -> Scarborough AC | J3: =IFERROR(VLOOKUP(F3, Entries!$B:$F, 4, FALSE()),"") -> Male | K3: =IFERROR(VLOOKUP(F3, Entries!$B:$F, 5, FALSE()),"") -> M40 | L3: =LEFT(Table22[[#This Row],[Category]],2) -> M4 | M3: =IF(F3<>0,COUNTIF($L$2:L3,L3),"") -> 1 | N3: =IF(F3<>0,L3&":"&M3,"") -> M4:1
A4: 3 | B4: =IF(F4<>"",COUNTIF($J$2:J4,J4),"") -> 3 | C4: =IF(F4<>0,J4&":"&B4,"") -> Male:3 | D4: =IF(F4<>0,COUNTIF($K$2:K4,K4),"") -> 1 | E4: =IF(F4<>0,K4&":"&D4,"") -> MSEN:1 | F4: 313 | G4: 0.048055556 | H4: =IFERROR(VLOOKUP(F4, Entries!$B:$F, 2, FALSE()),"") -> Robert Preston | I4: =IFERROR(VLOOKUP(F4, Entries!$B:$F, 3, FALSE()),"") -> Pickering RC | J4: =IFERROR(VLOOKUP(F4, Entries!$B:$F, 4, FALSE()),"") -> Male | K4: =IFERROR(VLOOKUP(F4, Entries!$B:$F, 5, FALSE()),"") -> MSEN | L4: =LEFT(Table22[[#This Row],[Category]],2) -> MS | M4: =IF(F4<>0,COUNTIF($L$2:L4,L4),"") -> 1 | N4: =IF(F4<>0,L4&":"&M4,"") -> MS:1
A5: 4 | B5: =IF(F5<>"",COUNTIF($J$2:J5,J5),"") -> 4 | C5: =IF(F5<>0,J5&":"&B5,"") -> Male:4 | D5: =IF(F5<>0,COUNTIF($K$2:K5,K5),"") -> 2 | E5: =IF(F5<>0,K5&":"&D5,"") -> MSEN:2 | F5: 333 | G5: 0.050069444 | H5: =IFERROR(VLOOKUP(F5, Entries!$B:$F, 2, FALSE()),"") -> Paul Lawton | I5: =IFERROR(VLOOKUP(F5, Entries!$B:$F, 3, FALSE()),"") -> Scarborough AC | J5: =IFERROR(VLOOKUP(F5, Entries!$B:$F, 4, FALSE()),"") -> Male | K5: =IFERROR(VLOOKUP(F5, Entries!$B:$F, 5, FALSE()),"") -> MSEN | L5: =LEFT(Table22[[#This Row],[Category]],2) -> MS | M5: =IF(F5<>0,COUNTIF($L$2:L5,L5),"") -> 2 | N5: =IF(F5<>0,L5&":"&M5,"") -> MS:2
A6: 5 | B6: =IF(F6<>"",COUNTIF($J$2:J6,J6),"") -> 5 | C6: =IF(F6<>0,J6&":"&B6,"") -> Male:5 | D6: =IF(F6<>0,COUNTIF($K$2:K6,K6),"") -> 1 | E6: =IF(F6<>0,K6&":"&D6,"") -> M45:1 | F6: 618 | G6: 0.051041667 | H6: =IFERROR(VLOOKUP(F6, Entries!$B:$F, 2, FALSE()),"") -> Ian Rowan | I6: =IFERROR(VLOOKUP(F6, Entries!$B:$F, 3, FALSE()),"") -> Esk Valley Fell Club | J6: =IFERROR(VLOOKUP(F6, Entries!$B:$F, 4, FALSE()),"") -> Male | K6: =IFERROR(VLOOKUP(F6, Entries!$B:$F, 5, FALSE()),"") -> M45 | L6: =LEFT(Table22[[#This Row],[Category]],2) -> M4 | M6: =IF(F6<>0,COUNTIF($L$2:L6,L6),"") -> 2 | N6: =IF(F6<>0,L6&":"&M6,"") -> M4:2
A7: 6 | B7: =IF(F7<>"",COUNTIF($J$2:J7,J7),"") -> 6 | C7: =IF(F7<>0,J7&":"&B7,"") -> Male:6 | D7: =IF(F7<>0,COUNTIF($K$2:K7,K7),"") -> 2 | E7: =IF(F7<>0,K7&":"&D7,"") -> M40:2 | F7: 511 | G7: 0.051423611 | H7: =IFERROR(VLOOKUP(F7, Entries!$B:$F, 2, FALSE()),"") -> Peter Walker | I7: =IFERROR(VLOOKUP(F7, Entries!$B:$F, 3, FALSE()),"") -> York Knavesmire Harriers | J7: =IFERROR(VLOOKUP(F7, Entries!$B:$F, 4, FALSE()),"") -> Male | K7: =IFERROR(VLOOKUP(F7, Entries!$B:$F, 5, FALSE()),"") -> M40 | L7: =LEFT(Table22[[#This Row],[Category]],2) -> M4 | M7: =IF(F7<>0,COUNTIF($L$2:L7,L7),"") -> 3 | N7: =IF(F7<>0,L7&":"&M7,"") -> M4:3
A8: 7 | B8: =IF(F8<>"",COUNTIF($J$2:J8,J8),"") -> 7 | C8: =IF(F8<>0,J8&":"&B8,"") -> Male:7 | D8: =IF(F8<>0,COUNTIF($K$2:K8,K8),"") -> 1 | E8: =IF(F8<>0,K8&":"&D8,"") -> M55:1 | F8: 804 | G8: 0.052349537 | H8: =IFERROR(VLOOKUP(F8, Entries!$B:$F, 2, FALSE()),"") -> Stephen Pugh | I8: =IFERROR(VLOOKUP(F8, Entries!$B:$F, 3, FALSE()),"") -> Esk Valley Fell Club | J8: =IFERROR(VLOOKUP(F8, Entries!$B:$F, 4, FALSE()),"") -> Male | K8: =IFERROR(VLOOKUP(F8, Entries!$B:$F, 5, FALSE()),"") -> M55 | L8: =LEFT(Table22[[#This Row],[Category]],2) -> M5 | M8: =IF(F8<>0,COUNTIF($L$2:L8,L8),"") -> 1 | N8: =IF(F8<>0,L8&":"&M8,"") -> M5:1
A9: 8 | B9: =IF(F9<>"",COUNTIF($J$2:J9,J9),"") -> 8 | C9: =IF(F9<>0,J9&":"&B9,"") -> Male:8 | D9: =IF(F9<>0,COUNTIF($K$2:K9,K9),"") -> 3 | E9: =IF(F9<>0,K9&":"&D9,"") -> M40:3 | F9: 543 | G9: 0.052488426 | H9: =IFERROR(VLOOKUP(F9, Entries!$B:$F, 2, FALSE()),"") -> Rorie McIntosh | I9: =IFERROR(VLOOKUP(F9, Entries!$B:$F, 3, FALSE()),"") -> Esk Valley Fell Club | J9: =IFERROR(VLOOKUP(F9, Entries!$B:$F, 4, FALSE()),"") -> Male | K9: =IFERROR(VLOOKUP(F9, Entries!$B:$F, 5, FALSE()),"") -> M40 | L9: =LEFT(Table22[[#This Row],[Category]],2) -> M4 | M9: =IF(F9<>0,COUNTIF($L$2:L9,L9),"") -> 4 | N9: =IF(F9<>0,L9&":"&M9,"") -> M4:4
A10: 9 | B10: =IF(F10<>"",COUNTIF($J$2:J10,J10),"") -> 9 | C10: =IF(F10<>0,J10&":"&B10,"") -> Male:9 | D10: =IF(F10<>0,COUNTIF($K$2:K10,K10),"") -> 2 | E10: =IF(F10<>0,K10&":"&D10,"") -> M45:2 | F10: 609 | G10: 0.053194444 | H10: =IFERROR(VLOOKUP(F10, Entries!$B:$F, 2, FALSE()),"") -> Damian Kilpin | I10: =IFERROR(VLOOKUP(F10, Entries!$B:$F, 3, FALSE()),"") -> Penistone Footpath Runners & AC | J10: =IFERROR(VLOOKUP(F10, Entries!$B:$F, 4, FALSE()),"") -> Male | K10: =IFERROR(VLOOKUP(F10, Entries!$B:$F, 5, FALSE()),"") -> M45 | L10: =LEFT(Table22[[#This Row],[Category]],2) -> M4 | M10: =IF(F10<>0,COUNTIF($L$2:L10,L10),"") -> 5 | N10: =IF(F10<>0,L10&":"&M10,"") -> M4:5
A11: 10 | B11: =IF(F11<>"",COUNTIF($J$2:J11,J11),"") -> 1 | C11: =IF(F11<>0,J11&":"&B11,"") -> Female:1 | D11: =IF(F11<>0,COUNTIF($K$2:K11,K11),"") -> 1 | E11: =IF(F11<>0,K11&":"&D11,"") -> W40:1 | F11: 100 | G11: 0.053263889 | H11: =IFERROR(VLOOKUP(F11, Entries!$B:$F, 2, FALSE()),"") -> Catherine Williamson | I11: =IFERROR(VLOOKUP(F11, Entries!$B:$F, 3, FALSE()),"") -> Loftus & Whitby AC | J11: =IFERROR(VLOOKUP(F11, Entries!$B:$F, 4, FALSE()),"") -> Female | K11: =IFERROR(VLOOKUP(F11, Entries!$B:$F, 5, FALSE()),"") -> W40 | L11: =LEFT(Table22[[#This Row],[Category]],2) -> W4 | M11: =IF(F11<>0,COUNTIF($L$2:L11,L11),"") -> 1 | N11: =IF(F11<>0,L11&":"&M11,"") -> W4:1
A12: 11 | B12: =IF(F12<>"",COUNTIF($J$2:J12,J12),"") -> 10 | C12: =IF(F12<>0,J12&":"&B12,"") -> Male:10 | D12: =IF(F12<>0,COUNTIF($K$2:K12,K12),"") -> 3 | E12: =IF(F12<>0,K12&":"&D12,"") -> MSEN:3 | F12: 435 | G12: 0.053310185 | H12: =IFERROR(VLOOKUP(F12, Entries!$B:$F, 2, FALSE()),"") -> Glynn Ellwood | I12: =IFERROR(VLOOKUP(F12, Entries!$B:$F, 3, FALSE()),"") -> York Knavesmire Harriers | J12: =IFERROR(VLOOKUP(F12, Entries!$B:$F, 4, FALSE()),"") -> Male | K12: =IFERROR(VLOOKUP(F12, Entries!$B:$F, 5, FALSE()),"") -> MSEN | L12: =LEFT(Table22[[#This Row],[Category]],2) -> MS | M12: =IF(F12<>0,COUNTIF($L$2:L12,L12),"") -> 3 | N12: =IF(F12<>0,L12&":"&M12,"") -> MS:3
A13: 12 | B13: =IF(F13<>"",COUNTIF($J$2:J13,J13),"") -> 11 | C13: =IF(F13<>0,J13&":"&B13,"") -> Male:11 | D13: =IF(F13<>0,COUNTIF($K$2:K13,K13),"") -> 4 | E13: =IF(F13<>0,K13&":"&D13,"") -> MSEN:4 | F13: 328 | G13: 0.05337963 | H13: =IFERROR(VLOOKUP(F13, Entries!$B:$F, 2, FALSE()),"") -> Alex Linsley | I13: =IFERROR(VLOOKUP(F13, Entries!$B:$F, 3, FALSE()),"") -> Individual# | J13: =IFERROR(VLOOKUP(F13, Entries!$B:$F, 4, FALSE()),"") -> Male | K13: =IFERROR(VLOOKUP(F13, Entries!$B:$F, 5, FALSE()),"") -> MSEN | L13: =LEFT(Table22[[#This Row],[Category]],2) -> MS | M13: =IF(F13<>0,COUNTIF($L$2:L13,L13),"") -> 4 | N13: =IF(F13<>0,L13&":"&M13,"") -> MS:4
... A92: 91 | B92: =IF(F92<>"",COUNTIF($J$2:J92,J92),"") -> 30 | C92: =IF(F92<>0,J92&":"&B92,"") -> Female:30 | D92: =IF(F92<>0,COUNTIF($K$2:K92,K92),"") -> 3 | E92: =IF(F92<>0,K92&":"&D92,"") -> W60:3 | F92: 274 | G92: 0.093946759 | H92: =IFERROR(VLOOKUP(F92, Entries!$B:$F, 2, FALSE()),"") -> Sally Kingscott | I92: =IFERROR(VLOOKUP(F92, Entries!$B:$F, 3, FALSE()),"") -> Scarborough AC | J92: =IFERROR(VLOOKUP(F92, Entries!$B:$F, 4, FALSE()),"") -> Female | K92: =IFERROR(VLOOKUP(F92, Entries!$B:$F, 5, FALSE()),"") -> W60 | L92: =LEFT(Table22[[#This Row],[Category]],2) -> W6 | M92: =IF(F92<>0,COUNTIF($L$2:L92,L92),"") -> 3 | N92: =IF(F92<>0,L92&":"&M92,"") -> W6:3
A93: 92 | B93: =IF(F93<>"",COUNTIF($J$2:J93,J93),"") | C93: =IF(F93<>0,J93&":"&B93,"") | D93: =IF(F93<>0,COUNTIF($K$2:K93,K93),"") | E93: =IF(F93<>0,K93&":"&D93,"") | H93: =IFERROR(VLOOKUP(F93, Entries!$B:$F, 2, FALSE()),"") | I93: =IFERROR(VLOOKUP(F93, Entries!$B:$F, 3, FALSE()),"") | J93: =IFERROR(VLOOKUP(F93, Entries!$B:$F, 4, FALSE()),"") | K93: =IFERROR(VLOOKUP(F93, Entries!$B:$F, 5, FALSE()),"") | L93: =LEFT(Table22[[#This Row],[Category]],2) | M93: =IF(F93<>0,COUNTIF($L$2:L93,L93),"") | N93: =IF(F93<>0,L93&":"&M93,"")
A94: 93 | B94: =IF(F94<>"",COUNTIF($J$2:J94,J94),"") | C94: =IF(F94<>0,J94&":"&B94,"") | D94: =IF(F94<>0,COUNTIF($K$2:K94,K94),"") | E94: =IF(F94<>0,K94&":"&D94,"") | H94: =IFERROR(VLOOKUP(F94, Entries!$B:$F, 2, FALSE()),"") | I94: =IFERROR(VLOOKUP(F94, Entries!$B:$F, 3, FALSE()),"") | J94: =IFERROR(VLOOKUP(F94, Entries!$B:$F, 4, FALSE()),"") | K94: =IFERROR(VLOOKUP(F94, Entries!$B:$F, 5, FALSE()),"") | L94: =LEFT(Table22[[#This Row],[Category]],2) | M94: =IF(F94<>0,COUNTIF($L$2:L94,L94),"") | N94: =IF(F94<>0,L94&":"&M94,"")
A95: 94 | B95: =IF(F95<>"",COUNTIF($J$2:J95,J95),"") | C95: =IF(F95<>0,J95&":"&B95,"") | D95: =IF(F95<>0,COUNTIF($K$2:K95,K95),"") | E95: =IF(F95<>0,K95&":"&D95,"") | H95: =IFERROR(VLOOKUP(F95, Entries!$B:$F, 2, FALSE()),"") | I95: =IFERROR(VLOOKUP(F95, Entries!$B:$F, 3, FALSE()),"") | J95: =IFERROR(VLOOKUP(F95, Entries!$B:$F, 4, FALSE()),"") | K95: =IFERROR(VLOOKUP(F95, Entries!$B:$F, 5, FALSE()),"") | L95: =LEFT(Table22[[#This Row],[Category]],2) | M95: =IF(F95<>0,COUNTIF($L$2:L95,L95),"") | N95: =IF(F95<>0,L95&":"&M95,"")
A96: 95 | B96: =IF(F96<>"",COUNTIF($J$2:J96,J96),"") | C96: =IF(F96<>0,J96&":"&B96,"") | D96: =IF(F96<>0,COUNTIF($K$2:K96,K96),"") | E96: =IF(F96<>0,K96&":"&D96,"") | H96: =IFERROR(VLOOKUP(F96, Entries!$B:$F, 2, FALSE()),"") | I96: =IFERROR(VLOOKUP(F96, Entries!$B:$F, 3, FALSE()),"") | J96: =IFERROR(VLOOKUP(F96, Entries!$B:$F, 4, FALSE()),"") | K96: =IFERROR(VLOOKUP(F96, Entries!$B:$F, 5, FALSE()),"") | L96: =LEFT(Table22[[#This Row],[Category]],2) | M96: =IF(F96<>0,COUNTIF($L$2:L96,L96),"") | N96: =IF(F96<>0,L96&":"&M96,"")
A97: 96 | B97: =IF(F97<>"",COUNTIF($J$2:J97,J97),"") | C97: =IF(F97<>0,J97&":"&B97,"") | D97: =IF(F97<>0,COUNTIF($K$2:K97,K97),"") | E97: =IF(F97<>0,K97&":"&D97,"") | H97: =IFERROR(VLOOKUP(F97, Entries!$B:$F, 2, FALSE()),"") | I97: =IFERROR(VLOOKUP(F97, Entries!$B:$F, 3, FALSE()),"") | J97: =IFERROR(VLOOKUP(F97, Entries!$B:$F, 4, FALSE()),"") | K97: =IFERROR(VLOOKUP(F97, Entries!$B:$F, 5, FALSE()),"") | L97: =LEFT(Table22[[#This Row],[Category]],2) | M97: =IF(F97<>0,COUNTIF($L$2:L97,L97),"") | N97: =IF(F97<>0,L97&":"&M97,"")
A98: 97 | B98: =IF(F98<>"",COUNTIF($J$2:J98,J98),"") | C98: =IF(F98<>0,J98&":"&B98,"") | D98: =IF(F98<>0,COUNTIF($K$2:K98,K98),"") | E98: =IF(F98<>0,K98&":"&D98,"") | H98: =IFERROR(VLOOKUP(F98, Entries!$B:$F, 2, FALSE()),"") | I98: =IFERROR(VLOOKUP(F98, Entries!$B:$F, 3, FALSE()),"") | J98: =IFERROR(VLOOKUP(F98, Entries!$B:$F, 4, FALSE()),"") | K98: =IFERROR(VLOOKUP(F98, Entries!$B:$F, 5, FALSE()),"") | L98: =LEFT(Table22[[#This Row],[Category]],2) | M98: =IF(F98<>0,COUNTIF($L$2:L98,L98),"") | N98: =IF(F98<>0,L98&":"&M98,"")
A99: 98 | B99: =IF(F99<>"",COUNTIF($J$2:J99,J99),"") | C99: =IF(F99<>0,J99&":"&B99,"") | D99: =IF(F99<>0,COUNTIF($K$2:K99,K99),"") | E99: =IF(F99<>0,K99&":"&D99,"") | H99: =IFERROR(VLOOKUP(F99, Entries!$B:$F, 2, FALSE()),"") | I99: =IFERROR(VLOOKUP(F99, Entries!$B:$F, 3, FALSE()),"") | J99: =IFERROR(VLOOKUP(F99, Entries!$B:$F, 4, FALSE()),"") | K99: =IFERROR(VLOOKUP(F99, Entries!$B:$F, 5, FALSE()),"") | L99: =LEFT(Table22[[#This Row],[Category]],2) | M99: =IF(F99<>0,COUNTIF($L$2:L99,L99),"") | N99: =IF(F99<>0,L99&":"&M99,"")
A100: 99 | B100: =IF(F100<>"",COUNTIF($J$2:J100,J100),"") | C100: =IF(F100<>0,J100&":"&B100,"") | D100: =IF(F100<>0,COUNTIF($K$2:K100,K100),"") | E100: =IF(F100<>0,K100&":"&D100,"") | H100: =IFERROR(VLOOKUP(F100, Entries!$B:$F, 2, FALSE()),"") | I100: =IFERROR(VLOOKUP(F100, Entries!$B:$F, 3, FALSE()),"") | J100: =IFERROR(VLOOKUP(F100, Entries!$B:$F, 4, FALSE()),"") | K100: =IFERROR(VLOOKUP(F100, Entries!$B:$F, 5, FALSE()),"") | L100: =LEFT(Table22[[#This Row],[Category]],2) | M100: =IF(F100<>0,COUNTIF($L$2:L100,L100),"") | N100: =IF(F100<>0,L100&":"&M100,"")
A101: 100 | B101: =IF(F101<>"",COUNTIF($J$2:J101,J101),"") | C101: =IF(F101<>0,J101&":"&B101,"") | D101: =IF(F101<>0,COUNTIF($K$2:K101,K101),"") | E101: =IF(F101<>0,K101&":"&D101,"") | H101: =IFERROR(VLOOKUP(F101, Entries!$B:$F, 2, FALSE()),"") | I101: =IFERROR(VLOOKUP(F101, Entries!$B:$F, 3, FALSE()),"") | J101: =IFERROR(VLOOKUP(F101, Entries!$B:$F, 4, FALSE()),"") | K101: =IFERROR(VLOOKUP(F101, Entries!$B:$F, 5, FALSE()),"") | L101: =LEFT(Table22[[#This Row],[Category]],2) | M101: =IF(F101<>0,COUNTIF($L$2:L101,L101),"") | N101: =IF(F101<>0,L101&":"&M101,"")
A102: 101 | B102: =IF(F102<>"",COUNTIF($J$2:J102,J102),"") | C102: =IF(F102<>0,J102&":"&B102,"") | D102: =IF(F102<>0,COUNTIF($K$2:K102,K102),"") | E102: =IF(F102<>0,K102&":"&D102,"") | H102: =IFERROR(VLOOKUP(F102, Entries!$B:$F, 2, FALSE()),"") | I102: =IFERROR(VLOOKUP(F102, Entries!$B:$F, 3, FALSE()),"") | J102: =IFERROR(VLOOKUP(F102, Entries!$B:$F, 4, FALSE()),"") | K102: =IFERROR(VLOOKUP(F102, Entries!$B:$F, 5, FALSE()),"") | L102: =LEFT(Table22[[#This Row],[Category]],2) | M102: =IF(F102<>0,COUNTIF($L$2:L102,L102),"") | N102: =IF(F102<>0,L102&":"&M102,"")
A103: 102 | B103: =IF(F103<>"",COUNTIF($J$2:J103,J103),"") | C103: =IF(F103<>0,J103&":"&B103,"") | D103: =IF(F103<>0,COUNTIF($K$2:K103,K103),"") | E103: =IF(F103<>0,K103&":"&D103,"") | H103: =IFERROR(VLOOKUP(F103, Entries!$B:$F, 2, FALSE()),"") | I103: =IFERROR(VLOOKUP(F103, Entries!$B:$F, 3, FALSE()),"") | J103: =IFERROR(VLOOKUP(F103, Entries!$B:$F, 4, FALSE()),"") | K103: =IFERROR(VLOOKUP(F103, Entries!$B:$F, 5, FALSE()),"") | L103: =LEFT(Table22[[#This Row],[Category]],2) | M103: =IF(F103<>0,COUNTIF($L$2:L103,L103),"") | N103: =IF(F103<>0,L103&":"&M103,"")
A104: 103 | B104: =IF(F104<>"",COUNTIF($J$2:J104,J104),"") | C104: =IF(F104<>0,J104&":"&B104,"") | D104: =IF(F104<>0,COUNTIF($K$2:K104,K104),"") | E104: =IF(F104<>0,K104&":"&D104,"") | H104: =IFERROR(VLOOKUP(F104, Entries!$B:$F, 2, FALSE()),"") | I104: =IFERROR(VLOOKUP(F104, Entries!$B:$F, 3, FALSE()),"") | J104: =IFERROR(VLOOKUP(F104, Entries!$B:$F, 4, FALSE()),"") | K104: =IFERROR(VLOOKUP(F104, Entries!$B:$F, 5, FALSE()),"") | L104: =LEFT(Table22[[#This Row],[Category]],2) | M104: =IF(F104<>0,COUNTIF($L$2:L104,L104),"") | N104: =IF(F104<>0,L104&":"&M104,"")
... A200: 199 | B200: =IF(F200<>"",COUNTIF($J$2:J200,J200),"") | C200: =IF(F200<>0,J200&":"&B200,"") | D200: =IF(F200<>0,COUNTIF($K$2:K200,K200),"") | E200: =IF(F200<>0,K200&":"&D200,"") | H200: =IFERROR(VLOOKUP(F200, Entries!$B:$F, 2, FALSE()),"") | I200: =IFERROR(VLOOKUP(F200, Entries!$B:$F, 3, FALSE()),"") | J200: =IFERROR(VLOOKUP(F200, Entries!$B:$F, 4, FALSE()),"") | K200: =IFERROR(VLOOKUP(F200, Entries!$B:$F, 5, FALSE()),"") | L200: =LEFT(Table22[[#This Row],[Category]],2) | M200: =IF(F200<>0,COUNTIF($L$2:L200,L200),"") | N200: =IF(F200<>0,L200&":"&M200,"")
A201: 200 | B201: =IF(F201<>"",COUNTIF($J$2:J201,J201),"") | C201: =IF(F201<>0,J201&":"&B201,"") | D201: =IF(F201<>0,COUNTIF($K$2:K201,K201),"") | E201: =IF(F201<>0,K201&":"&D201,"") | H201: =IFERROR(VLOOKUP(F201, Entries!$B:$F, 2, FALSE()),"") | I201: =IFERROR(VLOOKUP(F201, Entries!$B:$F, 3, FALSE()),"") | J201: =IFERROR(VLOOKUP(F201, Entries!$B:$F, 4, FALSE()),"") | K201: =IFERROR(VLOOKUP(F201, Entries!$B:$F, 5, FALSE()),"") | L201: =LEFT(Table22[[#This Row],[Category]],2) | M201: =IF(F201<>0,COUNTIF($L$2:L1510,L201),"") | N201: =IF(F201<>0,L201&":"&M201,"")
A202: 201 | B202: =IF(F202<>"",COUNTIF($J$2:J202,J202),"") | C202: =IF(F202<>0,J202&":"&B202,"") | D202: =IF(F202<>0,COUNTIF($K$2:K202,K202),"") | E202: =IF(F202<>0,K202&":"&D202,"") | H202: =IFERROR(VLOOKUP(F202, Entries!$B:$F, 2, FALSE()),"") | I202: =IFERROR(VLOOKUP(F202, Entries!$B:$F, 3, FALSE()),"") | J202: =IFERROR(VLOOKUP(F202, Entries!$B:$F, 4, FALSE()),"") | K202: =IFERROR(VLOOKUP(F202, Entries!$B:$F, 5, FALSE()),"") | L202: =LEFT(Table22[[#This Row],[Category]],2) | M202: =IF(F202<>0,COUNTIF($L$2:L202,L202),"") | N202: =IF(F202<>0,L202&":"&M202,"")
A203: 202 | B203: =IF(F203<>"",COUNTIF($J$2:J203,J203),"") | C203: =IF(F203<>0,J203&":"&B203,"") | D203: =IF(F203<>0,COUNTIF($K$2:K203,K203),"") | E203: =IF(F203<>0,K203&":"&D203,"") | H203: =IFERROR(VLOOKUP(F203, Entries!$B:$F, 2, FALSE()),"") | I203: =IFERROR(VLOOKUP(F203, Entries!$B:$F, 3, FALSE()),"") | J203: =IFERROR(VLOOKUP(F203, Entries!$B:$F, 4, FALSE()),"") | K203: =IFERROR(VLOOKUP(F203, Entries!$B:$F, 5, FALSE()),"") | L203: =LEFT(Table22[[#This Row],[Category]],2) | M203: =IF(F203<>0,COUNTIF($L$2:L203,L203),"") | N203: =IF(F203<>0,L203&":"&M203,"")
A204: 203 | B204: =IF(F204<>"",COUNTIF($J$2:J204,J204),"") | C204: =IF(F204<>0,J204&":"&B204,"") | D204: =IF(F204<>0,COUNTIF($K$2:K204,K204),"") | E204: =IF(F204<>0,K204&":"&D204,"") | H204: =IFERROR(VLOOKUP(F204, Entries!$B:$F, 2, FALSE()),"") | I204: =IFERROR(VLOOKUP(F204, Entries!$B:$F, 3, FALSE()),"") | J204: =IFERROR(VLOOKUP(F204, Entries!$B:$F, 4, FALSE()),"") | K204: =IFERROR(VLOOKUP(F204, Entries!$B:$F, 5, FALSE()),"") | L204: =LEFT(Table22[[#This Row],[Category]],2) | M204: =IF(F204<>0,COUNTIF($L$2:L204,L204),"") | N204: =IF(F204<>0,L204&":"&M204,"")
A205: 204 | B205: =IF(F205<>"",COUNTIF($J$2:J205,J205),"") | C205: =IF(F205<>0,J205&":"&B205,"") | D205: =IF(F205<>0,COUNTIF($K$2:K205,K205),"") | E205: =IF(F205<>0,K205&":"&D205,"") | H205: =IFERROR(VLOOKUP(F205, Entries!$B:$F, 2, FALSE()),"") | I205: =IFERROR(VLOOKUP(F205, Entries!$B:$F, 3, FALSE()),"") | J205: =IFERROR(VLOOKUP(F205, Entries!$B:$F, 4, FALSE()),"") | K205: =IFERROR(VLOOKUP(F205, Entries!$B:$F, 5, FALSE()),"") | L205: =LEFT(Table22[[#This Row],[Category]],2) | M205: =IF(F205<>0,COUNTIF($L$2:L205,L205),"") | N205: =IF(F205<>0,L205&":"&M205,"")
A206: 205 | B206: =IF(F206<>"",COUNTIF($J$2:J206,J206),"") | C206: =IF(F206<>0,J206&":"&B206,"") | D206: =IF(F206<>0,COUNTIF($K$2:K206,K206),"") | E206: =IF(F206<>0,K206&":"&D206,"") | H206: =IFERROR(VLOOKUP(F206, Entries!$B:$F, 2, FALSE()),"") | I206: =IFERROR(VLOOKUP(F206, Entries!$B:$F, 3, FALSE()),"") | J206: =IFERROR(VLOOKUP(F206, Entries!$B:$F, 4, FALSE()),"") | K206: =IFERROR(VLOOKUP(F206, Entries!$B:$F, 5, FALSE()),"") | L206: =LEFT(Table22[[#This Row],[Category]],2) | M206: =IF(F206<>0,COUNTIF($L$2:L206,L206),"") | N206: =IF(F206<>0,L206&":"&M206,"")
A207: 206 | B207: =IF(F207<>"",COUNTIF($J$2:J207,J207),"") | C207: =IF(F207<>0,J207&":"&B207,"") | D207: =IF(F207<>0,COUNTIF($K$2:K207,K207),"") | E207: =IF(F207<>0,K207&":"&D207,"") | H207: =IFERROR(VLOOKUP(F207, Entries!$B:$F, 2, FALSE()),"") | I207: =IFERROR(VLOOKUP(F207, Entries!$B:$F, 3, FALSE()),"") | J207: =IFERROR(VLOOKUP(F207, Entries!$B:$F, 4, FALSE()),"") | K207: =IFERROR(VLOOKUP(F207, Entries!$B:$F, 5, FALSE()),"") | L207: =LEFT(Table22[[#This Row],[Category]],2) | M207: =IF(F207<>0,COUNTIF($L$2:L207,L207),"") | N207: =IF(F207<>0,L207&":"&M207,"")
A208: 207 | B208: =IF(F208<>"",COUNTIF($J$2:J208,J208),"") | C208: =IF(F208<>0,J208&":"&B208,"") | D208: =IF(F208<>0,COUNTIF($K$2:K208,K208),"") | E208: =IF(F208<>0,K208&":"&D208,"") | H208: =IFERROR(VLOOKUP(F208, Entries!$B:$F, 2, FALSE()),"") | I208: =IFERROR(VLOOKUP(F208, Entries!$B:$F, 3, FALSE()),"") | J208: =IFERROR(VLOOKUP(F208, Entries!$B:$F, 4, FALSE()),"") | K208: =IFERROR(VLOOKUP(F208, Entries!$B:$F, 5, FALSE()),"") | L208: =LEFT(Table22[[#This Row],[Category]],2) | M208: =IF(F208<>0,COUNTIF($L$2:L208,L208),"") | N208: =IF(F208<>0,L208&":"&M208,"")
A209: 208 | B209: =IF(F209<>"",COUNTIF($J$2:J209,J209),"") | C209: =IF(F209<>0,J209&":"&B209,"") | D209: =IF(F209<>0,COUNTIF($K$2:K209,K209),"") | E209: =IF(F209<>0,K209&":"&D209,"") | H209: =IFERROR(VLOOKUP(F209, Entries!$B:$F, 2, FALSE()),"") | I209: =IFERROR(VLOOKUP(F209, Entries!$B:$F, 3, FALSE()),"") | J209: =IFERROR(VLOOKUP(F209, Entries!$B:$F, 4, FALSE()),"") | K209: =IFERROR(VLOOKUP(F209, Entries!$B:$F, 5, FALSE()),"") | L209: =LEFT(Table22[[#This Row],[Category]],2) | M209: =IF(F209<>0,COUNTIF($L$2:L209,L209),"") | N209: =IF(F209<>0,L209&":"&M209,"")
A210: 209 | B210: =IF(F210<>"",COUNTIF($J$2:J210,J210),"") | C210: =IF(F210<>0,J210&":"&B210,"") | D210: =IF(F210<>0,COUNTIF($K$2:K210,K210),"") | E210: =IF(F210<>0,K210&":"&D210,"") | H210: =IFERROR(VLOOKUP(F210, Entries!$B:$F, 2, FALSE()),"") | I210: =IFERROR(VLOOKUP(F210, Entries!$B:$F, 3, FALSE()),"") | J210: =IFERROR(VLOOKUP(F210, Entries!$B:$F, 4, FALSE()),"") | K210: =IFERROR(VLOOKUP(F210, Entries!$B:$F, 5, FALSE()),"") | L210: =LEFT(Table22[[#This Row],[Category]],2) | M210: =IF(F210<>0,COUNTIF($L$2:L210,L210),"") | N210: =IF(F210<>0,L210&":"&M210,"")
A211: 210 | B211: =IF(F211<>"",COUNTIF($J$2:J211,J211),"") | C211: =IF(F211<>0,J211&":"&B211,"") | D211: =IF(F211<>0,COUNTIF($K$2:K211,K211),"") | E211: =IF(F211<>0,K211&":"&D211,"") | H211: =IFERROR(VLOOKUP(F211, Entries!$B:$F, 2, FALSE()),"") | I211: =IFERROR(VLOOKUP(F211, Entries!$B:$F, 3, FALSE()),"") | J211: =IFERROR(VLOOKUP(F211, Entries!$B:$F, 4, FALSE()),"") | K211: =IFERROR(VLOOKUP(F211, Entries!$B:$F, 5, FALSE()),"") | L211: =LEFT(Table22[[#This Row],[Category]],2) | M211: =IF(F211<>0,COUNTIF($L$2:L211,L211),"") | N211: =IF(F211<>0,L211&":"&M211,"")
A212: 211 | B212: =IF(F212<>"",COUNTIF($J$2:J212,J212),"") | C212: =IF(F212<>0,J212&":"&B212,"") | D212: =IF(F212<>0,COUNTIF($K$2:K212,K212),"") | E212: =IF(F212<>0,K212&":"&D212,"") | H212: =IFERROR(VLOOKUP(F212, Entries!$B:$F, 2, FALSE()),"") | I212: =IFERROR(VLOOKUP(F212, Entries!$B:$F, 3, FALSE()),"") | J212: =IFERROR(VLOOKUP(F212, Entries!$B:$F, 4, FALSE()),"") | K212: =IFERROR(VLOOKUP(F212, Entries!$B:$F, 5, FALSE()),"") | L212: =LEFT(Table22[[#This Row],[Category]],2) | M212: =IF(F212<>0,COUNTIF($L$2:L212,L212),"") | N212: =IF(F212<>0,L212&":"&M212,"")
A213: 212 | B213: =IF(F213<>"",COUNTIF($J$2:J213,J213),"") | C213: =IF(F213<>0,J213&":"&B213,"") | D213: =IF(F213<>0,COUNTIF($K$2:K213,K213),"") | E213: =IF(F213<>0,K213&":"&D213,"") | H213: =IFERROR(VLOOKUP(F213, Entries!$B:$F, 2, FALSE()),"") | I213: =IFERROR(VLOOKUP(F213, Entries!$B:$F, 3, FALSE()),"") | J213: =IFERROR(VLOOKUP(F213, Entries!$B:$F, 4, FALSE()),"") | K213: =IFERROR(VLOOKUP(F213, Entries!$B:$F, 5, FALSE()),"") | L213: =LEFT(Table22[[#This Row],[Category]],2) | M213: =IF(F213<>0,COUNTIF($L$2:L213,L213),"") | N213: =IF(F213<>0,L213&":"&M213,"")
... A337: 336 | B337: =IF(F337<>"",COUNTIF($J$2:J337,J337),"") | C337: =IF(F337<>0,J337&":"&B337,"") | D337: =IF(F337<>0,COUNTIF($K$2:K337,K337),"") | E337: =IF(F337<>0,K337&":"&D337,"") | H337: =IFERROR(VLOOKUP(F337, Entries!$B:$F, 2, FALSE()),"") | I337: =IFERROR(VLOOKUP(F337, Entries!$B:$F, 3, FALSE()),"") | J337: =IFERROR(VLOOKUP(F337, Entries!$B:$F, 4, FALSE()),"") | K337: =IFERROR(VLOOKUP(F337, Entries!$B:$F, 5, FALSE()),"") | L337: =LEFT(Table22[[#This Row],[Category]],2) | M337: =IF(F337<>0,COUNTIF($L$2:L337,L337),"") | N337: =IF(F337<>0,L337&":"&M337,"")
A338: 337 | B338: =IF(F338<>"",COUNTIF($J$2:J338,J338),"") | C338: =IF(F338<>0,J338&":"&B338,"") | D338: =IF(F338<>0,COUNTIF($K$2:K338,K338),"") | E338: =IF(F338<>0,K338&":"&D338,"") | H338: =IFERROR(VLOOKUP(F338, Entries!$B:$F, 2, FALSE()),"") | I338: =IFERROR(VLOOKUP(F338, Entries!$B:$F, 3, FALSE()),"") | J338: =IFERROR(VLOOKUP(F338, Entries!$B:$F, 4, FALSE()),"") | K338: =IFERROR(VLOOKUP(F338, Entries!$B:$F, 5, FALSE()),"") | L338: =LEFT(Table22[[#This Row],[Category]],2) | M338: =IF(F338<>0,COUNTIF($L$2:L338,L338),"") | N338: =IF(F338<>0,L338&":"&M338,"") | R338: 383
A339: 338 | B339: =IF(F339<>"",COUNTIF($J$2:J339,J339),"") | C339: =IF(F339<>0,J339&":"&B339,"") | D339: =IF(F339<>0,COUNTIF($K$2:K339,K339),"") | E339: =IF(F339<>0,K339&":"&D339,"") | H339: =IFERROR(VLOOKUP(F339, Entries!$B:$F, 2, FALSE()),"") | I339: =IFERROR(VLOOKUP(F339, Entries!$B:$F, 3, FALSE()),"") | J339: =IFERROR(VLOOKUP(F339, Entries!$B:$F, 4, FALSE()),"") | K339: =IFERROR(VLOOKUP(F339, Entries!$B:$F, 5, FALSE()),"") | L339: =LEFT(Table22[[#This Row],[Category]],2) | M339: =IF(F339<>0,COUNTIF($L$2:L339,L339),"") | N339: =IF(F339<>0,L339&":"&M339,"")
A340: 339 | B340: =IF(F340<>"",COUNTIF($J$2:J340,J340),"") | C340: =IF(F340<>0,J340&":"&B340,"") | D340: =IF(F340<>0,COUNTIF($K$2:K340,K340),"") | E340: =IF(F340<>0,K340&":"&D340,"") | H340: =IFERROR(VLOOKUP(F340, Entries!$B:$F, 2, FALSE()),"") | I340: =IFERROR(VLOOKUP(F340, Entries!$B:$F, 3, FALSE()),"") | J340: =IFERROR(VLOOKUP(F340, Entries!$B:$F, 4, FALSE()),"") | K340: =IFERROR(VLOOKUP(F340, Entries!$B:$F, 5, FALSE()),"") | L340: =LEFT(Table22[[#This Row],[Category]],2) | M340: =IF(F340<>0,COUNTIF($L$2:L340,L340),"") | N340: =IF(F340<>0,L340&":"&M340,"")
A341: 340 | B341: =IF(F341<>"",COUNTIF($J$2:J341,J341),"") | C341: =IF(F341<>0,J341&":"&B341,"") | D341: =IF(F341<>0,COUNTIF($K$2:K341,K341),"") | E341: =IF(F341<>0,K341&":"&D341,"") | H341: =IFERROR(VLOOKUP(F341, Entries!$B:$F, 2, FALSE()),"") | I341: =IFERROR(VLOOKUP(F341, Entries!$B:$F, 3, FALSE()),"") | J341: =IFERROR(VLOOKUP(F341, Entries!$B:$F, 4, FALSE()),"") | K341: =IFERROR(VLOOKUP(F341, Entries!$B:$F, 5, FALSE()),"") | L341: =LEFT(Table22[[#This Row],[Category]],2) | M341: =IF(F341<>0,COUNTIF($L$2:L341,L341),"") | N341: =IF(F341<>0,L341&":"&M341,"")
A342: 341 | B342: =IF(F342<>"",COUNTIF($J$2:J342,J342),"") | C342: =IF(F342<>0,J342&":"&B342,"") | D342: =IF(F342<>0,COUNTIF($K$2:K342,K342),"") | E342: =IF(F342<>0,K342&":"&D342,"") | H342: =IFERROR(VLOOKUP(F342, Entries!$B:$F, 2, FALSE()),"") | I342: =IFERROR(VLOOKUP(F342, Entries!$B:$F, 3, FALSE()),"") | J342: =IFERROR(VLOOKUP(F342, Entries!$B:$F, 4, FALSE()),"") | K342: =IFERROR(VLOOKUP(F342, Entries!$B:$F, 5, FALSE()),"") | L342: =LEFT(Table22[[#This Row],[Category]],2) | M342: =IF(F342<>0,COUNTIF($L$2:L342,L342),"") | N342: =IF(F342<>0,L342&":"&M342,"")
A343: 342 | B343: =IF(F343<>"",COUNTIF($J$2:J343,J343),"") | C343: =IF(F343<>0,J343&":"&B343,"") | D343: =IF(F343<>0,COUNTIF($K$2:K343,K343),"") | E343: =IF(F343<>0,K343&":"&D343,"") | H343: =IFERROR(VLOOKUP(F343, Entries!$B:$F, 2, FALSE()),"") | I343: =IFERROR(VLOOKUP(F343, Entries!$B:$F, 3, FALSE()),"") | J343: =IFERROR(VLOOKUP(F343, Entries!$B:$F, 4, FALSE()),"") | K343: =IFERROR(VLOOKUP(F343, Entries!$B:$F, 5, FALSE()),"") | L343: =LEFT(Table22[[#This Row],[Category]],2) | M343: =IF(F343<>0,COUNTIF($L$2:L343,L343),"") | N343: =IF(F343<>0,L343&":"&M343,"")
A344: 343 | B344: =IF(F344<>"",COUNTIF($J$2:J344,J344),"") | C344: =IF(F344<>0,J344&":"&B344,"") | D344: =IF(F344<>0,COUNTIF($K$2:K344,K344),"") | E344: =IF(F344<>0,K344&":"&D344,"") | H344: =IFERROR(VLOOKUP(F344, Entries!$B:$F, 2, FALSE()),"") | I344: =IFERROR(VLOOKUP(F344, Entries!$B:$F, 3, FALSE()),"") | J344: =IFERROR(VLOOKUP(F344, Entries!$B:$F, 4, FALSE()),"") | K344: =IFERROR(VLOOKUP(F344, Entries!$B:$F, 5, FALSE()),"") | L344: =LEFT(Table22[[#This Row],[Category]],2) | M344: =IF(F344<>0,COUNTIF($L$2:L344,L344),"") | N344: =IF(F344<>0,L344&":"&M344,"")
A345: 344 | B345: =IF(F345<>"",COUNTIF($J$2:J345,J345),"") | C345: =IF(F345<>0,J345&":"&B345,"") | D345: =IF(F345<>0,COUNTIF($K$2:K345,K345),"") | E345: =IF(F345<>0,K345&":"&D345,"") | H345: =IFERROR(VLOOKUP(F345, Entries!$B:$F, 2, FALSE()),"") | I345: =IFERROR(VLOOKUP(F345, Entries!$B:$F, 3, FALSE()),"") | J345: =IFERROR(VLOOKUP(F345, Entries!$B:$F, 4, FALSE()),"") | K345: =IFERROR(VLOOKUP(F345, Entries!$B:$F, 5, FALSE()),"") | L345: =LEFT(Table22[[#This Row],[Category]],2) | M345: =IF(F345<>0,COUNTIF($L$2:L345,L345),"") | N345: =IF(F345<>0,L345&":"&M345,"")
A346: 345 | B346: =IF(F346<>"",COUNTIF($J$2:J346,J346),"") | C346: =IF(F346<>0,J346&":"&B346,"") | D346: =IF(F346<>0,COUNTIF($K$2:K346,K346),"") | E346: =IF(F346<>0,K346&":"&D346,"") | H346: =IFERROR(VLOOKUP(F346, Entries!$B:$F, 2, FALSE()),"") | I346: =IFERROR(VLOOKUP(F346, Entries!$B:$F, 3, FALSE()),"") | J346: =IFERROR(VLOOKUP(F346, Entries!$B:$F, 4, FALSE()),"") | K346: =IFERROR(VLOOKUP(F346, Entries!$B:$F, 5, FALSE()),"") | L346: =LEFT(Table22[[#This Row],[Category]],2) | M346: =IF(F346<>0,COUNTIF($L$2:L346,L346),"") | N346: =IF(F346<>0,L346&":"&M346,"")
A347: 346 | B347: =IF(F347<>"",COUNTIF($J$2:J347,J347),"") | C347: =IF(F347<>0,J347&":"&B347,"") | D347: =IF(F347<>0,COUNTIF($K$2:K347,K347),"") | E347: =IF(F347<>0,K347&":"&D347,"") | H347: =IFERROR(VLOOKUP(F347, Entries!$B:$F, 2, FALSE()),"") | I347: =IFERROR(VLOOKUP(F347, Entries!$B:$F, 3, FALSE()),"") | J347: =IFERROR(VLOOKUP(F347, Entries!$B:$F, 4, FALSE()),"") | K347: =IFERROR(VLOOKUP(F347, Entries!$B:$F, 5, FALSE()),"") | L347: =LEFT(Table22[[#This Row],[Category]],2) | M347: =IF(F347<>0,COUNTIF($L$2:L347,L347),"") | N347: =IF(F347<>0,L347&":"&M347,"")
A348: 347 | B348: =IF(F348<>"",COUNTIF($J$2:J348,J348),"") | C348: =IF(F348<>0,J348&":"&B348,"") | D348: =IF(F348<>0,COUNTIF($K$2:K348,K348),"") | E348: =IF(F348<>0,K348&":"&D348,"") | H348: =IFERROR(VLOOKUP(F348, Entries!$B:$F, 2, FALSE()),"") | I348: =IFERROR(VLOOKUP(F348, Entries!$B:$F, 3, FALSE()),"") | J348: =IFERROR(VLOOKUP(F348, Entries!$B:$F, 4, FALSE()),"") | K348: =IFERROR(VLOOKUP(F348, Entries!$B:$F, 5, FALSE()),"") | L348: =LEFT(Table22[[#This Row],[Category]],2) | M348: =IF(F348<>0,COUNTIF($L$2:L348,L348),"") | N348: =IF(F348<>0,L348&":"&M348,"")
A349: 348 | B349: =IF(F349<>"",COUNTIF($J$2:J349,J349),"") | C349: =IF(F349<>0,J349&":"&B349,"") | D349: =IF(F349<>0,COUNTIF($K$2:K349,K349),"") | E349: =IF(F349<>0,K349&":"&D349,"") | H349: =IFERROR(VLOOKUP(F349, Entries!$B:$F, 2, FALSE()),"") | I349: =IFERROR(VLOOKUP(F349, Entries!$B:$F, 3, FALSE()),"") | J349: =IFERROR(VLOOKUP(F349, Entries!$B:$F, 4, FALSE()),"") | K349: =IFERROR(VLOOKUP(F349, Entries!$B:$F, 5, FALSE()),"") | L349: =LEFT(Table22[[#This Row],[Category]],2) | M349: =IF(F349<>0,COUNTIF($L$2:L349,L349),"") | N349: =IF(F349<>0,L349&":"&M349,"")
A350: 349 | B350: =IF(F350<>"",COUNTIF($J$2:J350,J350),"") | C350: =IF(F350<>0,J350&":"&B350,"") | D350: =IF(F350<>0,COUNTIF($K$2:K350,K350),"") | E350: =IF(F350<>0,K350&":"&D350,"") | H350: =IFERROR(VLOOKUP(F350, Entries!$B:$F, 2, FALSE()),"") | I350: =IFERROR(VLOOKUP(F350, Entries!$B:$F, 3, FALSE()),"") | J350: =IFERROR(VLOOKUP(F350, Entries!$B:$F, 4, FALSE()),"") | K350: =IFERROR(VLOOKUP(F350, Entries!$B:$F, 5, FALSE()),"") | L350: =LEFT(Table22[[#This Row],[Category]],2) | M350: =IF(F350<>0,COUNTIF($L$2:L350,L350),"") | N350: =IF(F350<>0,L350&":"&M350,"")
... A500: 499 | B500: =IF(F500<>"",COUNTIF($J$2:J500,J500),"") | C500: =IF(F500<>0,J500&":"&B500,"") | D500: =IF(F500<>0,COUNTIF($K$2:K500,K500),"") | E500: =IF(F500<>0,K500&":"&D500,"") | H500: =IFERROR(VLOOKUP(F500, Entries!$B:$F, 2, FALSE()),"") | I500: =IFERROR(VLOOKUP(F500, Entries!$B:$F, 3, FALSE()),"") | J500: =IFERROR(VLOOKUP(F500, Entries!$B:$F, 4, FALSE()),"") | K500: =IFERROR(VLOOKUP(F500, Entries!$B:$F, 5, FALSE()),"") | L500: =LEFT(Table22[[#This Row],[Category]],2) | M500: =IF(F500<>0,COUNTIF($L$2:L500,L500),"") | N500: =IF(F500<>0,L500&":"&M500,"")
A501: 500 | B501: =IF(F501<>"",COUNTIF($J$2:J1510,J501),"") | C501: =IF(F501<>0,J501&":"&B501,"") | D501: =IF(F501<>0,COUNTIF($K$2:K1510,K501),"") | E501: =IF(F501<>0,K501&":"&D501,"") | H501: =IFERROR(VLOOKUP(F501, Entries!$B:$F, 2, FALSE()),"") | I501: =IFERROR(VLOOKUP(F501, Entries!$B:$F, 3, FALSE()),"") | J501: =IFERROR(VLOOKUP(F501, Entries!$B:$F, 4, FALSE()),"") | K501: =IFERROR(VLOOKUP(F501, Entries!$B:$F, 5, FALSE()),"") | L501: =LEFT(Table22[[#This Row],[Category]],2) | M501: =IF(F501<>0,COUNTIF($L$2:L1510,L501),"") | N501: =IF(F501<>0,L501&":"&M501,"")
A502: 501 | B502: =IF(F502<>"",COUNTIF($J$2:J502,J502),"") | C502: =IF(F502<>0,J502&":"&B502,"") | D502: =IF(F502<>0,COUNTIF($K$2:K502,K502),"") | E502: =IF(F502<>0,K502&":"&D502,"") | H502: =IFERROR(VLOOKUP(F502, Entries!$B$2:$F$601, 2, FALSE()),"") | I502: =IFERROR(VLOOKUP(F502, Entries!$B$2:$F$601, 3, FALSE()),"") | J502: =IFERROR(VLOOKUP(F502, Entries!$B$2:$F$601, 4, FALSE()),"") | K502: =IFERROR(VLOOKUP(F502, Entries!$B$2:$F$601, 5, FALSE()),"") | L502: =LEFT(Table22[[#This Row],[Category]],2) | M502: =IF(F502<>0,COUNTIF($L$2:L502,L502),"") | N502: =IF(F502<>0,L502&":"&M502,"")
A503: 502 | B503: =IF(F503<>"",COUNTIF($J$2:J503,J503),"") | C503: =IF(F503<>0,J503&":"&B503,"") | D503: =IF(F503<>0,COUNTIF($K$2:K503,K503),"") | E503: =IF(F503<>0,K503&":"&D503,"") | H503: =IFERROR(VLOOKUP(F503, Entries!$B$2:$F$601, 2, FALSE()),"") | I503: =IFERROR(VLOOKUP(F503, Entries!$B$2:$F$601, 3, FALSE()),"") | J503: =IFERROR(VLOOKUP(F503, Entries!$B$2:$F$601, 4, FALSE()),"") | K503: =IFERROR(VLOOKUP(F503, Entries!$B$2:$F$601, 5, FALSE()),"") | L503: =LEFT(Table22[[#This Row],[Category]],2) | M503: =IF(F503<>0,COUNTIF($L$2:L503,L503),"") | N503: =IF(F503<>0,L503&":"&M503,"")
A504: 503 | B504: =IF(F504<>"",COUNTIF($J$2:J504,J504),"") | C504: =IF(F504<>0,J504&":"&B504,"") | D504: =IF(F504<>0,COUNTIF($K$2:K504,K504),"") | E504: =IF(F504<>0,K504&":"&D504,"") | H504: =IFERROR(VLOOKUP(F504, Entries!$B$2:$F$601, 2, FALSE()),"") | I504: =IFERROR(VLOOKUP(F504, Entries!$B$2:$F$601, 3, FALSE()),"") | J504: =IFERROR(VLOOKUP(F504, Entries!$B$2:$F$601, 4, FALSE()),"") | K504: =IFERROR(VLOOKUP(F504, Entries!$B$2:$F$601, 5, FALSE()),"") | L504: =LEFT(Table22[[#This Row],[Category]],2) | M504: =IF(F504<>0,COUNTIF($L$2:L504,L504),"") | N504: =IF(F504<>0,L504&":"&M504,"")
A505: 504 | B505: =IF(F505<>"",COUNTIF($J$2:J505,J505),"") | C505: =IF(F505<>0,J505&":"&B505,"") | D505: =IF(F505<>0,COUNTIF($K$2:K505,K505),"") | E505: =IF(F505<>0,K505&":"&D505,"") | H505: =IFERROR(VLOOKUP(F505, Entries!$B$2:$F$601, 2, FALSE()),"") | I505: =IFERROR(VLOOKUP(F505, Entries!$B$2:$F$601, 3, FALSE()),"") | J505: =IFERROR(VLOOKUP(F505, Entries!$B$2:$F$601, 4, FALSE()),"") | K505: =IFERROR(VLOOKUP(F505, Entries!$B$2:$F$601, 5, FALSE()),"") | L505: =LEFT(Table22[[#This Row],[Category]],2) | M505: =IF(F505<>0,COUNTIF($L$2:L505,L505),"") | N505: =IF(F505<>0,L505&":"&M505,"")
A506: 505 | B506: =IF(F506<>"",COUNTIF($J$2:J506,J506),"") | C506: =IF(F506<>0,J506&":"&B506,"") | D506: =IF(F506<>0,COUNTIF($K$2:K506,K506),"") | E506: =IF(F506<>0,K506&":"&D506,"") | H506: =IFERROR(VLOOKUP(F506, Entries!$B$2:$F$601, 2, FALSE()),"") | I506: =IFERROR(VLOOKUP(F506, Entries!$B$2:$F$601, 3, FALSE()),"") | J506: =IFERROR(VLOOKUP(F506, Entries!$B$2:$F$601, 4, FALSE()),"") | K506: =IFERROR(VLOOKUP(F506, Entries!$B$2:$F$601, 5, FALSE()),"") | L506: =LEFT(Table22[[#This Row],[Category]],2) | M506: =IF(F506<>0,COUNTIF($L$2:L506,L506),"") | N506: =IF(F506<>0,L506&":"&M506,"")
A507: 506 | B507: =IF(F507<>"",COUNTIF($J$2:J507,J507),"") | C507: =IF(F507<>0,J507&":"&B507,"") | D507: =IF(F507<>0,COUNTIF($K$2:K507,K507),"") | E507: =IF(F507<>0,K507&":"&D507,"") | H507: =IFERROR(VLOOKUP(F507, Entries!$B$2:$F$601, 2, FALSE()),"") | I507: =IFERROR(VLOOKUP(F507, Entries!$B$2:$F$601, 3, FALSE()),"") | J507: =IFERROR(VLOOKUP(F507, Entries!$B$2:$F$601, 4, FALSE()),"") | K507: =IFERROR(VLOOKUP(F507, Entries!$B$2:$F$601, 5, FALSE()),"") | L507: =LEFT(Table22[[#This Row],[Category]],2) | M507: =IF(F507<>0,COUNTIF($L$2:L507,L507),"") | N507: =IF(F507<>0,L507&":"&M507,"")
A508: 507 | B508: =IF(F508<>"",COUNTIF($J$2:J508,J508),"") | C508: =IF(F508<>0,J508&":"&B508,"") | D508: =IF(F508<>0,COUNTIF($K$2:K508,K508),"") | E508: =IF(F508<>0,K508&":"&D508,"") | H508: =IFERROR(VLOOKUP(F508, Entries!$B$2:$F$601, 2, FALSE()),"") | I508: =IFERROR(VLOOKUP(F508, Entries!$B$2:$F$601, 3, FALSE()),"") | J508: =IFERROR(VLOOKUP(F508, Entries!$B$2:$F$601, 4, FALSE()),"") | K508: =IFERROR(VLOOKUP(F508, Entries!$B$2:$F$601, 5, FALSE()),"") | L508: =LEFT(Table22[[#This Row],[Category]],2) | M508: =IF(F508<>0,COUNTIF($L$2:L508,L508),"") | N508: =IF(F508<>0,L508&":"&M508,"")
A509: 508 | B509: =IF(F509<>"",COUNTIF($J$2:J509,J509),"") | C509: =IF(F509<>0,J509&":"&B509,"") | D509: =IF(F509<>0,COUNTIF($K$2:K509,K509),"") | E509: =IF(F509<>0,K509&":"&D509,"") | H509: =IFERROR(VLOOKUP(F509, Entries!$B$2:$F$601, 2, FALSE()),"") | I509: =IFERROR(VLOOKUP(F509, Entries!$B$2:$F$601, 3, FALSE()),"") | J509: =IFERROR(VLOOKUP(F509, Entries!$B$2:$F$601, 4, FALSE()),"") | K509: =IFERROR(VLOOKUP(F509, Entries!$B$2:$F$601, 5, FALSE()),"") | L509: =LEFT(Table22[[#This Row],[Category]],2) | M509: =IF(F509<>0,COUNTIF($L$2:L509,L509),"") | N509: =IF(F509<>0,L509&":"&M509,"")
A510: 509 | B510: =IF(F510<>"",COUNTIF($J$2:J510,J510),"") | C510: =IF(F510<>0,J510&":"&B510,"") | D510: =IF(F510<>0,COUNTIF($K$2:K510,K510),"") | E510: =IF(F510<>0,K510&":"&D510,"") | H510: =IFERROR(VLOOKUP(F510, Entries!$B$2:$F$601, 2, FALSE()),"") | I510: =IFERROR(VLOOKUP(F510, Entries!$B$2:$F$601, 3, FALSE()),"") | J510: =IFERROR(VLOOKUP(F510, Entries!$B$2:$F$601, 4, FALSE()),"") | K510: =IFERROR(VLOOKUP(F510, Entries!$B$2:$F$601, 5, FALSE()),"") | L510: =LEFT(Table22[[#This Row],[Category]],2) | M510: =IF(F510<>0,COUNTIF($L$2:L510,L510),"") | N510: =IF(F510<>0,L510&":"&M510,"")
A511: 510 | B511: =IF(F511<>"",COUNTIF($J$2:J511,J511),"") | C511: =IF(F511<>0,J511&":"&B511,"") | D511: =IF(F511<>0,COUNTIF($K$2:K511,K511),"") | E511: =IF(F511<>0,K511&":"&D511,"") | H511: =IFERROR(VLOOKUP(F511, Entries!$B$2:$F$601, 2, FALSE()),"") | I511: =IFERROR(VLOOKUP(F511, Entries!$B$2:$F$601, 3, FALSE()),"") | J511: =IFERROR(VLOOKUP(F511, Entries!$B$2:$F$601, 4, FALSE()),"") | K511: =IFERROR(VLOOKUP(F511, Entries!$B$2:$F$601, 5, FALSE()),"") | L511: =LEFT(Table22[[#This Row],[Category]],2) | M511: =IF(F511<>0,COUNTIF($L$2:L511,L511),"") | N511: =IF(F511<>0,L511&":"&M511,"")
A512: 511 | B512: =IF(F512<>"",COUNTIF($J$2:J512,J512),"") | C512: =IF(F512<>0,J512&":"&B512,"") | D512: =IF(F512<>0,COUNTIF($K$2:K512,K512),"") | E512: =IF(F512<>0,K512&":"&D512,"") | H512: =IFERROR(VLOOKUP(F512, Entries!$B$2:$F$601, 2, FALSE()),"") | I512: =IFERROR(VLOOKUP(F512, Entries!$B$2:$F$601, 3, FALSE()),"") | J512: =IFERROR(VLOOKUP(F512, Entries!$B$2:$F$601, 4, FALSE()),"") | K512: =IFERROR(VLOOKUP(F512, Entries!$B$2:$F$601, 5, FALSE()),"") | L512: =LEFT(Table22[[#This Row],[Category]],2) | M512: =IF(F512<>0,COUNTIF($L$2:L512,L512),"") | N512: =IF(F512<>0,L512&":"&M512,"")
A513: 512 | B513: =IF(F513<>"",COUNTIF($J$2:J513,J513),"") | C513: =IF(F513<>0,J513&":"&B513,"") | D513: =IF(F513<>0,COUNTIF($K$2:K513,K513),"") | E513: =IF(F513<>0,K513&":"&D513,"") | H513: =IFERROR(VLOOKUP(F513, Entries!$B$2:$F$601, 2, FALSE()),"") | I513: =IFERROR(VLOOKUP(F513, Entries!$B$2:$F$601, 3, FALSE()),"") | J513: =IFERROR(VLOOKUP(F513, Entries!$B$2:$F$601, 4, FALSE()),"") | K513: =IFERROR(VLOOKUP(F513, Entries!$B$2:$F$601, 5, FALSE()),"") | L513: =LEFT(Table22[[#This Row],[Category]],2) | M513: =IF(F513<>0,COUNTIF($L$2:L513,L513),"") | N513: =IF(F513<>0,L513&":"&M513,"")
... A653: 652 | B653: =IF(F653<>"",COUNTIF($J$2:J653,J653),"") | C653: =IF(F653<>0,J653&":"&B653,"") | D653: =IF(F653<>0,COUNTIF($K$2:K653,K653),"") | E653: =IF(F653<>0,K653&":"&D653,"") | H653: =IFERROR(VLOOKUP(F653, Entries!$B$2:$F$601, 2, FALSE()),"") | I653: =IFERROR(VLOOKUP(F653, Entries!$B$2:$F$601, 3, FALSE()),"") | J653: =IFERROR(VLOOKUP(F653, Entries!$B$2:$F$601, 4, FALSE()),"") | K653: =IFERROR(VLOOKUP(F653, Entries!$B$2:$F$601, 5, FALSE()),"") | L653: =LEFT(Table22[[#This Row],[Category]],2) | M653: =IF(F653<>0,COUNTIF($L$2:L653,L653),"") | N653: =IF(F653<>0,L653&":"&M653,"")
A654: 653 | B654: =IF(F654<>"",COUNTIF($J$2:J654,J654),"") | C654: =IF(F654<>0,J654&":"&B654,"") | D654: =IF(F654<>0,COUNTIF($K$2:K654,K654),"") | E654: =IF(F654<>0,K654&":"&D654,"") | H654: =IFERROR(VLOOKUP(F654, Entries!$B:$F, 2, FALSE()),"") | I654: =IFERROR(VLOOKUP(F654, Entries!$B:$F, 3, FALSE()),"") | J654: =IFERROR(VLOOKUP(F654, Entries!$B:$F, 4, FALSE()),"") | K654: =IFERROR(VLOOKUP(F654, Entries!$B:$F, 5, FALSE()),"") | L654: =LEFT(Table22[[#This Row],[Category]],2) | M654: =IF(F654<>0,COUNTIF($L$2:L654,L654),"") | N654: =IF(F654<>0,L654&":"&M654,"")
A655: 654 | B655: =IF(F655<>"",COUNTIF($J$2:J655,J655),"") | C655: =IF(F655<>0,J655&":"&B655,"") | D655: =IF(F655<>0,COUNTIF($K$2:K655,K655),"") | E655: =IF(F655<>0,K655&":"&D655,"") | H655: =IFERROR(VLOOKUP(F655, Entries!$B:$F, 2, FALSE()),"") | I655: =IFERROR(VLOOKUP(F655, Entries!$B:$F, 3, FALSE()),"") | J655: =IFERROR(VLOOKUP(F655, Entries!$B:$F, 4, FALSE()),"") | K655: =IFERROR(VLOOKUP(F655, Entries!$B:$F, 5, FALSE()),"") | L655: =LEFT(Table22[[#This Row],[Category]],2) | M655: =IF(F655<>0,COUNTIF($L$2:L655,L655),"") | N655: =IF(F655<>0,L655&":"&M655,"")
A656: 655 | B656: =IF(F656<>"",COUNTIF($J$2:J656,J656),"") | C656: =IF(F656<>0,J656&":"&B656,"") | D656: =IF(F656<>0,COUNTIF($K$2:K656,K656),"") | E656: =IF(F656<>0,K656&":"&D656,"") | H656: =IFERROR(VLOOKUP(F656, Entries!$B:$F, 2, FALSE()),"") | I656: =IFERROR(VLOOKUP(F656, Entries!$B:$F, 3, FALSE()),"") | J656: =IFERROR(VLOOKUP(F656, Entries!$B:$F, 4, FALSE()),"") | K656: =IFERROR(VLOOKUP(F656, Entries!$B:$F, 5, FALSE()),"") | L656: =LEFT(Table22[[#This Row],[Category]],2) | M656: =IF(F656<>0,COUNTIF($L$2:L656,L656),"") | N656: =IF(F656<>0,L656&":"&M656,"")
A657: 656 | B657: =IF(F657<>"",COUNTIF($J$2:J657,J657),"") | C657: =IF(F657<>0,J657&":"&B657,"") | D657: =IF(F657<>0,COUNTIF($K$2:K657,K657),"") | E657: =IF(F657<>0,K657&":"&D657,"") | H657: =IFERROR(VLOOKUP(F657, Entries!$B:$F, 2, FALSE()),"") | I657: =IFERROR(VLOOKUP(F657, Entries!$B:$F, 3, FALSE()),"") | J657: =IFERROR(VLOOKUP(F657, Entries!$B:$F, 4, FALSE()),"") | K657: =IFERROR(VLOOKUP(F657, Entries!$B:$F, 5, FALSE()),"") | L657: =LEFT(Table22[[#This Row],[Category]],2) | M657: =IF(F657<>0,COUNTIF($L$2:L657,L657),"") | N657: =IF(F657<>0,L657&":"&M657,"")
A658: 657 | B658: =IF(F658<>"",COUNTIF($J$2:J658,J658),"") | C658: =IF(F658<>0,J658&":"&B658,"") | D658: =IF(F658<>0,COUNTIF($K$2:K658,K658),"") | E658: =IF(F658<>0,K658&":"&D658,"") | H658: =IFERROR(VLOOKUP(F658, Entries!$B:$F, 2, FALSE()),"") | I658: =IFERROR(VLOOKUP(F658, Entries!$B:$F, 3, FALSE()),"") | J658: =IFERROR(VLOOKUP(F658, Entries!$B:$F, 4, FALSE()),"") | K658: =IFERROR(VLOOKUP(F658, Entries!$B:$F, 5, FALSE()),"") | L658: =LEFT(Table22[[#This Row],[Category]],2) | M658: =IF(F658<>0,COUNTIF($L$2:L658,L658),"") | N658: =IF(F658<>0,L658&":"&M658,"")
A659: 658 | B659: =IF(F659<>"",COUNTIF($J$2:J659,J659),"") | C659: =IF(F659<>0,J659&":"&B659,"") | D659: =IF(F659<>0,COUNTIF($K$2:K659,K659),"") | E659: =IF(F659<>0,K659&":"&D659,"") | H659: =IFERROR(VLOOKUP(F659, Entries!$B:$F, 2, FALSE()),"") | I659: =IFERROR(VLOOKUP(F659, Entries!$B:$F, 3, FALSE()),"") | J659: =IFERROR(VLOOKUP(F659, Entries!$B:$F, 4, FALSE()),"") | K659: =IFERROR(VLOOKUP(F659, Entries!$B:$F, 5, FALSE()),"") | L659: =LEFT(Table22[[#This Row],[Category]],2) | M659: =IF(F659<>0,COUNTIF($L$2:L659,L659),"") | N659: =IF(F659<>0,L659&":"&M659,"")
A660: 659 | B660: =IF(F660<>"",COUNTIF($J$2:J660,J660),"") | C660: =IF(F660<>0,J660&":"&B660,"") | D660: =IF(F660<>0,COUNTIF($K$2:K660,K660),"") | E660: =IF(F660<>0,K660&":"&D660,"") | H660: =IFERROR(VLOOKUP(F660, Entries!$B:$F, 2, FALSE()),"") | I660: =IFERROR(VLOOKUP(F660, Entries!$B:$F, 3, FALSE()),"") | J660: =IFERROR(VLOOKUP(F660, Entries!$B:$F, 4, FALSE()),"") | K660: =IFERROR(VLOOKUP(F660, Entries!$B:$F, 5, FALSE()),"") | L660: =LEFT(Table22[[#This Row],[Category]],2) | M660: =IF(F660<>0,COUNTIF($L$2:L660,L660),"") | N660: =IF(F660<>0,L660&":"&M660,"")
A661: 660 | B661: =IF(F661<>"",COUNTIF($J$2:J661,J661),"") | C661: =IF(F661<>0,J661&":"&B661,"") | D661: =IF(F661<>0,COUNTIF($K$2:K661,K661),"") | E661: =IF(F661<>0,K661&":"&D661,"") | H661: =IFERROR(VLOOKUP(F661, Entries!$B:$F, 2, FALSE()),"") | I661: =IFERROR(VLOOKUP(F661, Entries!$B:$F, 3, FALSE()),"") | J661: =IFERROR(VLOOKUP(F661, Entries!$B:$F, 4, FALSE()),"") | K661: =IFERROR(VLOOKUP(F661, Entries!$B:$F, 5, FALSE()),"") | L661: =LEFT(Table22[[#This Row],[Category]],2) | M661: =IF(F661<>0,COUNTIF($L$2:L661,L661),"") | N661: =IF(F661<>0,L661&":"&M661,"")
A662: 661 | B662: =IF(F662<>"",COUNTIF($J$2:J662,J662),"") | C662: =IF(F662<>0,J662&":"&B662,"") | D662: =IF(F662<>0,COUNTIF($K$2:K662,K662),"") | E662: =IF(F662<>0,K662&":"&D662,"") | H662: =IFERROR(VLOOKUP(F662, Entries!$B:$F, 2, FALSE()),"") | I662: =IFERROR(VLOOKUP(F662, Entries!$B:$F, 3, FALSE()),"") | J662: =IFERROR(VLOOKUP(F662, Entries!$B:$F, 4, FALSE()),"") | K662: =IFERROR(VLOOKUP(F662, Entries!$B:$F, 5, FALSE()),"") | L662: =LEFT(Table22[[#This Row],[Category]],2) | M662: =IF(F662<>0,COUNTIF($L$2:L662,L662),"") | N662: =IF(F662<>0,L662&":"&M662,"")
A663: 662 | B663: =IF(F663<>"",COUNTIF($J$2:J663,J663),"") | C663: =IF(F663<>0,J663&":"&B663,"") | D663: =IF(F663<>0,COUNTIF($K$2:K663,K663),"") | E663: =IF(F663<>0,K663&":"&D663,"") | H663: =IFERROR(VLOOKUP(F663, Entries!$B:$F, 2, FALSE()),"") | I663: =IFERROR(VLOOKUP(F663, Entries!$B:$F, 3, FALSE()),"") | J663: =IFERROR(VLOOKUP(F663, Entries!$B:$F, 4, FALSE()),"") | K663: =IFERROR(VLOOKUP(F663, Entries!$B:$F, 5, FALSE()),"") | L663: =LEFT(Table22[[#This Row],[Category]],2) | M663: =IF(F663<>0,COUNTIF($L$2:L663,L663),"") | N663: =IF(F663<>0,L663&":"&M663,"")
A664: 663 | B664: =IF(F664<>"",COUNTIF($J$2:J664,J664),"") | C664: =IF(F664<>0,J664&":"&B664,"") | D664: =IF(F664<>0,COUNTIF($K$2:K664,K664),"") | E664: =IF(F664<>0,K664&":"&D664,"") | H664: =IFERROR(VLOOKUP(F664, Entries!$B:$F, 2, FALSE()),"") | I664: =IFERROR(VLOOKUP(F664, Entries!$B:$F, 3, FALSE()),"") | J664: =IFERROR(VLOOKUP(F664, Entries!$B:$F, 4, FALSE()),"") | K664: =IFERROR(VLOOKUP(F664, Entries!$B:$F, 5, FALSE()),"") | L664: =LEFT(Table22[[#This Row],[Category]],2) | M664: =IF(F664<>0,COUNTIF($L$2:L664,L664),"") | N664: =IF(F664<>0,L664&":"&M664,"")
A665: 664 | B665: =IF(F665<>"",COUNTIF($J$2:J665,J665),"") | C665: =IF(F665<>0,J665&":"&B665,"") | D665: =IF(F665<>0,COUNTIF($K$2:K665,K665),"") | E665: =IF(F665<>0,K665&":"&D665,"") | H665: =IFERROR(VLOOKUP(F665, Entries!$B:$F, 2, FALSE()),"") | I665: =IFERROR(VLOOKUP(F665, Entries!$B:$F, 3, FALSE()),"") | J665: =IFERROR(VLOOKUP(F665, Entries!$B:$F, 4, FALSE()),"") | K665: =IFERROR(VLOOKUP(F665, Entries!$B:$F, 5, FALSE()),"") | L665: =LEFT(Table22[[#This Row],[Category]],2) | M665: =IF(F665<>0,COUNTIF($L$2:L665,L665),"") | N665: =IF(F665<>0,L665&":"&M665,"")
... A1501: 1500 | B1501: =IF(F1501<>"",COUNTIF($J$2:J1501,J1501),"") | C1501: =IF(F1501<>0,J1501&":"&B1501,"") | D1501: =IF(F1501<>0,COUNTIF($K$2:K1501,K1501),"") | E1501: =IF(F1501<>0,K1501&":"&D1501,"") | H1501: =IFERROR(VLOOKUP(F1501, Entries!$B:$F, 2, FALSE()),"") | I1501: =IFERROR(VLOOKUP(F1501, Entries!$B:$F, 3, FALSE()),"") | J1501: =IFERROR(VLOOKUP(F1501, Entries!$B:$F, 4, FALSE()),"") | K1501: =IFERROR(VLOOKUP(F1501, Entries!$B:$F, 5, FALSE()),"") | L1501: =LEFT(Table22[[#This Row],[Category]],2) | M1501: =IF(F1501<>0,COUNTIF($L$2:L1501,L1501),"") | N1501: =IF(F1501<>0,L1501&":"&M1501,"")
B1502: =IF(F1502<>"",COUNTIF($J$2:J1502,J1502),"") | C1502: =IF(F1502<>0,J1502&":"&B1502,"") | D1502: =IF(F1502<>0,COUNTIF($K$2:K1502,K1502),"") | E1502: =IF(F1502<>0,K1502&":"&D1502,"") | H1502: =IFERROR(VLOOKUP(F1502, Entries!$B:$F, 2, FALSE()),"") | I1502: =IFERROR(VLOOKUP(F1502, Entries!$B:$F, 3, FALSE()),"") | J1502: =IFERROR(VLOOKUP(F1502, Entries!$B:$F, 4, FALSE()),"") | K1502: =IFERROR(VLOOKUP(F1502, Entries!$B:$F, 5, FALSE()),"") | L1502: =LEFT(Table22[[#This Row],[Category]],2) | M1502: =IF(F1502<>0,COUNTIF($L$2:L1502,L1502),"") | N1502: =IF(F1502<>0,L1502&":"&M1502,"")
B1503: =IF(F1503<>"",COUNTIF($J$2:J1503,J1503),"") | C1503: =IF(F1503<>0,J1503&":"&B1503,"") | D1503: =IF(F1503<>0,COUNTIF($K$2:K1503,K1503),"") | E1503: =IF(F1503<>0,K1503&":"&D1503,"") | H1503: =IFERROR(VLOOKUP(F1503, Entries!$B:$F, 2, FALSE()),"") | I1503: =IFERROR(VLOOKUP(F1503, Entries!$B:$F, 3, FALSE()),"") | J1503: =IFERROR(VLOOKUP(F1503, Entries!$B:$F, 4, FALSE()),"") | K1503: =IFERROR(VLOOKUP(F1503, Entries!$B:$F, 5, FALSE()),"") | L1503: =LEFT(Table22[[#This Row],[Category]],2) | M1503: =IF(F1503<>0,COUNTIF($L$2:L1503,L1503),"") | N1503: =IF(F1503<>0,L1503&":"&M1503,"")
B1504: =IF(F1504<>"",COUNTIF($J$2:J1504,J1504),"") | C1504: =IF(F1504<>0,J1504&":"&B1504,"") | D1504: =IF(F1504<>0,COUNTIF($K$2:K1504,K1504),"") | E1504: =IF(F1504<>0,K1504&":"&D1504,"") | H1504: =IFERROR(VLOOKUP(F1504, Entries!$B:$F, 2, FALSE()),"") | I1504: =IFERROR(VLOOKUP(F1504, Entries!$B:$F, 3, FALSE()),"") | J1504: =IFERROR(VLOOKUP(F1504, Entries!$B:$F, 4, FALSE()),"") | K1504: =IFERROR(VLOOKUP(F1504, Entries!$B:$F, 5, FALSE()),"") | L1504: =LEFT(Table22[[#This Row],[Category]],2) | M1504: =IF(F1504<>0,COUNTIF($L$2:L1504,L1504),"") | N1504: =IF(F1504<>0,L1504&":"&M1504,"")
B1505: =IF(F1505<>"",COUNTIF($J$2:J1505,J1505),"") | C1505: =IF(F1505<>0,J1505&":"&B1505,"") | D1505: =IF(F1505<>0,COUNTIF($K$2:K1505,K1505),"") | E1505: =IF(F1505<>0,K1505&":"&D1505,"") | H1505: =IFERROR(VLOOKUP(F1505, Entries!$B:$F, 2, FALSE()),"") | I1505: =IFERROR(VLOOKUP(F1505, Entries!$B:$F, 3, FALSE()),"") | J1505: =IFERROR(VLOOKUP(F1505, Entries!$B:$F, 4, FALSE()),"") | K1505: =IFERROR(VLOOKUP(F1505, Entries!$B:$F, 5, FALSE()),"") | L1505: =LEFT(Table22[[#This Row],[Category]],2) | M1505: =IF(F1505<>0,COUNTIF($L$2:L1505,L1505),"") | N1505: =IF(F1505<>0,L1505&":"&M1505,"")
B1506: =IF(F1506<>"",COUNTIF($J$2:J1506,J1506),"") | C1506: =IF(F1506<>0,J1506&":"&B1506,"") | D1506: =IF(F1506<>0,COUNTIF($K$2:K1506,K1506),"") | E1506: =IF(F1506<>0,K1506&":"&D1506,"") | H1506: =IFERROR(VLOOKUP(F1506, Entries!$B:$F, 2, FALSE()),"") | I1506: =IFERROR(VLOOKUP(F1506, Entries!$B:$F, 3, FALSE()),"") | J1506: =IFERROR(VLOOKUP(F1506, Entries!$B:$F, 4, FALSE()),"") | K1506: =IFERROR(VLOOKUP(F1506, Entries!$B:$F, 5, FALSE()),"") | L1506: =LEFT(Table22[[#This Row],[Category]],2) | M1506: =IF(F1506<>0,COUNTIF($L$2:L1506,L1506),"") | N1506: =IF(F1506<>0,L1506&":"&M1506,"")
B1507: =IF(F1507<>"",COUNTIF($J$2:J1507,J1507),"") | C1507: =IF(F1507<>0,J1507&":"&B1507,"") | D1507: =IF(F1507<>0,COUNTIF($K$2:K1507,K1507),"") | E1507: =IF(F1507<>0,K1507&":"&D1507,"") | H1507: =IFERROR(VLOOKUP(F1507, Entries!$B:$F, 2, FALSE()),"") | I1507: =IFERROR(VLOOKUP(F1507, Entries!$B:$F, 3, FALSE()),"") | J1507: =IFERROR(VLOOKUP(F1507, Entries!$B:$F, 4, FALSE()),"") | K1507: =IFERROR(VLOOKUP(F1507, Entries!$B:$F, 5, FALSE()),"") | L1507: =LEFT(Table22[[#This Row],[Category]],2) | M1507: =IF(F1507<>0,COUNTIF($L$2:L1507,L1507),"") | N1507: =IF(F1507<>0,L1507&":"&M1507,"")
B1508: =IF(F1508<>"",COUNTIF($J$2:J1508,J1508),"") | C1508: =IF(F1508<>0,J1508&":"&B1508,"") | D1508: =IF(F1508<>0,COUNTIF($K$2:K1508,K1508),"") | E1508: =IF(F1508<>0,K1508&":"&D1508,"") | H1508: =IFERROR(VLOOKUP(F1508, Entries!$B:$F, 2, FALSE()),"") | I1508: =IFERROR(VLOOKUP(F1508, Entries!$B:$F, 3, FALSE()),"") | J1508: =IFERROR(VLOOKUP(F1508, Entries!$B:$F, 4, FALSE()),"") | K1508: =IFERROR(VLOOKUP(F1508, Entries!$B:$F, 5, FALSE()),"") | L1508: =LEFT(Table22[[#This Row],[Category]],2) | M1508: =IF(F1508<>0,COUNTIF($L$2:L1508,L1508),"") | N1508: =IF(F1508<>0,L1508&":"&M1508,"")
B1509: =IF(F1509<>"",COUNTIF($J$2:J1509,J1509),"") | C1509: =IF(F1509<>0,J1509&":"&B1509,"") | D1509: =IF(F1509<>0,COUNTIF($K$2:K1509,K1509),"") | E1509: =IF(F1509<>0,K1509&":"&D1509,"") | H1509: =IFERROR(VLOOKUP(F1509, Entries!$B:$F, 2, FALSE()),"") | I1509: =IFERROR(VLOOKUP(F1509, Entries!$B:$F, 3, FALSE()),"") | J1509: =IFERROR(VLOOKUP(F1509, Entries!$B:$F, 4, FALSE()),"") | K1509: =IFERROR(VLOOKUP(F1509, Entries!$B:$F, 5, FALSE()),"") | L1509: =LEFT(Table22[[#This Row],[Category]],2) | M1509: =IF(F1509<>0,COUNTIF($L$2:L1509,L1509),"") | N1509: =IF(F1509<>0,L1509&":"&M1509,"")
B1510: =IF(F1510<>"",COUNTIF($J$2:J1510,J1510),"") | C1510: =IF(F1510<>0,J1510&":"&B1510,"") | D1510: =IF(F1510<>0,COUNTIF($K$2:K1510,K1510),"") | E1510: =IF(F1510<>0,K1510&":"&D1510,"") | H1510: =IFERROR(VLOOKUP(F1510, Entries!$B:$F, 2, FALSE()),"") | I1510: =IFERROR(VLOOKUP(F1510, Entries!$B:$F, 3, FALSE()),"") | J1510: =IFERROR(VLOOKUP(F1510, Entries!$B:$F, 4, FALSE()),"") | K1510: =IFERROR(VLOOKUP(F1510, Entries!$B:$F, 5, FALSE()),"") | L1510: =LEFT(Table22[[#This Row],[Category]],2) | M1510: =IF(F1510<>0,COUNTIF($L$2:L1510,L1510),"") | N1510: =IF(F1510<>0,L1510&":"&M1510,"")

Sheet Results 10 year vets
A1: Male | B1: Name | C1: Cat. | D1: Club | E1: Time | F1: Number | G1: 1st counter | H1: 2nd counter | I1: 3rd counter | J1: 4th counter | K1: team total 4 | L1: Team total 3 | M1: Team total 2 | N1: Team Gender | P1: Female | Q1: Name | R1: Cat. | S1: Club | T1: Time | U1: Number | V1: 1st counter | W1: 2nd counter | X1: 3rd counter | Y1: 4th counter | Z1: team total 4 | AA1: Team total 3 | AB1: Team total 2 | AC1: Team Gender | AE1: MU23 | AF1: Name | AG1: Club | AH1: Time | AI1: Number | AJ1: Top3? | AL1: WU23 | AM1: Name | AN1: Club | AO1: Time | AP1: Number | AQ1: Top3? | AS1: M40 | AT1: Name | AU1: Club | AV1: Time | AW1: Number | AX1: Top3? | AZ1: W40 | BA1: Name | BB1: Club | BC1: Time | BD1: Number | BE1: Top3? | BG1: M50 | BH1: Name | BI1: Club | BJ1: Time | BK1: Number | BL1: Top3? | BN1: W50 | BO1: Name | BP1: Club | BQ1: Time | BR1: Number | BS1: Top3? | BU1: M60 | BV1: Name | BW1: Club | BX1: Time | BY1: Number | BZ1: Top3? | CB1: W60 | CC1: Name | CD1: Club | CE1: Time | CF1: Number | CG1: Top3? | CI1: M70 | CJ1: Name | CK1: Club | CL1: Time | CM1: Number | CN1: Top3? | CP1: W70 | CQ1: Name | CR1: Club | CS1: Time | CT1: Number | CU1: Top3? | CW1: M80 | CX1: Name | CY1: Club | CZ1: Time | DA1: Number | DB1: Top3? | DD1: W80 | DE1: Name | DF1: Club | DG1: Time | DH1: Number | DI1: Top3? | DK1: Custom | DL1: Name | DM1: Club | DN1: Time | DO1: Number | DP1: Top3? | DR1: Custom | DS1: Name | DT1: Club | DU1: Time | DV1: Number | DW1: Top3?
A2: 1 | B2: =IFERROR(VLOOKUP(A$1&":"&A2,'Finish order'!$C:$K,6,FALSE()),"") -> Harry Butterworth | C2: =IFERROR(VLOOKUP(A$1&":"&A2,'Finish order'!$C:$K,9,FALSE()),"") -> MU23 | D2: =IFERROR(VLOOKUP(A$1&":"&A2,'Finish order'!$C:$K,7,FALSE()),"") -> Scarborough AC | E2: =IFERROR(VLOOKUP(A$1&":"&A2,'Finish order'!$C:$K,5,FALSE()),"") -> 0.045196759 | F2: =IFERROR(VLOOKUP(A$1&":"&A2,'Finish order'!$C:$K,4,FALSE()),"") -> 397 | G2: {=IFERROR(SMALL(IF($D$2:$D911=D2,$A$2:$A$911*1.001),1),"")} -> 1.001 | H2: {=IFERROR(SMALL(IF($D$2:$D911=D2,$A$2:$A$911*1.0001),2),"")} -> 2.0002 | I2: {=IFERROR(SMALL(IF($D$2:$D911=D2,$A$2:$A$911*1.00001),3),"")} -> 4.00004 | J2: {=IFERROR(SMALL(IF($D$2:$D911=D2,$A$2:$A$911*1.000001),4),"")} -> 27.000027 | K2: =IF(A2<>"", IF(COUNT(G2:J2)=4, SUM(G2:J2), "No"), "") -> 34.001267 | L2: =IF(A2<>"", IF(COUNT(G2:I2)=3, SUM(G2:I2), "No"), "") -> 7.00124 | M2: =IF(A2<>"", IF(COUNT(G2:H2)=2, SUM(G2:H2), "No"), "") -> 3.0012 | N2: =Table1[[#This Row],[Club]]&":"&Table1[[#Headers],[Male]] -> Scarborough AC:Male | P2: 1 | Q2: =IFERROR(VLOOKUP(P$1&":"&P2,'Finish order'!$C:$K,6,FALSE()),"") -> Catherine Williamson | R2: =IFERROR(VLOOKUP(P$1&":"&P2,'Finish order'!$C:$K,9,FALSE()),"") -> W40 | S2: =IFERROR(VLOOKUP(P$1&":"&P2,'Finish order'!$C:$K,7,FALSE()),"") -> Loftus & Whitby AC | T2: =IFERROR(VLOOKUP(P$1&":"&P2,'Finish order'!$C:$K,5,FALSE()),"") -> 0.053263889 | U2: =IFERROR(VLOOKUP(P$1&":"&P2,'Finish order'!$C:$K,4,FALSE()),"") -> 100 | V2: {=IFERROR(SMALL(IF($S$2:$S911=S2,$P$2:$P$911*1.001),1),"")} -> 1.001 | W2: {=IFERROR(SMALL(IF($S$2:$S911=S2,$P$2:$P$911*1.0001),2),"")} -> 14.0014 | X2: {=IFERROR(SMALL(IF($S$2:$S911=S2,$P$2:$P$911*1.00001),3),"")} | Y2: {=IFERROR(SMALL(IF($S$2:$S911=S2,$P$2:$P$911*1.000001),4),"")} | Z2: =IF(P2<>"", IF(COUNT(V2:Y2)=4, SUM(V2:Y2), "No"), "") -> No | AA2: =IF(P2<>"", IF(COUNT(V2:X2)=3, SUM(V2:X2), "No"), "") -> No | AB2: =IF(P2<>"", IF(COUNT(V2:W2)=2, SUM(V2:W2), "No"), "") -> 15.0024 | AC2: =Table4[[#This Row],[Club]]&":"&Table4[[#Headers],[Female]] -> Loftus & Whitby AC:Female | AE2: 1 | AF2: =IFERROR(VLOOKUP(AE$1&":"&AE2,'Finish order'!$E:$K,4,FALSE()),"") -> Harry Butterworth | AG2: =IFERROR(VLOOKUP(AE$1&":"&AE2,'Finish order'!$E:$K,5,FALSE()),"") -> Scarborough AC | AH2: =IFERROR(VLOOKUP(AE$1&":"&AE2,'Finish order'!$E:$K,3,FALSE()),"") -> 0.045196759 | AI2: =IFERROR(VLOOKUP(AE$1&":"&AE2,'Finish order'!$E:$K,2,FALSE()),"") -> 397 | AJ2: =IF(Table7[[#This Row],[Name]]="","",IF((COUNTIF($B$2:$B$4,AF2)>0),"Top3","")) -> Top3 | AL2: 1 | AM2: =IFERROR(VLOOKUP(AL$1&":"&AL2,'Finish order'!$E:$K,4,FALSE()),"") -> Amie Cooper | AN2: =IFERROR(VLOOKUP(AL$1&":"&AL2,'Finish order'!$E:$K,5,FALSE()),"") -> Individual# | AO2: =IFERROR(VLOOKUP(AL$1&":"&AL2,'Finish order'!$E:$K,3,FALSE()),"") -> 0.073634259 | AP2: =IFERROR(VLOOKUP(AL$1&":"&AL2,'Finish order'!$E:$K,2,FALSE()),"") -> 55 | AQ2: =IF(Table8[[#This Row],[Name]]="","",IF((COUNTIF($Q$2:$Q$4,AM2)>0),"Top3","")) | AS2: 1 | AT2: =IFERROR(VLOOKUP(AS$1&":"&AS2,'Finish order'!$E:$K,4,FALSE()),"") -> Dan Bateson | AU2: =IFERROR(VLOOKUP(AS$1&":"&AS2,'Finish order'!$E:$K,5,FALSE()),"") -> Scarborough AC | AV2: =IFERROR(VLOOKUP(AS$1&":"&AS2,'Finish order'!$E:$K,3,FALSE()),"") -> 0.045243056 | AW2: =IFERROR(VLOOKUP(AS$1&":"&AS2,'Finish order'!$E:$K,2,FALSE()),"") -> 520 | AX2: =IF(Table9[[#This Row],[Name]]="","",IF((COUNTIF($B$2:$B$4,AT2)>0),"Top3","")) -> Top3 | AZ2: 1 | BA2: =IFERROR(VLOOKUP(AZ$1&":"&AZ2,'Finish order'!$E:$K,4,FALSE()),"") -> Catherine Williamson | BB2: =IFERROR(VLOOKUP(AZ$1&":"&AZ2,'Finish order'!$E:$K,5,FALSE()),"") -> Loftus & Whitby AC | BC2: =IFERROR(VLOOKUP(AZ$1&":"&AZ2,'Finish order'!$E:$K,3,FALSE()),"") -> 0.053263889 | BD2: =IFERROR(VLOOKUP(AZ$1&":"&AZ2,'Finish order'!$E:$K,2,FALSE()),"") -> 100 | BE2: =IF(Table10[[#This Row],[Name]]="","",IF((COUNTIF($Q$2:$Q$4,BA2)>0),"Top3","")) -> Top3 | BG2: 1 | BH2: =IFERROR(VLOOKUP(BG$1&":"&BG2,'Finish order'!$E:$K,4,FALSE()),"") -> Reiner Hesse | BI2: =IFERROR(VLOOKUP(BG$1&":"&BG2,'Finish order'!$E:$K,5,FALSE()),"") -> Loftus & Whitby AC | BJ2: =IFERROR(VLOOKUP(BG$1&":"&BG2,'Finish order'!$E:$K,3,FALSE()),"") -> 0.054814815 | BK2: =IFERROR(VLOOKUP(BG$1&":"&BG2,'Finish order'!$E:$K,2,FALSE()),"") -> 700 | BL2: =IF(Table10[[#This Row],[Name]]="","",IF((COUNTIF($B$2:$B$4,BH2)>0),"Top3","")) | BN2: 1 | BO2: =IFERROR(VLOOKUP(BN$1&":"&BN2,'Finish order'!$E:$K,4,FALSE()),"") -> Marianne Borsheim | BP2: =IFERROR(VLOOKUP(BN$1&":"&BN2,'Finish order'!$E:$K,5,FALSE()),"") -> Scarborough AC | BQ2: =IFERROR(VLOOKUP(BN$1&":"&BN2,'Finish order'!$E:$K,3,FALSE()),"") -> 0.066782407 | BR2: =IFERROR(VLOOKUP(BN$1&":"&BN2,'Finish order'!$E:$K,2,FALSE()),"") -> 202 | BS2: =IF(Table10[[#This Row],[Name]]="","",IF((COUNTIF($Q$2:$Q$4,BO2)>0),"Top3","")) | BU2: 1 | BV2: =IFERROR(VLOOKUP(BU$1&":"&BU2,'Finish order'!$E:$K,4,FALSE()),"") -> Jim Rogers | BW2: =IFERROR(VLOOKUP(BU$1&":"&BU2,'Finish order'!$E:$K,5,FALSE()),"") -> City of Hull AC | BX2: =IFERROR(VLOOKUP(BU$1&":"&BU2,'Finish order'!$E:$K,3,FALSE()),"") -> 0.055960648 | BY2: =IFERROR(VLOOKUP(BU$1&":"&BU2,'Finish order'!$E:$K,2,FALSE()),"") -> 910 | BZ2: =IF(Table13[[#This Row],[Name]]="","",IF((COUNTIF($B$2:$B$4,BV2)>0),"Top3","")) | CB2: 1 | CC2: =IFERROR(VLOOKUP(CB$1&":"&CB2,'Finish order'!$E:$K,4,FALSE()),"") -> Joanna Schreiber | CD2: =IFERROR(VLOOKUP(CB$1&":"&CB2,'Finish order'!$E:$K,5,FALSE()),"") -> Pudsey & Bramley AC | CE2: =IFERROR(VLOOKUP(CB$1&":"&CB2,'Finish order'!$E:$K,3,FALSE()),"") -> 0.074236111 | CF2: =IFERROR(VLOOKUP(CB$1&":"&CB2,'Finish order'!$E:$K,2,FALSE()),"") -> 277 | CG2: =IF(Table14[[#This Row],[Name]]="","",IF((COUNTIF($Q$2:$Q$4,CC2)>0),"Top3","")) | CI2: 1 | CJ2: =IFERROR(VLOOKUP(CI$1&":"&CI2,'Finish order'!$E:$K,4,FALSE()),"") -> Karl Edwards | CK2: =IFERROR(VLOOKUP(CI$1&":"&CI2,'Finish order'!$E:$K,5,FALSE()),"") -> Hartlepool Burn Road Harriers | CL2: =IFERROR(VLOOKUP(CI$1&":"&CI2,'Finish order'!$E:$K,3,FALSE()),"") -> 0.064872685 | CM2: =IFERROR(VLOOKUP(CI$1&":"&CI2,'Finish order'!$E:$K,2,FALSE()),"") -> 986 | CN2: =IF(Table15[[#This Row],[Name]]="","",IF((COUNTIF($B$2:$B$4,CJ2)>0),"Top3","")) | CP2: 1 | CQ2: =IFERROR(VLOOKUP(CP$1&":"&CP2,'Finish order'!$E:$K,4,FALSE()),"") | CR2: =IFERROR(VLOOKUP(CP$1&":"&CP2,'Finish order'!$E:$K,5,FALSE()),"") | CS2: =IFERROR(VLOOKUP(CP$1&":"&CP2,'Finish order'!$E:$K,3,FALSE()),"") | CT2: =IFERROR(VLOOKUP(CP$1&":"&CP2,'Finish order'!$E:$K,2,FALSE()),"") | CU2: =IF(Table16[[#This Row],[Name]]="","",IF((COUNTIF($Q$2:$Q$4,CQ2)>0),"Top3","")) | CW2: 1 | CX2: =IFERROR(VLOOKUP(CW$1&":"&CW2,'Finish order'!$E:$K,4,FALSE()),"") | CY2: =IFERROR(VLOOKUP(CW$1&":"&CW2,'Finish order'!$E:$K,5,FALSE()),"") | CZ2: =IFERROR(VLOOKUP(CW$1&":"&CW2,'Finish order'!$E:$K,3,FALSE()),"") | DA2: =IFERROR(VLOOKUP(CW$1&":"&CW2,'Finish order'!$E:$K,2,FALSE()),"") | DB2: =IF(Table17[[#This Row],[Name]]="","",IF((COUNTIF($B$2:$B$4,CX2)>0),"Top3","")) | DD2: 1 | DE2: =IFERROR(VLOOKUP(DD$1&":"&DD2,'Finish order'!$E:$K,4,FALSE()),"") | DF2: =IFERROR(VLOOKUP(DD$1&":"&DD2,'Finish order'!$E:$K,5,FALSE()),"") | DG2: =IFERROR(VLOOKUP(DD$1&":"&DD2,'Finish order'!$E:$K,3,FALSE()),"") | DH2: =IFERROR(VLOOKUP(DD$1&":"&DD2,'Finish order'!$E:$K,2,FALSE()),"") | DI2: =IF(Table18[[#This Row],[Name]]="","",IF((COUNTIF($Q$2:$Q$4,DE2)>0),"Top3","")) | DK2: 1 | DL2: =IFERROR(VLOOKUP(DK$1&":"&DK2,'Finish order'!$E:$K,4,FALSE()),"") | DM2: =IFERROR(VLOOKUP(DK$1&":"&DK2,'Finish order'!$E:$K,5,FALSE()),"") | DN2: =IFERROR(VLOOKUP(DK$1&":"&DK2,'Finish order'!$E:$K,3,FALSE()),"") | DO2: =IFERROR(VLOOKUP(DK$1&":"&DK2,'Finish order'!$E:$K,2,FALSE()),"") | DP2: =IF(Table1739[[#This Row],[Name]]="","",IF((COUNTIF($B$2:$B$4,DL2)>0),"Top3","")) | DR2: 1 | DS2: =IFERROR(VLOOKUP(DR$1&":"&DR2,'Finish order'!$E:$K,4,FALSE()),"") | DT2: =IFERROR(VLOOKUP(DR$1&":"&DR2,'Finish order'!$E:$K,5,FALSE()),"") | DU2: =IFERROR(VLOOKUP(DR$1&":"&DR2,'Finish order'!$E:$K,3,FALSE()),"") | DV2: =IFERROR(VLOOKUP(DR$1&":"&DR2,'Finish order'!$E:$K,2,FALSE()),"") | DW2: =IF(Table1840[[#This Row],[Name]]="","",IF((COUNTIF($Q$2:$Q$4,DS2)>0),"Top3",""))
A3: 2 | B3: =IFERROR(VLOOKUP($A$1&":"&A3,'Finish order'!C:K,6,FALSE()),"") -> Dan Bateson | C3: =IFERROR(VLOOKUP(A$1&":"&A3,'Finish order'!$C:$K,9,FALSE()),"") -> M40 | D3: =IFERROR(VLOOKUP(A$1&":"&A3,'Finish order'!$C:$K,7,FALSE()),"") -> Scarborough AC | E3: =IFERROR(VLOOKUP($A$1&":"&A3,'Finish order'!C:K,5,FALSE()),"") -> 0.045243056 | F3: =IFERROR(VLOOKUP($A$1&":"&A3,'Finish order'!C:K,4,FALSE()),"") -> 520 | G3: {=IFERROR(SMALL(IF($D$2:$D912=D3,$A$2:$A$911*1.001),1),"")} -> 1.001 | H3: {=IFERROR(SMALL(IF($D$2:$D912=D3,$A$2:$A$911*1.0001),2),"")} -> 2.0002 | I3: {=IFERROR(SMALL(IF($D$2:$D912=D3,$A$2:$A$911*1.00001),3),"")} -> 4.00004 | J3: {=IFERROR(SMALL(IF($D$2:$D912=D3,$A$2:$A$911*1.000001),4),"")} -> 27.000027 | K3: =IF(A3<>"", IF(COUNT(G3:J3)=4, SUM(G3:J3), "No"), "") -> 34.001267 | L3: =IF(A3<>"", IF(COUNT(G3:I3)=3, SUM(G3:I3), "No"), "") -> 7.00124 | M3: =IF(A3<>"", IF(COUNT(G3:H3)=2, SUM(G3:H3), "No"), "") -> 3.0012 | N3: =Table1[[#This Row],[Club]]&":"&Table1[[#Headers],[Male]] -> Scarborough AC:Male | P3: 2 | Q3: =IFERROR(VLOOKUP(P$1&":"&P3,'Finish order'!$C:$K,6,FALSE()),"") -> Rhona Marshall | R3: =IFERROR(VLOOKUP(P$1&":"&P3,'Finish order'!$C:$K,9,FALSE()),"") -> W40 | S3: =IFERROR(VLOOKUP(P$1&":"&P3,'Finish order'!$C:$K,7,FALSE()),"") -> Scarborough AC | T3: =IFERROR(VLOOKUP(P$1&":"&P3,'Finish order'!$C:$K,5,FALSE()),"") -> 0.054513889 | U3: =IFERROR(VLOOKUP(P$1&":"&P3,'Finish order'!$C:$K,4,FALSE()),"") -> 109 | V3: {=IFERROR(SMALL(IF($S$2:$S912=S3,$P$2:$P$911*1.001),1),"")} -> 2.002 | W3: {=IFERROR(SMALL(IF($S$2:$S912=S3,$P$2:$P$911*1.0001),2),"")} -> 4.0004 | X3: {=IFERROR(SMALL(IF($S$2:$S912=S3,$P$2:$P$911*1.00001),3),"")} -> 8.00008 | Y3: {=IFERROR(SMALL(IF($S$2:$S912=S3,$P$2:$P$911*1.000001),4),"")} -> 23.000023 | Z3: =IF(P3<>"", IF(COUNT(V3:Y3)=4, SUM(V3:Y3), "No"), "") -> 37.002503 | AA3: =IF(P3<>"", IF(COUNT(V3:X3)=3, SUM(V3:X3), "No"), "") -> 14.00248 | AB3: =IF(P3<>"", IF(COUNT(V3:W3)=2, SUM(V3:W3), "No"), "") -> 6.0024 | AC3: =Table4[[#This Row],[Club]]&":"&Table4[[#Headers],[Female]] -> Scarborough AC:Female | AE3: 2 | AF3: =IFERROR(VLOOKUP(AE$1&":"&AE3,'Finish order'!$E:$K,4,FALSE()),"") -> James Mullholland | AG3: =IFERROR(VLOOKUP(AE$1&":"&AE3,'Finish order'!$E:$K,5,FALSE()),"") -> Individual# | AH3: =IFERROR(VLOOKUP(AE$1&":"&AE3,'Finish order'!$E:$K,3,FALSE()),"") -> 0.055162037 | AI3: =IFERROR(VLOOKUP(AE$1&":"&AE3,'Finish order'!$E:$K,2,FALSE()),"") -> 344 | AJ3: =IF(Table7[[#This Row],[Name]]="","",IF((COUNTIF($B$2:$B$4,AF3)>0),"Top3","")) | AL3: 2 | AM3: =IFERROR(VLOOKUP(AL$1&":"&AL3,'Finish order'!$E:$K,4,FALSE()),"") | AN3: =IFERROR(VLOOKUP(AL$1&":"&AL3,'Finish order'!$E:$K,5,FALSE()),"") | AO3: =IFERROR(VLOOKUP(AL$1&":"&AL3,'Finish order'!$E:$K,3,FALSE()),"") | AP3: =IFERROR(VLOOKUP(AL$1&":"&AL3,'Finish order'!$E:$K,2,FALSE()),"") | AQ3: =IF(Table8[[#This Row],[Name]]="","",IF((COUNTIF($Q$2:$Q$4,AM3)>0),"Top3","")) | AS3: 2 | AT3: =IFERROR(VLOOKUP(AS$1&":"&AS3,'Finish order'!$E:$K,4,FALSE()),"") -> Peter Walker | AU3: =IFERROR(VLOOKUP(AS$1&":"&AS3,'Finish order'!$E:$K,5,FALSE()),"") -> York Knavesmire Harriers | AV3: =IFERROR(VLOOKUP(AS$1&":"&AS3,'Finish order'!$E:$K,3,FALSE()),"") -> 0.051423611 | AW3: =IFERROR(VLOOKUP(AS$1&":"&AS3,'Finish order'!$E:$K,2,FALSE()),"") -> 511 | AX3: =IF(Table9[[#This Row],[Name]]="","",IF((COUNTIF($B$2:$B$4,AT3)>0),"Top3","")) | AZ3: 2 | BA3: =IFERROR(VLOOKUP(AZ$1&":"&AZ3,'Finish order'!$E:$K,4,FALSE()),"") -> Rhona Marshall | BB3: =IFERROR(VLOOKUP(AZ$1&":"&AZ3,'Finish order'!$E:$K,5,FALSE()),"") -> Scarborough AC | BC3: =IFERROR(VLOOKUP(AZ$1&":"&AZ3,'Finish order'!$E:$K,3,FALSE()),"") -> 0.054513889 | BD3: =IFERROR(VLOOKUP(AZ$1&":"&AZ3,'Finish order'!$E:$K,2,FALSE()),"") -> 109 | BE3: =IF(Table10[[#This Row],[Name]]="","",IF((COUNTIF($Q$2:$Q$4,BA3)>0),"Top3","")) -> Top3 | BG3: 2 | BH3: =IFERROR(VLOOKUP(BG$1&":"&BG3,'Finish order'!$E:$K,4,FALSE()),"") -> Ashley Dodgson | BI3: =IFERROR(VLOOKUP(BG$1&":"&BG3,'Finish order'!$E:$K,5,FALSE()),"") -> Thirsk & Sowerby Harriers | BJ3: =IFERROR(VLOOKUP(BG$1&":"&BG3,'Finish order'!$E:$K,3,FALSE()),"") -> 0.05693287 | BK3: =IFERROR(VLOOKUP(BG$1&":"&BG3,'Finish order'!$E:$K,2,FALSE()),"") -> 718 | BL3: =IF(Table10[[#This Row],[Name]]="","",IF((COUNTIF($B$2:$B$4,BH3)>0),"Top3","")) | BN3: 2 | BO3: =IFERROR(VLOOKUP(BN$1&":"&BN3,'Finish order'!$E:$K,4,FALSE()),"") -> Steph Lishman | BP3: =IFERROR(VLOOKUP(BN$1&":"&BN3,'Finish order'!$E:$K,5,FALSE()),"") -> Esk Valley Fell Club | BQ3: =IFERROR(VLOOKUP(BN$1&":"&BN3,'Finish order'!$E:$K,3,FALSE()),"") -> 0.068078704 | BR3: =IFERROR(VLOOKUP(BN$1&":"&BN3,'Finish order'!$E:$K,2,FALSE()),"") -> 206 | BS3: =IF(Table10[[#This Row],[Name]]="","",IF((COUNTIF($Q$2:$Q$4,BO3)>0),"Top3","")) | BU3: 2 | BV3: =IFERROR(VLOOKUP(BU$1&":"&BU3,'Finish order'!$E:$K,4,FALSE()),"") -> David Hughes | BW3: =IFERROR(VLOOKUP(BU$1&":"&BU3,'Finish order'!$E:$K,5,FALSE()),"") -> North York Moors AC | BX3: =IFERROR(VLOOKUP(BU$1&":"&BU3,'Finish order'!$E:$K,3,FALSE()),"") -> 0.056076389 | BY3: =IFERROR(VLOOKUP(BU$1&":"&BU3,'Finish order'!$E:$K,2,FALSE()),"") -> 903 | BZ3: =IF(Table13[[#This Row],[Name]]="","",IF((COUNTIF($B$2:$B$4,BV3)>0),"Top3","")) | CB3: 2 | CC3: =IFERROR(VLOOKUP(CB$1&":"&CB3,'Finish order'!$E:$K,4,FALSE()),"") -> Julie Clayton | CD3: =IFERROR(VLOOKUP(CB$1&":"&CB3,'Finish order'!$E:$K,5,FALSE()),"") -> Scarborough AC | CE3: =IFERROR(VLOOKUP(CB$1&":"&CB3,'Finish order'!$E:$K,3,FALSE()),"") -> 0.080243056 | CF3: =IFERROR(VLOOKUP(CB$1&":"&CB3,'Finish order'!$E:$K,2,FALSE()),"") -> 276 | CG3: =IF(Table14[[#This Row],[Name]]="","",IF((COUNTIF($Q$2:$Q$4,CC3)>0),"Top3","")) | CI3: 2 | CJ3: =IFERROR(VLOOKUP(CI$1&":"&CI3,'Finish order'!$E:$K,4,FALSE()),"") -> Geoffrey Usher | CK3: =IFERROR(VLOOKUP(CI$1&":"&CI3,'Finish order'!$E:$K,5,FALSE()),"") -> Individual# | CL3: =IFERROR(VLOOKUP(CI$1&":"&CI3,'Finish order'!$E:$K,3,FALSE()),"") -> 0.079895833 | CM3: =IFERROR(VLOOKUP(CI$1&":"&CI3,'Finish order'!$E:$K,2,FALSE()),"") -> 987 | CN3: =IF(Table15[[#This Row],[Name]]="","",IF((COUNTIF($B$2:$B$4,CJ3)>0),"Top3","")) | CP3: 2 | CQ3: =IFERROR(VLOOKUP(CP$1&":"&CP3,'Finish order'!$E:$K,4,FALSE()),"") | CR3: =IFERROR(VLOOKUP(CP$1&":"&CP3,'Finish order'!$E:$K,5,FALSE()),"") | CS3: =IFERROR(VLOOKUP(CP$1&":"&CP3,'Finish order'!$E:$K,3,FALSE()),"") | CT3: =IFERROR(VLOOKUP(CP$1&":"&CP3,'Finish order'!$E:$K,2,FALSE()),"") | CU3: =IF(Table16[[#This Row],[Name]]="","",IF((COUNTIF($Q$2:$Q$4,CQ3)>0),"Top3","")) | CW3: 2 | CX3: =IFERROR(VLOOKUP(CW$1&":"&CW3,'Finish order'!$E:$K,4,FALSE()),"") | CY3: =IFERROR(VLOOKUP(CW$1&":"&CW3,'Finish order'!$E:$K,5,FALSE()),"") | CZ3: =IFERROR(VLOOKUP(CW$1&":"&CW3,'Finish order'!$E:$K,3,FALSE()),"") | DA3: =IFERROR(VLOOKUP(CW$1&":"&CW3,'Finish order'!$E:$K,2,FALSE()),"") | DB3: =IF(Table17[[#This Row],[Name]]="","",IF((COUNTIF($B$2:$B$4,CX3)>0),"Top3","")) | DD3: 2 | DE3: =IFERROR(VLOOKUP(DD$1&":"&DD3,'Finish order'!$E:$K,4,FALSE()),"") | DF3: =IFERROR(VLOOKUP(DD$1&":"&DD3,'Finish order'!$E:$K,5,FALSE()),"") | DG3: =IFERROR(VLOOKUP(DD$1&":"&DD3,'Finish order'!$E:$K,3,FALSE()),"") | DH3: =IFERROR(VLOOKUP(DD$1&":"&DD3,'Finish order'!$E:$K,2,FALSE()),"") | DI3: =IF(Table18[[#This Row],[Name]]="","",IF((COUNTIF($Q$2:$Q$4,DE3)>0),"Top3","")) | DK3: 2 | DL3: =IFERROR(VLOOKUP(DK$1&":"&DK3,'Finish order'!$E:$K,4,FALSE()),"") | DM3: =IFERROR(VLOOKUP(DK$1&":"&DK3,'Finish order'!$E:$K,5,FALSE()),"") | DN3: =IFERROR(VLOOKUP(DK$1&":"&DK3,'Finish order'!$E:$K,3,FALSE()),"") | DO3: =IFERROR(VLOOKUP(DK$1&":"&DK3,'Finish order'!$E:$K,2,FALSE()),"") | DP3: =IF(Table1739[[#This Row],[Name]]="","",IF((COUNTIF($B$2:$B$4,DL3)>0),"Top3","")) | DR3: 2 | DS3: =IFERROR(VLOOKUP(DR$1&":"&DR3,'Finish order'!$E:$K,4,FALSE()),"") | DT3: =IFERROR(VLOOKUP(DR$1&":"&DR3,'Finish order'!$E:$K,5,FALSE()),"") | DU3: =IFERROR(VLOOKUP(DR$1&":"&DR3,'Finish order'!$E:$K,3,FALSE()),"") | DV3: =IFERROR(VLOOKUP(DR$1&":"&DR3,'Finish order'!$E:$K,2,FALSE()),"") | DW3: =IF(Table1840[[#This Row],[Name]]="","",IF((COUNTIF($Q$2:$Q$4,DS3)>0),"Top3",""))
A4: 3 | B4: =IFERROR(VLOOKUP($A$1&":"&A4,'Finish order'!C:K,6,FALSE()),"") -> Robert Preston | C4: =IFERROR(VLOOKUP(A$1&":"&A4,'Finish order'!$C:$K,9,FALSE()),"") -> MSEN | D4: =IFERROR(VLOOKUP(A$1&":"&A4,'Finish order'!$C:$K,7,FALSE()),"") -> Pickering RC | E4: =IFERROR(VLOOKUP($A$1&":"&A4,'Finish order'!C:K,5,FALSE()),"") -> 0.048055556 | F4: =IFERROR(VLOOKUP($A$1&":"&A4,'Finish order'!C:K,4,FALSE()),"") -> 313 | G4: {=IFERROR(SMALL(IF($D$2:$D913=D4,$A$2:$A$911*1.001),1),"")} -> 3.003 | H4: {=IFERROR(SMALL(IF($D$2:$D913=D4,$A$2:$A$911*1.0001),2),"")} -> 13.0013 | I4: {=IFERROR(SMALL(IF($D$2:$D913=D4,$A$2:$A$911*1.00001),3),"")} -> 20.0002 | J4: {=IFERROR(SMALL(IF($D$2:$D913=D4,$A$2:$A$911*1.000001),4),"")} -> 32.000032 | K4: =IF(A4<>"", IF(COUNT(G4:J4)=4, SUM(G4:J4), "No"), "") -> 68.004532 | L4: =IF(A4<>"", IF(COUNT(G4:I4)=3, SUM(G4:I4), "No"), "") -> 36.0045 | M4: =IF(A4<>"", IF(COUNT(G4:H4)=2, SUM(G4:H4), "No"), "") -> 16.0043 | N4: =Table1[[#This Row],[Club]]&":"&Table1[[#Headers],[Male]] -> Pickering RC:Male | P4: 3 | Q4: =IFERROR(VLOOKUP(P$1&":"&P4,'Finish order'!$C:$K,6,FALSE()),"") -> Kelly Richmond | R4: =IFERROR(VLOOKUP(P$1&":"&P4,'Finish order'!$C:$K,9,FALSE()),"") -> WSEN | S4: =IFERROR(VLOOKUP(P$1&":"&P4,'Finish order'!$C:$K,7,FALSE()),"") -> Pickering RC | T4: =IFERROR(VLOOKUP(P$1&":"&P4,'Finish order'!$C:$K,5,FALSE()),"") -> 0.061076389 | U4: =IFERROR(VLOOKUP(P$1&":"&P4,'Finish order'!$C:$K,4,FALSE()),"") -> 37 | V4: {=IFERROR(SMALL(IF($S$2:$S913=S4,$P$2:$P$911*1.001),1),"")} -> 3.003 | W4: {=IFERROR(SMALL(IF($S$2:$S913=S4,$P$2:$P$911*1.0001),2),"")} -> 12.0012 | X4: {=IFERROR(SMALL(IF($S$2:$S913=S4,$P$2:$P$911*1.00001),3),"")} -> 15.00015 | Y4: {=IFERROR(SMALL(IF($S$2:$S913=S4,$P$2:$P$911*1.000001),4),"")} -> 22.000022 | Z4: =IF(P4<>"", IF(COUNT(V4:Y4)=4, SUM(V4:Y4), "No"), "") -> 52.004372 | AA4: =IF(P4<>"", IF(COUNT(V4:X4)=3, SUM(V4:X4), "No"), "") -> 30.00435 | AB4: =IF(P4<>"", IF(COUNT(V4:W4)=2, SUM(V4:W4), "No"), "") -> 15.0042 | AC4: =Table4[[#This Row],[Club]]&":"&Table4[[#Headers],[Female]] -> Pickering RC:Female | AE4: 3 | AF4: =IFERROR(VLOOKUP(AE$1&":"&AE4,'Finish order'!$E:$K,4,FALSE()),"") | AG4: =IFERROR(VLOOKUP(AE$1&":"&AE4,'Finish order'!$E:$K,5,FALSE()),"") | AH4: =IFERROR(VLOOKUP(AE$1&":"&AE4,'Finish order'!$E:$K,3,FALSE()),"") | AI4: =IFERROR(VLOOKUP(AE$1&":"&AE4,'Finish order'!$E:$K,2,FALSE()),"") | AJ4: =IF(Table7[[#This Row],[Name]]="","",IF((COUNTIF($B$2:$B$4,AF4)>0),"Top3","")) | AL4: 3 | AM4: =IFERROR(VLOOKUP(AL$1&":"&AL4,'Finish order'!$E:$K,4,FALSE()),"") | AN4: =IFERROR(VLOOKUP(AL$1&":"&AL4,'Finish order'!$E:$K,5,FALSE()),"") | AO4: =IFERROR(VLOOKUP(AL$1&":"&AL4,'Finish order'!$E:$K,3,FALSE()),"") | AP4: =IFERROR(VLOOKUP(AL$1&":"&AL4,'Finish order'!$E:$K,2,FALSE()),"") | AQ4: =IF(Table8[[#This Row],[Name]]="","",IF((COUNTIF($Q$2:$Q$4,AM4)>0),"Top3","")) | AS4: 3 | AT4: =IFERROR(VLOOKUP(AS$1&":"&AS4,'Finish order'!$E:$K,4,FALSE()),"") -> Rorie McIntosh | AU4: =IFERROR(VLOOKUP(AS$1&":"&AS4,'Finish order'!$E:$K,5,FALSE()),"") -> Esk Valley Fell Club | AV4: =IFERROR(VLOOKUP(AS$1&":"&AS4,'Finish order'!$E:$K,3,FALSE()),"") -> 0.052488426 | AW4: =IFERROR(VLOOKUP(AS$1&":"&AS4,'Finish order'!$E:$K,2,FALSE()),"") -> 543 | AX4: =IF(Table9[[#This Row],[Name]]="","",IF((COUNTIF($B$2:$B$4,AT4)>0),"Top3","")) | AZ4: 3 | BA4: =IFERROR(VLOOKUP(AZ$1&":"&AZ4,'Finish order'!$E:$K,4,FALSE()),"") | BB4: =IFERROR(VLOOKUP(AZ$1&":"&AZ4,'Finish order'!$E:$K,5,FALSE()),"") | BC4: =IFERROR(VLOOKUP(AZ$1&":"&AZ4,'Finish order'!$E:$K,3,FALSE()),"") | BD4: =IFERROR(VLOOKUP(AZ$1&":"&AZ4,'Finish order'!$E:$K,2,FALSE()),"") | BE4: =IF(Table10[[#This Row],[Name]]="","",IF((COUNTIF($Q$2:$Q$4,BA4)>0),"Top3","")) | BG4: 3 | BH4: =IFERROR(VLOOKUP(BG$1&":"&BG4,'Finish order'!$E:$K,4,FALSE()),"") -> Stephen Hardy | BI4: =IFERROR(VLOOKUP(BG$1&":"&BG4,'Finish order'!$E:$K,5,FALSE()),"") -> Loftus & Whitby AC | BJ4: =IFERROR(VLOOKUP(BG$1&":"&BG4,'Finish order'!$E:$K,3,FALSE()),"") -> 0.059131944 | BK4: =IFERROR(VLOOKUP(BG$1&":"&BG4,'Finish order'!$E:$K,2,FALSE()),"") -> 701 | BL4: =IF(Table10[[#This Row],[Name]]="","",IF((COUNTIF($B$2:$B$4,BH4)>0),"Top3","")) | BN4: 3 | BO4: =IFERROR(VLOOKUP(BN$1&":"&BN4,'Finish order'!$E:$K,4,FALSE()),"") -> Sally Carro Goodwill | BP4: =IFERROR(VLOOKUP(BN$1&":"&BN4,'Finish order'!$E:$K,5,FALSE()),"") -> York Knavesmire Harriers | BQ4: =IFERROR(VLOOKUP(BN$1&":"&BN4,'Finish order'!$E:$K,3,FALSE()),"") -> 0.068622685 | BR4: =IFERROR(VLOOKUP(BN$1&":"&BN4,'Finish order'!$E:$K,2,FALSE()),"") -> 220 | BS4: =IF(Table10[[#This Row],[Name]]="","",IF((COUNTIF($Q$2:$Q$4,BO4)>0),"Top3","")) | BU4: 3 | BV4: =IFERROR(VLOOKUP(BU$1&":"&BU4,'Finish order'!$E:$K,4,FALSE()),"") -> David Allison | BW4: =IFERROR(VLOOKUP(BU$1&":"&BU4,'Finish order'!$E:$K,5,FALSE()),"") -> North York Moors AC | BX4: =IFERROR(VLOOKUP(BU$1&":"&BU4,'Finish order'!$E:$K,3,FALSE()),"") -> 0.056157407 | BY4: =IFERROR(VLOOKUP(BU$1&":"&BU4,'Finish order'!$E:$K,2,FALSE()),"") -> 904 | BZ4: =IF(Table13[[#This Row],[Name]]="","",IF((COUNTIF($B$2:$B$4,BV4)>0),"Top3","")) | CB4: 3 | CC4: =IFERROR(VLOOKUP(CB$1&":"&CB4,'Finish order'!$E:$K,4,FALSE()),"") -> Sally Kingscott | CD4: =IFERROR(VLOOKUP(CB$1&":"&CB4,'Finish order'!$E:$K,5,FALSE()),"") -> Scarborough AC | CE4: =IFERROR(VLOOKUP(CB$1&":"&CB4,'Finish order'!$E:$K,3,FALSE()),"") -> 0.093946759 | CF4: =IFERROR(VLOOKUP(CB$1&":"&CB4,'Finish order'!$E:$K,2,FALSE()),"") -> 274 | CG4: =IF(Table14[[#This Row],[Name]]="","",IF((COUNTIF($Q$2:$Q$4,CC4)>0),"Top3","")) | CI4: 3 | CJ4: =IFERROR(VLOOKUP(CI$1&":"&CI4,'Finish order'!$E:$K,4,FALSE()),"") | CK4: =IFERROR(VLOOKUP(CI$1&":"&CI4,'Finish order'!$E:$K,5,FALSE()),"") | CL4: =IFERROR(VLOOKUP(CI$1&":"&CI4,'Finish order'!$E:$K,3,FALSE()),"") | CM4: =IFERROR(VLOOKUP(CI$1&":"&CI4,'Finish order'!$E:$K,2,FALSE()),"") | CN4: =IF(Table15[[#This Row],[Name]]="","",IF((COUNTIF($B$2:$B$4,CJ4)>0),"Top3","")) | CP4: 3 | CQ4: =IFERROR(VLOOKUP(CP$1&":"&CP4,'Finish order'!$E:$K,4,FALSE()),"") | CR4: =IFERROR(VLOOKUP(CP$1&":"&CP4,'Finish order'!$E:$K,5,FALSE()),"") | CS4: =IFERROR(VLOOKUP(CP$1&":"&CP4,'Finish order'!$E:$K,3,FALSE()),"") | CT4: =IFERROR(VLOOKUP(CP$1&":"&CP4,'Finish order'!$E:$K,2,FALSE()),"") | CU4: =IF(Table16[[#This Row],[Name]]="","",IF((COUNTIF($Q$2:$Q$4,CQ4)>0),"Top3","")) | CW4: 3 | CX4: =IFERROR(VLOOKUP(CW$1&":"&CW4,'Finish order'!$E:$K,4,FALSE()),"") | CY4: =IFERROR(VLOOKUP(CW$1&":"&CW4,'Finish order'!$E:$K,5,FALSE()),"") | CZ4: =IFERROR(VLOOKUP(CW$1&":"&CW4,'Finish order'!$E:$K,3,FALSE()),"") | DA4: =IFERROR(VLOOKUP(CW$1&":"&CW4,'Finish order'!$E:$K,2,FALSE()),"") | DB4: =IF(Table17[[#This Row],[Name]]="","",IF((COUNTIF($B$2:$B$4,CX4)>0),"Top3","")) | DD4: 3 | DE4: =IFERROR(VLOOKUP(DD$1&":"&DD4,'Finish order'!$E:$K,4,FALSE()),"") | DF4: =IFERROR(VLOOKUP(DD$1&":"&DD4,'Finish order'!$E:$K,5,FALSE()),"") | DG4: =IFERROR(VLOOKUP(DD$1&":"&DD4,'Finish order'!$E:$K,3,FALSE()),"") | DH4: =IFERROR(VLOOKUP(DD$1&":"&DD4,'Finish order'!$E:$K,2,FALSE()),"") | DI4: =IF(Table18[[#This Row],[Name]]="","",IF((COUNTIF($Q$2:$Q$4,DE4)>0),"Top3","")) | DK4: 3 | DL4: =IFERROR(VLOOKUP(DK$1&":"&DK4,'Finish order'!$E:$K,4,FALSE()),"") | DM4: =IFERROR(VLOOKUP(DK$1&":"&DK4,'Finish order'!$E:$K,5,FALSE()),"") | DN4: =IFERROR(VLOOKUP(DK$1&":"&DK4,'Finish order'!$E:$K,3,FALSE()),"") | DO4: =IFERROR(VLOOKUP(DK$1&":"&DK4,'Finish order'!$E:$K,2,FALSE()),"") | DP4: =IF(Table1739[[#This Row],[Name]]="","",IF((COUNTIF($B$2:$B$4,DL4)>0),"Top3","")) | DR4: 3 | DS4: =IFERROR(VLOOKUP(DR$1&":"&DR4,'Finish order'!$E:$K,4,FALSE()),"") | DT4: =IFERROR(VLOOKUP(DR$1&":"&DR4,'Finish order'!$E:$K,5,FALSE()),"") | DU4: =IFERROR(VLOOKUP(DR$1&":"&DR4,'Finish order'!$E:$K,3,FALSE()),"") | DV4: =IFERROR(VLOOKUP(DR$1&":"&DR4,'Finish order'!$E:$K,2,FALSE()),"") | DW4: =IF(Table1840[[#This Row],[Name]]="","",IF((COUNTIF($Q$2:$Q$4,DS4)>0),"Top3",""))
A5: 4 | B5: =IFERROR(VLOOKUP($A$1&":"&A5,'Finish order'!C:K,6,FALSE()),"") -> Paul Lawton | C5: =IFERROR(VLOOKUP(A$1&":"&A5,'Finish order'!$C:$K,9,FALSE()),"") -> MSEN | D5: =IFERROR(VLOOKUP(A$1&":"&A5,'Finish order'!$C:$K,7,FALSE()),"") -> Scarborough AC | E5: =IFERROR(VLOOKUP($A$1&":"&A5,'Finish order'!C:K,5,FALSE()),"") -> 0.050069444 | F5: =IFERROR(VLOOKUP($A$1&":"&A5,'Finish order'!C:K,4,FALSE()),"") -> 333 | G5: {=IFERROR(SMALL(IF($D$2:$D914=D5,$A$2:$A$911*1.001),1),"")} -> 1.001 | H5: {=IFERROR(SMALL(IF($D$2:$D914=D5,$A$2:$A$911*1.0001),2),"")} -> 2.0002 | I5: {=IFERROR(SMALL(IF($D$2:$D914=D5,$A$2:$A$911*1.00001),3),"")} -> 4.00004 | J5: {=IFERROR(SMALL(IF($D$2:$D914=D5,$A$2:$A$911*1.000001),4),"")} -> 27.000027 | K5: =IF(A5<>"", IF(COUNT(G5:J5)=4, SUM(G5:J5), "No"), "") -> 34.001267 | L5: =IF(A5<>"", IF(COUNT(G5:I5)=3, SUM(G5:I5), "No"), "") -> 7.00124 | M5: =IF(A5<>"", IF(COUNT(G5:H5)=2, SUM(G5:H5), "No"), "") -> 3.0012 | N5: =Table1[[#This Row],[Club]]&":"&Table1[[#Headers],[Male]] -> Scarborough AC:Male | P5: 4 | Q5: =IFERROR(VLOOKUP(P$1&":"&P5,'Finish order'!$C:$K,6,FALSE()),"") -> Hester Butterworth | R5: =IFERROR(VLOOKUP(P$1&":"&P5,'Finish order'!$C:$K,9,FALSE()),"") -> W55 | S5: =IFERROR(VLOOKUP(P$1&":"&P5,'Finish order'!$C:$K,7,FALSE()),"") -> Scarborough AC | T5: =IFERROR(VLOOKUP(P$1&":"&P5,'Finish order'!$C:$K,5,FALSE()),"") -> 0.061851852 | U5: =IFERROR(VLOOKUP(P$1&":"&P5,'Finish order'!$C:$K,4,FALSE()),"") -> 258 | V5: {=IFERROR(SMALL(IF($S$2:$S914=S5,$P$2:$P$911*1.001),1),"")} -> 2.002 | W5: {=IFERROR(SMALL(IF($S$2:$S914=S5,$P$2:$P$911*1.0001),2),"")} -> 4.0004 | X5: {=IFERROR(SMALL(IF($S$2:$S914=S5,$P$2:$P$911*1.00001),3),"")} -> 8.00008 | Y5: {=IFERROR(SMALL(IF($S$2:$S914=S5,$P$2:$P$911*1.000001),4),"")} -> 23.000023 | Z5: =IF(P5<>"", IF(COUNT(V5:Y5)=4, SUM(V5:Y5), "No"), "") -> 37.002503 | AA5: =IF(P5<>"", IF(COUNT(V5:X5)=3, SUM(V5:X5), "No"), "") -> 14.00248 | AB5: =IF(P5<>"", IF(COUNT(V5:W5)=2, SUM(V5:W5), "No"), "") -> 6.0024 | AC5: =Table4[[#This Row],[Club]]&":"&Table4[[#Headers],[Female]] -> Scarborough AC:Female | AE5: 4 | AF5: =IFERROR(VLOOKUP(AE$1&":"&AE5,'Finish order'!$E:$K,4,FALSE()),"") | AG5: =IFERROR(VLOOKUP(AE$1&":"&AE5,'Finish order'!$E:$K,5,FALSE()),"") | AH5: =IFERROR(VLOOKUP(AE$1&":"&AE5,'Finish order'!$E:$K,3,FALSE()),"") | AI5: =IFERROR(VLOOKUP(AE$1&":"&AE5,'Finish order'!$E:$K,2,FALSE()),"") | AL5: 4 | AM5: =IFERROR(VLOOKUP(AL$1&":"&AL5,'Finish order'!$E:$K,4,FALSE()),"") | AN5: =IFERROR(VLOOKUP(AL$1&":"&AL5,'Finish order'!$E:$K,5,FALSE()),"") | AO5: =IFERROR(VLOOKUP(AL$1&":"&AL5,'Finish order'!$E:$K,3,FALSE()),"") | AP5: =IFERROR(VLOOKUP(AL$1&":"&AL5,'Finish order'!$E:$K,2,FALSE()),"") | AS5: 4 | AT5: =IFERROR(VLOOKUP(AS$1&":"&AS5,'Finish order'!$E:$K,4,FALSE()),"") -> Iain Yates | AU5: =IFERROR(VLOOKUP(AS$1&":"&AS5,'Finish order'!$E:$K,5,FALSE()),"") -> York Knavesmire Harriers | AV5: =IFERROR(VLOOKUP(AS$1&":"&AS5,'Finish order'!$E:$K,3,FALSE()),"") -> 0.055462963 | AW5: =IFERROR(VLOOKUP(AS$1&":"&AS5,'Finish order'!$E:$K,2,FALSE()),"") -> 550 | AZ5: 4 | BA5: =IFERROR(VLOOKUP(AZ$1&":"&AZ5,'Finish order'!$E:$K,4,FALSE()),"") | BB5: =IFERROR(VLOOKUP(AZ$1&":"&AZ5,'Finish order'!$E:$K,5,FALSE()),"") | BC5: =IFERROR(VLOOKUP(AZ$1&":"&AZ5,'Finish order'!$E:$K,3,FALSE()),"") | BD5: =IFERROR(VLOOKUP(AZ$1&":"&AZ5,'Finish order'!$E:$K,2,FALSE()),"") | BG5: 4 | BH5: =IFERROR(VLOOKUP(BG$1&":"&BG5,'Finish order'!$E:$K,4,FALSE()),"") -> Nick Simmons | BI5: =IFERROR(VLOOKUP(BG$1&":"&BG5,'Finish order'!$E:$K,5,FALSE()),"") -> Individual# | BJ5: =IFERROR(VLOOKUP(BG$1&":"&BG5,'Finish order'!$E:$K,3,FALSE()),"") -> 0.060069444 | BK5: =IFERROR(VLOOKUP(BG$1&":"&BG5,'Finish order'!$E:$K,2,FALSE()),"") -> 759 | BN5: 4 | BO5: =IFERROR(VLOOKUP(BN$1&":"&BN5,'Finish order'!$E:$K,4,FALSE()),"") -> Samantha Jones | BP5: =IFERROR(VLOOKUP(BN$1&":"&BN5,'Finish order'!$E:$K,5,FALSE()),"") -> Individual# | BQ5: =IFERROR(VLOOKUP(BN$1&":"&BN5,'Finish order'!$E:$K,3,FALSE()),"") -> 0.073275463 | BR5: =IFERROR(VLOOKUP(BN$1&":"&BN5,'Finish order'!$E:$K,2,FALSE()),"") -> 208 | BU5: 4 | BV5: =IFERROR(VLOOKUP(BU$1&":"&BU5,'Finish order'!$E:$K,4,FALSE()),"") -> Nigel Briggs | BW5: =IFERROR(VLOOKUP(BU$1&":"&BU5,'Finish order'!$E:$K,5,FALSE()),"") -> North York Moors AC | BX5: =IFERROR(VLOOKUP(BU$1&":"&BU5,'Finish order'!$E:$K,3,FALSE()),"") -> 0.063553241 | BY5: =IFERROR(VLOOKUP(BU$1&":"&BU5,'Finish order'!$E:$K,2,FALSE()),"") -> 905 | CB5: 4 | CC5: =IFERROR(VLOOKUP(CB$1&":"&CB5,'Finish order'!$E:$K,4,FALSE()),"") | CD5: =IFERROR(VLOOKUP(CB$1&":"&CB5,'Finish order'!$E:$K,5,FALSE()),"") | CE5: =IFERROR(VLOOKUP(CB$1&":"&CB5,'Finish order'!$E:$K,3,FALSE()),"") | CF5: =IFERROR(VLOOKUP(CB$1&":"&CB5,'Finish order'!$E:$K,2,FALSE()),"") | CI5: 4 | CJ5: =IFERROR(VLOOKUP(CI$1&":"&CI5,'Finish order'!$E:$K,4,FALSE()),"") | CK5: =IFERROR(VLOOKUP(CI$1&":"&CI5,'Finish order'!$E:$K,5,FALSE()),"") | CL5: =IFERROR(VLOOKUP(CI$1&":"&CI5,'Finish order'!$E:$K,3,FALSE()),"") | CM5: =IFERROR(VLOOKUP(CI$1&":"&CI5,'Finish order'!$E:$K,2,FALSE()),"") | CP5: 4 | CQ5: =IFERROR(VLOOKUP(CP$1&":"&CP5,'Finish order'!$E:$K,4,FALSE()),"") | CR5: =IFERROR(VLOOKUP(CP$1&":"&CP5,'Finish order'!$E:$K,5,FALSE()),"") | CS5: =IFERROR(VLOOKUP(CP$1&":"&CP5,'Finish order'!$E:$K,3,FALSE()),"") | CT5: =IFERROR(VLOOKUP(CP$1&":"&CP5,'Finish order'!$E:$K,2,FALSE()),"") | CW5: 4 | CX5: =IFERROR(VLOOKUP(CW$1&":"&CW5,'Finish order'!$E:$K,4,FALSE()),"") | CY5: =IFERROR(VLOOKUP(CW$1&":"&CW5,'Finish order'!$E:$K,5,FALSE()),"") | CZ5: =IFERROR(VLOOKUP(CW$1&":"&CW5,'Finish order'!$E:$K,3,FALSE()),"") | DA5: =IFERROR(VLOOKUP(CW$1&":"&CW5,'Finish order'!$E:$K,2,FALSE()),"") | DD5: 4 | DE5: =IFERROR(VLOOKUP(DD$1&":"&DD5,'Finish order'!$E:$K,4,FALSE()),"") | DF5: =IFERROR(VLOOKUP(DD$1&":"&DD5,'Finish order'!$E:$K,5,FALSE()),"") | DG5: =IFERROR(VLOOKUP(DD$1&":"&DD5,'Finish order'!$E:$K,3,FALSE()),"") | DH5: =IFERROR(VLOOKUP(DD$1&":"&DD5,'Finish order'!$E:$K,2,FALSE()),"") | DK5: 4 | DL5: =IFERROR(VLOOKUP(DK$1&":"&DK5,'Finish order'!$E:$K,4,FALSE()),"") | DM5: =IFERROR(VLOOKUP(DK$1&":"&DK5,'Finish order'!$E:$K,5,FALSE()),"") | DN5: =IFERROR(VLOOKUP(DK$1&":"&DK5,'Finish order'!$E:$K,3,FALSE()),"") | DO5: =IFERROR(VLOOKUP(DK$1&":"&DK5,'Finish order'!$E:$K,2,FALSE()),"") | DR5: 4 | DS5: =IFERROR(VLOOKUP(DR$1&":"&DR5,'Finish order'!$E:$K,4,FALSE()),"") | DT5: =IFERROR(VLOOKUP(DR$1&":"&DR5,'Finish order'!$E:$K,5,FALSE()),"") | DU5: =IFERROR(VLOOKUP(DR$1&":"&DR5,'Finish order'!$E:$K,3,FALSE()),"") | DV5: =IFERROR(VLOOKUP(DR$1&":"&DR5,'Finish order'!$E:$K,2,FALSE()),"")
A6: 5 | B6: =IFERROR(VLOOKUP($A$1&":"&A6,'Finish order'!C:K,6,FALSE()),"") -> Ian Rowan | C6: =IFERROR(VLOOKUP(A$1&":"&A6,'Finish order'!$C:$K,9,FALSE()),"") -> M45 | D6: =IFERROR(VLOOKUP(A$1&":"&A6,'Finish order'!$C:$K,7,FALSE()),"") -> Esk Valley Fell Club | E6: =IFERROR(VLOOKUP($A$1&":"&A6,'Finish order'!C:K,5,FALSE()),"") -> 0.051041667 | F6: =IFERROR(VLOOKUP($A$1&":"&A6,'Finish order'!C:K,4,FALSE()),"") -> 618 | G6: {=IFERROR(SMALL(IF($D$2:$D915=D6,$A$2:$A$911*1.001),1),"")} -> 5.005 | H6: {=IFERROR(SMALL(IF($D$2:$D915=D6,$A$2:$A$911*1.0001),2),"")} -> 7.0007 | I6: {=IFERROR(SMALL(IF($D$2:$D915=D6,$A$2:$A$911*1.00001),3),"")} -> 8.00008 | J6: {=IFERROR(SMALL(IF($D$2:$D915=D6,$A$2:$A$911*1.000001),4),"")} -> 22.000022 | K6: =IF(A6<>"", IF(COUNT(G6:J6)=4, SUM(G6:J6), "No"), "") -> 42.005802 | L6: =IF(A6<>"", IF(COUNT(G6:I6)=3, SUM(G6:I6), "No"), "") -> 20.00578 | M6: =IF(A6<>"", IF(COUNT(G6:H6)=2, SUM(G6:H6), "No"), "") -> 12.0057 | N6: =Table1[[#This Row],[Club]]&":"&Table1[[#Headers],[Male]] -> Esk Valley Fell Club:Male | P6: 5 | Q6: =IFERROR(VLOOKUP(P$1&":"&P6,'Finish order'!$C:$K,6,FALSE()),"") -> Tabitha McNicholas | R6: =IFERROR(VLOOKUP(P$1&":"&P6,'Finish order'!$C:$K,9,FALSE()),"") -> WSEN | S6: =IFERROR(VLOOKUP(P$1&":"&P6,'Finish order'!$C:$K,7,FALSE()),"") -> North York Moors AC | T6: =IFERROR(VLOOKUP(P$1&":"&P6,'Finish order'!$C:$K,5,FALSE()),"") -> 0.063819444 | U6: =IFERROR(VLOOKUP(P$1&":"&P6,'Finish order'!$C:$K,4,FALSE()),"") -> 4 | V6: {=IFERROR(SMALL(IF($S$2:$S915=S6,$P$2:$P$911*1.001),1),"")} -> 5.005 | W6: {=IFERROR(SMALL(IF($S$2:$S915=S6,$P$2:$P$911*1.0001),2),"")} | X6: {=IFERROR(SMALL(IF($S$2:$S915=S6,$P$2:$P$911*1.00001),3),"")} | Y6: {=IFERROR(SMALL(IF($S$2:$S915=S6,$P$2:$P$911*1.000001),4),"")} | Z6: =IF(P6<>"", IF(COUNT(V6:Y6)=4, SUM(V6:Y6), "No"), "") -> No | AA6: =IF(P6<>"", IF(COUNT(V6:X6)=3, SUM(V6:X6), "No"), "") -> No | AB6: =IF(P6<>"", IF(COUNT(V6:W6)=2, SUM(V6:W6), "No"), "") -> No | AC6: =Table4[[#This Row],[Club]]&":"&Table4[[#Headers],[Female]] -> North York Moors AC:Female | AE6: 5 | AF6: =IFERROR(VLOOKUP(AE$1&":"&AE6,'Finish order'!$E:$K,4,FALSE()),"") | AG6: =IFERROR(VLOOKUP(AE$1&":"&AE6,'Finish order'!$E:$K,5,FALSE()),"") | AH6: =IFERROR(VLOOKUP(AE$1&":"&AE6,'Finish order'!$E:$K,3,FALSE()),"") | AI6: =IFERROR(VLOOKUP(AE$1&":"&AE6,'Finish order'!$E:$K,2,FALSE()),"") | AL6: 5 | AM6: =IFERROR(VLOOKUP(AL$1&":"&AL6,'Finish order'!$E:$K,4,FALSE()),"") | AN6: =IFERROR(VLOOKUP(AL$1&":"&AL6,'Finish order'!$E:$K,5,FALSE()),"") | AO6: =IFERROR(VLOOKUP(AL$1&":"&AL6,'Finish order'!$E:$K,3,FALSE()),"") | AP6: =IFERROR(VLOOKUP(AL$1&":"&AL6,'Finish order'!$E:$K,2,FALSE()),"") | AS6: 5 | AT6: =IFERROR(VLOOKUP(AS$1&":"&AS6,'Finish order'!$E:$K,4,FALSE()),"") -> Adam Nodwell | AU6: =IFERROR(VLOOKUP(AS$1&":"&AS6,'Finish order'!$E:$K,5,FALSE()),"") -> North Leeds Fell Runners | AV6: =IFERROR(VLOOKUP(AS$1&":"&AS6,'Finish order'!$E:$K,3,FALSE()),"") -> 0.059409722 | AW6: =IFERROR(VLOOKUP(AS$1&":"&AS6,'Finish order'!$E:$K,2,FALSE()),"") -> 549 | AZ6: 5 | BA6: =IFERROR(VLOOKUP(AZ$1&":"&AZ6,'Finish order'!$E:$K,4,FALSE()),"") | BB6: =IFERROR(VLOOKUP(AZ$1&":"&AZ6,'Finish order'!$E:$K,5,FALSE()),"") | BC6: =IFERROR(VLOOKUP(AZ$1&":"&AZ6,'Finish order'!$E:$K,3,FALSE()),"") | BD6: =IFERROR(VLOOKUP(AZ$1&":"&AZ6,'Finish order'!$E:$K,2,FALSE()),"") | BG6: 5 | BH6: =IFERROR(VLOOKUP(BG$1&":"&BG6,'Finish order'!$E:$K,4,FALSE()),"") -> Chris Jefferies | BI6: =IFERROR(VLOOKUP(BG$1&":"&BG6,'Finish order'!$E:$K,5,FALSE()),"") -> Billingham RC | BJ6: =IFERROR(VLOOKUP(BG$1&":"&BG6,'Finish order'!$E:$K,3,FALSE()),"") -> 0.0615625 | BK6: =IFERROR(VLOOKUP(BG$1&":"&BG6,'Finish order'!$E:$K,2,FALSE()),"") -> 709 | BN6: 5 | BO6: =IFERROR(VLOOKUP(BN$1&":"&BN6,'Finish order'!$E:$K,4,FALSE()),"") -> Penny Holland | BP6: =IFERROR(VLOOKUP(BN$1&":"&BN6,'Finish order'!$E:$K,5,FALSE()),"") -> Lets Run | BQ6: =IFERROR(VLOOKUP(BN$1&":"&BN6,'Finish order'!$E:$K,3,FALSE()),"") -> 0.085127315 | BR6: =IFERROR(VLOOKUP(BN$1&":"&BN6,'Finish order'!$E:$K,2,FALSE()),"") -> 216 | BU6: 5 | BV6: =IFERROR(VLOOKUP(BU$1&":"&BU6,'Finish order'!$E:$K,4,FALSE()),"") -> Graham D Palmer | BW6: =IFERROR(VLOOKUP(BU$1&":"&BU6,'Finish order'!$E:$K,5,FALSE()),"") -> Loftus & Whitby AC | BX6: =IFERROR(VLOOKUP(BU$1&":"&BU6,'Finish order'!$E:$K,3,FALSE()),"") -> 0.063773148 | BY6: =IFERROR(VLOOKUP(BU$1&":"&BU6,'Finish order'!$E:$K,2,FALSE()),"") -> 907 | CB6: 5 | CC6: =IFERROR(VLOOKUP(CB$1&":"&CB6,'Finish order'!$E:$K,4,FALSE()),"") | CD6: =IFERROR(VLOOKUP(CB$1&":"&CB6,'Finish order'!$E:$K,5,FALSE()),"") | CE6: =IFERROR(VLOOKUP(CB$1&":"&CB6,'Finish order'!$E:$K,3,FALSE()),"") | CF6: =IFERROR(VLOOKUP(CB$1&":"&CB6,'Finish order'!$E:$K,2,FALSE()),"") | CI6: 5 | CJ6: =IFERROR(VLOOKUP(CI$1&":"&CI6,'Finish order'!$E:$K,4,FALSE()),"") | CK6: =IFERROR(VLOOKUP(CI$1&":"&CI6,'Finish order'!$E:$K,5,FALSE()),"") | CL6: =IFERROR(VLOOKUP(CI$1&":"&CI6,'Finish order'!$E:$K,3,FALSE()),"") | CM6: =IFERROR(VLOOKUP(CI$1&":"&CI6,'Finish order'!$E:$K,2,FALSE()),"") | CP6: 5 | CQ6: =IFERROR(VLOOKUP(CP$1&":"&CP6,'Finish order'!$E:$K,4,FALSE()),"") | CR6: =IFERROR(VLOOKUP(CP$1&":"&CP6,'Finish order'!$E:$K,5,FALSE()),"") | CS6: =IFERROR(VLOOKUP(CP$1&":"&CP6,'Finish order'!$E:$K,3,FALSE()),"") | CT6: =IFERROR(VLOOKUP(CP$1&":"&CP6,'Finish order'!$E:$K,2,FALSE()),"") | CW6: 5 | CX6: =IFERROR(VLOOKUP(CW$1&":"&CW6,'Finish order'!$E:$K,4,FALSE()),"") | CY6: =IFERROR(VLOOKUP(CW$1&":"&CW6,'Finish order'!$E:$K,5,FALSE()),"") | CZ6: =IFERROR(VLOOKUP(CW$1&":"&CW6,'Finish order'!$E:$K,3,FALSE()),"") | DA6: =IFERROR(VLOOKUP(CW$1&":"&CW6,'Finish order'!$E:$K,2,FALSE()),"") | DD6: 5 | DE6: =IFERROR(VLOOKUP(DD$1&":"&DD6,'Finish order'!$E:$K,4,FALSE()),"") | DF6: =IFERROR(VLOOKUP(DD$1&":"&DD6,'Finish order'!$E:$K,5,FALSE()),"") | DG6: =IFERROR(VLOOKUP(DD$1&":"&DD6,'Finish order'!$E:$K,3,FALSE()),"") | DH6: =IFERROR(VLOOKUP(DD$1&":"&DD6,'Finish order'!$E:$K,2,FALSE()),"") | DK6: 5 | DL6: =IFERROR(VLOOKUP(DK$1&":"&DK6,'Finish order'!$E:$K,4,FALSE()),"") | DM6: =IFERROR(VLOOKUP(DK$1&":"&DK6,'Finish order'!$E:$K,5,FALSE()),"") | DN6: =IFERROR(VLOOKUP(DK$1&":"&DK6,'Finish order'!$E:$K,3,FALSE()),"") | DO6: =IFERROR(VLOOKUP(DK$1&":"&DK6,'Finish order'!$E:$K,2,FALSE()),"") | DR6: 5 | DS6: =IFERROR(VLOOKUP(DR$1&":"&DR6,'Finish order'!$E:$K,4,FALSE()),"") | DT6: =IFERROR(VLOOKUP(DR$1&":"&DR6,'Finish order'!$E:$K,5,FALSE()),"") | DU6: =IFERROR(VLOOKUP(DR$1&":"&DR6,'Finish order'!$E:$K,3,FALSE()),"") | DV6: =IFERROR(VLOOKUP(DR$1&":"&DR6,'Finish order'!$E:$K,2,FALSE()),"")
A7: 6 | B7: =IFERROR(VLOOKUP($A$1&":"&A7,'Finish order'!C:K,6,FALSE()),"") -> Peter Walker | C7: =IFERROR(VLOOKUP(A$1&":"&A7,'Finish order'!$C:$K,9,FALSE()),"") -> M40 | D7: =IFERROR(VLOOKUP(A$1&":"&A7,'Finish order'!$C:$K,7,FALSE()),"") -> York Knavesmire Harriers | E7: =IFERROR(VLOOKUP($A$1&":"&A7,'Finish order'!C:K,5,FALSE()),"") -> 0.051423611 | F7: =IFERROR(VLOOKUP($A$1&":"&A7,'Finish order'!C:K,4,FALSE()),"") -> 511 | G7: {=IFERROR(SMALL(IF($D$2:$D916=D7,$A$2:$A$911*1.001),1),"")} -> 6.006 | H7: {=IFERROR(SMALL(IF($D$2:$D916=D7,$A$2:$A$911*1.0001),2),"")} -> 10.001 | I7: {=IFERROR(SMALL(IF($D$2:$D916=D7,$A$2:$A$911*1.00001),3),"")} -> 12.00012 | J7: {=IFERROR(SMALL(IF($D$2:$D916=D7,$A$2:$A$911*1.000001),4),"")} -> 16.000016 | K7: =IF(A7<>"", IF(COUNT(G7:J7)=4, SUM(G7:J7), "No"), "") -> 44.007136 | L7: =IF(A7<>"", IF(COUNT(G7:I7)=3, SUM(G7:I7), "No"), "") -> 28.00712 | M7: =IF(A7<>"", IF(COUNT(G7:H7)=2, SUM(G7:H7), "No"), "") -> 16.007 | N7: =Table1[[#This Row],[Club]]&":"&Table1[[#Headers],[Male]] -> York Knavesmire Harriers:Male | P7: 6 | Q7: =IFERROR(VLOOKUP(P$1&":"&P7,'Finish order'!$C:$K,6,FALSE()),"") -> Janet Patterson | R7: =IFERROR(VLOOKUP(P$1&":"&P7,'Finish order'!$C:$K,9,FALSE()),"") -> W45 | S7: =IFERROR(VLOOKUP(P$1&":"&P7,'Finish order'!$C:$K,7,FALSE()),"") -> Run Scarborough | T7: =IFERROR(VLOOKUP(P$1&":"&P7,'Finish order'!$C:$K,5,FALSE()),"") -> 0.065138889 | U7: =IFERROR(VLOOKUP(P$1&":"&P7,'Finish order'!$C:$K,4,FALSE()),"") -> 181 | V7: {=IFERROR(SMALL(IF($S$2:$S916=S7,$P$2:$P$911*1.001),1),"")} -> 6.006 | W7: {=IFERROR(SMALL(IF($S$2:$S916=S7,$P$2:$P$911*1.0001),2),"")} | X7: {=IFERROR(SMALL(IF($S$2:$S916=S7,$P$2:$P$911*1.00001),3),"")} | Y7: {=IFERROR(SMALL(IF($S$2:$S916=S7,$P$2:$P$911*1.000001),4),"")} | Z7: =IF(P7<>"", IF(COUNT(V7:Y7)=4, SUM(V7:Y7), "No"), "") -> No | AA7: =IF(P7<>"", IF(COUNT(V7:X7)=3, SUM(V7:X7), "No"), "") -> No | AB7: =IF(P7<>"", IF(COUNT(V7:W7)=2, SUM(V7:W7), "No"), "") -> No | AC7: =Table4[[#This Row],[Club]]&":"&Table4[[#Headers],[Female]] -> Run Scarborough:Female | AE7: 6 | AF7: =IFERROR(VLOOKUP(AE$1&":"&AE7,'Finish order'!$E:$K,4,FALSE()),"") | AG7: =IFERROR(VLOOKUP(AE$1&":"&AE7,'Finish order'!$E:$K,5,FALSE()),"") | AH7: =IFERROR(VLOOKUP(AE$1&":"&AE7,'Finish order'!$E:$K,3,FALSE()),"") | AI7: =IFERROR(VLOOKUP(AE$1&":"&AE7,'Finish order'!$E:$K,2,FALSE()),"") | AL7: 6 | AM7: =IFERROR(VLOOKUP(AL$1&":"&AL7,'Finish order'!$E:$K,4,FALSE()),"") | AN7: =IFERROR(VLOOKUP(AL$1&":"&AL7,'Finish order'!$E:$K,5,FALSE()),"") | AO7: =IFERROR(VLOOKUP(AL$1&":"&AL7,'Finish order'!$E:$K,3,FALSE()),"") | AP7: =IFERROR(VLOOKUP(AL$1&":"&AL7,'Finish order'!$E:$K,2,FALSE()),"") | AS7: 6 | AT7: =IFERROR(VLOOKUP(AS$1&":"&AS7,'Finish order'!$E:$K,4,FALSE()),"") -> Allan Ball | AU7: =IFERROR(VLOOKUP(AS$1&":"&AS7,'Finish order'!$E:$K,5,FALSE()),"") -> South Shields Harriers & AC | AV7: =IFERROR(VLOOKUP(AS$1&":"&AS7,'Finish order'!$E:$K,3,FALSE()),"") -> 0.069212963 | AW7: =IFERROR(VLOOKUP(AS$1&":"&AS7,'Finish order'!$E:$K,2,FALSE()),"") -> 551 | AZ7: 6 | BA7: =IFERROR(VLOOKUP(AZ$1&":"&AZ7,'Finish order'!$E:$K,4,FALSE()),"") | BB7: =IFERROR(VLOOKUP(AZ$1&":"&AZ7,'Finish order'!$E:$K,5,FALSE()),"") | BC7: =IFERROR(VLOOKUP(AZ$1&":"&AZ7,'Finish order'!$E:$K,3,FALSE()),"") | BD7: =IFERROR(VLOOKUP(AZ$1&":"&AZ7,'Finish order'!$E:$K,2,FALSE()),"") | BG7: 6 | BH7: =IFERROR(VLOOKUP(BG$1&":"&BG7,'Finish order'!$E:$K,4,FALSE()),"") -> Andrew Gamble | BI7: =IFERROR(VLOOKUP(BG$1&":"&BG7,'Finish order'!$E:$K,5,FALSE()),"") -> Individual# | BJ7: =IFERROR(VLOOKUP(BG$1&":"&BG7,'Finish order'!$E:$K,3,FALSE()),"") -> 0.064560185 | BK7: =IFERROR(VLOOKUP(BG$1&":"&BG7,'Finish order'!$E:$K,2,FALSE()),"") -> 710 | BN7: 6 | BO7: =IFERROR(VLOOKUP(BN$1&":"&BN7,'Finish order'!$E:$K,4,FALSE()),"") -> Serena Partridge | BP7: =IFERROR(VLOOKUP(BN$1&":"&BN7,'Finish order'!$E:$K,5,FALSE()),"") -> Pickering RC | BQ7: =IFERROR(VLOOKUP(BN$1&":"&BN7,'Finish order'!$E:$K,3,FALSE()),"") -> 0.086261574 | BR7: =IFERROR(VLOOKUP(BN$1&":"&BN7,'Finish order'!$E:$K,2,FALSE()),"") -> 210 | BU7: 6 | BV7: =IFERROR(VLOOKUP(BU$1&":"&BU7,'Finish order'!$E:$K,4,FALSE()),"") -> Christopher Clayton | BW7: =IFERROR(VLOOKUP(BU$1&":"&BU7,'Finish order'!$E:$K,5,FALSE()),"") -> Scarborough AC | BX7: =IFERROR(VLOOKUP(BU$1&":"&BU7,'Finish order'!$E:$K,3,FALSE()),"") -> 0.063865741 | BY7: =IFERROR(VLOOKUP(BU$1&":"&BU7,'Finish order'!$E:$K,2,FALSE()),"") -> 915 | CB7: 6 | CC7: =IFERROR(VLOOKUP(CB$1&":"&CB7,'Finish order'!$E:$K,4,FALSE()),"") | CD7: =IFERROR(VLOOKUP(CB$1&":"&CB7,'Finish order'!$E:$K,5,FALSE()),"") | CE7: =IFERROR(VLOOKUP(CB$1&":"&CB7,'Finish order'!$E:$K,3,FALSE()),"") | CF7: =IFERROR(VLOOKUP(CB$1&":"&CB7,'Finish order'!$E:$K,2,FALSE()),"") | CI7: 6 | CJ7: =IFERROR(VLOOKUP(CI$1&":"&CI7,'Finish order'!$E:$K,4,FALSE()),"") | CK7: =IFERROR(VLOOKUP(CI$1&":"&CI7,'Finish order'!$E:$K,5,FALSE()),"") | CL7: =IFERROR(VLOOKUP(CI$1&":"&CI7,'Finish order'!$E:$K,3,FALSE()),"") | CM7: =IFERROR(VLOOKUP(CI$1&":"&CI7,'Finish order'!$E:$K,2,FALSE()),"") | CP7: 6 | CQ7: =IFERROR(VLOOKUP(CP$1&":"&CP7,'Finish order'!$E:$K,4,FALSE()),"") | CR7: =IFERROR(VLOOKUP(CP$1&":"&CP7,'Finish order'!$E:$K,5,FALSE()),"") | CS7: =IFERROR(VLOOKUP(CP$1&":"&CP7,'Finish order'!$E:$K,3,FALSE()),"") | CT7: =IFERROR(VLOOKUP(CP$1&":"&CP7,'Finish order'!$E:$K,2,FALSE()),"") | CW7: 6 | CX7: =IFERROR(VLOOKUP(CW$1&":"&CW7,'Finish order'!$E:$K,4,FALSE()),"") | CY7: =IFERROR(VLOOKUP(CW$1&":"&CW7,'Finish order'!$E:$K,5,FALSE()),"") | CZ7: =IFERROR(VLOOKUP(CW$1&":"&CW7,'Finish order'!$E:$K,3,FALSE()),"") | DA7: =IFERROR(VLOOKUP(CW$1&":"&CW7,'Finish order'!$E:$K,2,FALSE()),"") | DD7: 6 | DE7: =IFERROR(VLOOKUP(DD$1&":"&DD7,'Finish order'!$E:$K,4,FALSE()),"") | DF7: =IFERROR(VLOOKUP(DD$1&":"&DD7,'Finish order'!$E:$K,5,FALSE()),"") | DG7: =IFERROR(VLOOKUP(DD$1&":"&DD7,'Finish order'!$E:$K,3,FALSE()),"") | DH7: =IFERROR(VLOOKUP(DD$1&":"&DD7,'Finish order'!$E:$K,2,FALSE()),"") | DK7: 6 | DL7: =IFERROR(VLOOKUP(DK$1&":"&DK7,'Finish order'!$E:$K,4,FALSE()),"") | DM7: =IFERROR(VLOOKUP(DK$1&":"&DK7,'Finish order'!$E:$K,5,FALSE()),"") | DN7: =IFERROR(VLOOKUP(DK$1&":"&DK7,'Finish order'!$E:$K,3,FALSE()),"") | DO7: =IFERROR(VLOOKUP(DK$1&":"&DK7,'Finish order'!$E:$K,2,FALSE()),"") | DR7: 6 | DS7: =IFERROR(VLOOKUP(DR$1&":"&DR7,'Finish order'!$E:$K,4,FALSE()),"") | DT7: =IFERROR(VLOOKUP(DR$1&":"&DR7,'Finish order'!$E:$K,5,FALSE()),"") | DU7: =IFERROR(VLOOKUP(DR$1&":"&DR7,'Finish order'!$E:$K,3,FALSE()),"") | DV7: =IFERROR(VLOOKUP(DR$1&":"&DR7,'Finish order'!$E:$K,2,FALSE()),"")
A8: 7 | B8: =IFERROR(VLOOKUP($A$1&":"&A8,'Finish order'!C:K,6,FALSE()),"") -> Stephen Pugh | C8: =IFERROR(VLOOKUP(A$1&":"&A8,'Finish order'!$C:$K,9,FALSE()),"") -> M55 | D8: =IFERROR(VLOOKUP(A$1&":"&A8,'Finish order'!$C:$K,7,FALSE()),"") -> Esk Valley Fell Club | E8: =IFERROR(VLOOKUP($A$1&":"&A8,'Finish order'!C:K,5,FALSE()),"") -> 0.052349537 | F8: =IFERROR(VLOOKUP($A$1&":"&A8,'Finish order'!C:K,4,FALSE()),"") -> 804 | G8: {=IFERROR(SMALL(IF($D$2:$D917=D8,$A$2:$A$911*1.001),1),"")} -> 5.005 | H8: {=IFERROR(SMALL(IF($D$2:$D917=D8,$A$2:$A$911*1.0001),2),"")} -> 7.0007 | I8: {=IFERROR(SMALL(IF($D$2:$D917=D8,$A$2:$A$911*1.00001),3),"")} -> 8.00008 | J8: {=IFERROR(SMALL(IF($D$2:$D917=D8,$A$2:$A$911*1.000001),4),"")} -> 22.000022 | K8: =IF(A8<>"", IF(COUNT(G8:J8)=4, SUM(G8:J8), "No"), "") -> 42.005802 | L8: =IF(A8<>"", IF(COUNT(G8:I8)=3, SUM(G8:I8), "No"), "") -> 20.00578 | M8: =IF(A8<>"", IF(COUNT(G8:H8)=2, SUM(G8:H8), "No"), "") -> 12.0057 | N8: =Table1[[#This Row],[Club]]&":"&Table1[[#Headers],[Male]] -> Esk Valley Fell Club:Male | P8: 7 | Q8: =IFERROR(VLOOKUP(P$1&":"&P8,'Finish order'!$C:$K,6,FALSE()),"") -> Jess Evans | R8: =IFERROR(VLOOKUP(P$1&":"&P8,'Finish order'!$C:$K,9,FALSE()),"") -> W45 | S8: =IFERROR(VLOOKUP(P$1&":"&P8,'Finish order'!$C:$K,7,FALSE()),"") -> St Theresa's AC | T8: =IFERROR(VLOOKUP(P$1&":"&P8,'Finish order'!$C:$K,5,FALSE()),"") -> 0.066215278 | U8: =IFERROR(VLOOKUP(P$1&":"&P8,'Finish order'!$C:$K,4,FALSE()),"") -> 157 | V8: {=IFERROR(SMALL(IF($S$2:$S917=S8,$P$2:$P$911*1.001),1),"")} -> 7.007 | W8: {=IFERROR(SMALL(IF($S$2:$S917=S8,$P$2:$P$911*1.0001),2),"")} | X8: {=IFERROR(SMALL(IF($S$2:$S917=S8,$P$2:$P$911*1.00001),3),"")} | Y8: {=IFERROR(SMALL(IF($S$2:$S917=S8,$P$2:$P$911*1.000001),4),"")} | Z8: =IF(P8<>"", IF(COUNT(V8:Y8)=4, SUM(V8:Y8), "No"), "") -> No | AA8: =IF(P8<>"", IF(COUNT(V8:X8)=3, SUM(V8:X8), "No"), "") -> No | AB8: =IF(P8<>"", IF(COUNT(V8:W8)=2, SUM(V8:W8), "No"), "") -> No | AC8: =Table4[[#This Row],[Club]]&":"&Table4[[#Headers],[Female]] -> St Theresa's AC:Female | AE8: 7 | AF8: =IFERROR(VLOOKUP(AE$1&":"&AE8,'Finish order'!$E:$K,4,FALSE()),"") | AG8: =IFERROR(VLOOKUP(AE$1&":"&AE8,'Finish order'!$E:$K,5,FALSE()),"") | AH8: =IFERROR(VLOOKUP(AE$1&":"&AE8,'Finish order'!$E:$K,3,FALSE()),"") | AI8: =IFERROR(VLOOKUP(AE$1&":"&AE8,'Finish order'!$E:$K,2,FALSE()),"") | AL8: 7 | AM8: =IFERROR(VLOOKUP(AL$1&":"&AL8,'Finish order'!$E:$K,4,FALSE()),"") | AN8: =IFERROR(VLOOKUP(AL$1&":"&AL8,'Finish order'!$E:$K,5,FALSE()),"") | AO8: =IFERROR(VLOOKUP(AL$1&":"&AL8,'Finish order'!$E:$K,3,FALSE()),"") | AP8: =IFERROR(VLOOKUP(AL$1&":"&AL8,'Finish order'!$E:$K,2,FALSE()),"") | AS8: 7 | AT8: =IFERROR(VLOOKUP(AS$1&":"&AS8,'Finish order'!$E:$K,4,FALSE()),"") -> Kevin Steven | AU8: =IFERROR(VLOOKUP(AS$1&":"&AS8,'Finish order'!$E:$K,5,FALSE()),"") -> South Shields Harriers & AC | AV8: =IFERROR(VLOOKUP(AS$1&":"&AS8,'Finish order'!$E:$K,3,FALSE()),"") -> 0.08650463 | AW8: =IFERROR(VLOOKUP(AS$1&":"&AS8,'Finish order'!$E:$K,2,FALSE()),"") -> 1150 | AZ8: 7 | BA8: =IFERROR(VLOOKUP(AZ$1&":"&AZ8,'Finish order'!$E:$K,4,FALSE()),"") | BB8: =IFERROR(VLOOKUP(AZ$1&":"&AZ8,'Finish order'!$E:$K,5,FALSE()),"") | BC8: =IFERROR(VLOOKUP(AZ$1&":"&AZ8,'Finish order'!$E:$K,3,FALSE()),"") | BD8: =IFERROR(VLOOKUP(AZ$1&":"&AZ8,'Finish order'!$E:$K,2,FALSE()),"") | BG8: 7 | BH8: =IFERROR(VLOOKUP(BG$1&":"&BG8,'Finish order'!$E:$K,4,FALSE()),"") -> Dale Hepples | BI8: =IFERROR(VLOOKUP(BG$1&":"&BG8,'Finish order'!$E:$K,5,FALSE()),"") -> Scarborough AC | BJ8: =IFERROR(VLOOKUP(BG$1&":"&BG8,'Finish order'!$E:$K,3,FALSE()),"") -> 0.067280093 | BK8: =IFERROR(VLOOKUP(BG$1&":"&BG8,'Finish order'!$E:$K,2,FALSE()),"") -> 760 | BN8: 7 | BO8: =IFERROR(VLOOKUP(BN$1&":"&BN8,'Finish order'!$E:$K,4,FALSE()),"") | BP8: =IFERROR(VLOOKUP(BN$1&":"&BN8,'Finish order'!$E:$K,5,FALSE()),"") | BQ8: =IFERROR(VLOOKUP(BN$1&":"&BN8,'Finish order'!$E:$K,3,FALSE()),"") | BR8: =IFERROR(VLOOKUP(BN$1&":"&BN8,'Finish order'!$E:$K,2,FALSE()),"") | BU8: 7 | BV8: =IFERROR(VLOOKUP(BU$1&":"&BU8,'Finish order'!$E:$K,4,FALSE()),"") -> Matt Rylatt | BW8: =IFERROR(VLOOKUP(BU$1&":"&BU8,'Finish order'!$E:$K,5,FALSE()),"") -> York Triathlon Club | BX8: =IFERROR(VLOOKUP(BU$1&":"&BU8,'Finish order'!$E:$K,3,FALSE()),"") -> 0.065081019 | BY8: =IFERROR(VLOOKUP(BU$1&":"&BU8,'Finish order'!$E:$K,2,FALSE()),"") -> 901 | CB8: 7 | CC8: =IFERROR(VLOOKUP(CB$1&":"&CB8,'Finish order'!$E:$K,4,FALSE()),"") | CD8: =IFERROR(VLOOKUP(CB$1&":"&CB8,'Finish order'!$E:$K,5,FALSE()),"") | CE8: =IFERROR(VLOOKUP(CB$1&":"&CB8,'Finish order'!$E:$K,3,FALSE()),"") | CF8: =IFERROR(VLOOKUP(CB$1&":"&CB8,'Finish order'!$E:$K,2,FALSE()),"") | CI8: 7 | CJ8: =IFERROR(VLOOKUP(CI$1&":"&CI8,'Finish order'!$E:$K,4,FALSE()),"") | CK8: =IFERROR(VLOOKUP(CI$1&":"&CI8,'Finish order'!$E:$K,5,FALSE()),"") | CL8: =IFERROR(VLOOKUP(CI$1&":"&CI8,'Finish order'!$E:$K,3,FALSE()),"") | CM8: =IFERROR(VLOOKUP(CI$1&":"&CI8,'Finish order'!$E:$K,2,FALSE()),"") | CP8: 7 | CQ8: =IFERROR(VLOOKUP(CP$1&":"&CP8,'Finish order'!$E:$K,4,FALSE()),"") | CR8: =IFERROR(VLOOKUP(CP$1&":"&CP8,'Finish order'!$E:$K,5,FALSE()),"") | CS8: =IFERROR(VLOOKUP(CP$1&":"&CP8,'Finish order'!$E:$K,3,FALSE()),"") | CT8: =IFERROR(VLOOKUP(CP$1&":"&CP8,'Finish order'!$E:$K,2,FALSE()),"") | CW8: 7 | CX8: =IFERROR(VLOOKUP(CW$1&":"&CW8,'Finish order'!$E:$K,4,FALSE()),"") | CY8: =IFERROR(VLOOKUP(CW$1&":"&CW8,'Finish order'!$E:$K,5,FALSE()),"") | CZ8: =IFERROR(VLOOKUP(CW$1&":"&CW8,'Finish order'!$E:$K,3,FALSE()),"") | DA8: =IFERROR(VLOOKUP(CW$1&":"&CW8,'Finish order'!$E:$K,2,FALSE()),"") | DD8: 7 | DE8: =IFERROR(VLOOKUP(DD$1&":"&DD8,'Finish order'!$E:$K,4,FALSE()),"") | DF8: =IFERROR(VLOOKUP(DD$1&":"&DD8,'Finish order'!$E:$K,5,FALSE()),"") | DG8: =IFERROR(VLOOKUP(DD$1&":"&DD8,'Finish order'!$E:$K,3,FALSE()),"") | DH8: =IFERROR(VLOOKUP(DD$1&":"&DD8,'Finish order'!$E:$K,2,FALSE()),"") | DK8: 7 | DL8: =IFERROR(VLOOKUP(DK$1&":"&DK8,'Finish order'!$E:$K,4,FALSE()),"") | DM8: =IFERROR(VLOOKUP(DK$1&":"&DK8,'Finish order'!$E:$K,5,FALSE()),"") | DN8: =IFERROR(VLOOKUP(DK$1&":"&DK8,'Finish order'!$E:$K,3,FALSE()),"") | DO8: =IFERROR(VLOOKUP(DK$1&":"&DK8,'Finish order'!$E:$K,2,FALSE()),"") | DR8: 7 | DS8: =IFERROR(VLOOKUP(DR$1&":"&DR8,'Finish order'!$E:$K,4,FALSE()),"") | DT8: =IFERROR(VLOOKUP(DR$1&":"&DR8,'Finish order'!$E:$K,5,FALSE()),"") | DU8: =IFERROR(VLOOKUP(DR$1&":"&DR8,'Finish order'!$E:$K,3,FALSE()),"") | DV8: =IFERROR(VLOOKUP(DR$1&":"&DR8,'Finish order'!$E:$K,2,FALSE()),"")
A9: 8 | B9: =IFERROR(VLOOKUP($A$1&":"&A9,'Finish order'!C:K,6,FALSE()),"") -> Rorie McIntosh | C9: =IFERROR(VLOOKUP(A$1&":"&A9,'Finish order'!$C:$K,9,FALSE()),"") -> M40 | D9: =IFERROR(VLOOKUP(A$1&":"&A9,'Finish order'!$C:$K,7,FALSE()),"") -> Esk Valley Fell Club | E9: =IFERROR(VLOOKUP($A$1&":"&A9,'Finish order'!C:K,5,FALSE()),"") -> 0.052488426 | F9: =IFERROR(VLOOKUP($A$1&":"&A9,'Finish order'!C:K,4,FALSE()),"") -> 543 | G9: {=IFERROR(SMALL(IF($D$2:$D918=D9,$A$2:$A$911*1.001),1),"")} -> 5.005 | H9: {=IFERROR(SMALL(IF($D$2:$D918=D9,$A$2:$A$911*1.0001),2),"")} -> 7.0007 | I9: {=IFERROR(SMALL(IF($D$2:$D918=D9,$A$2:$A$911*1.00001),3),"")} -> 8.00008 | J9: {=IFERROR(SMALL(IF($D$2:$D918=D9,$A$2:$A$911*1.000001),4),"")} -> 22.000022 | K9: =IF(A9<>"", IF(COUNT(G9:J9)=4, SUM(G9:J9), "No"), "") -> 42.005802 | L9: =IF(A9<>"", IF(COUNT(G9:I9)=3, SUM(G9:I9), "No"), "") -> 20.00578 | M9: =IF(A9<>"", IF(COUNT(G9:H9)=2, SUM(G9:H9), "No"), "") -> 12.0057 | N9: =Table1[[#This Row],[Club]]&":"&Table1[[#Headers],[Male]] -> Esk Valley Fell Club:Male | P9: 8 | Q9: =IFERROR(VLOOKUP(P$1&":"&P9,'Finish order'!$C:$K,6,FALSE()),"") -> Marianne Borsheim | R9: =IFERROR(VLOOKUP(P$1&":"&P9,'Finish order'!$C:$K,9,FALSE()),"") -> W50 | S9: =IFERROR(VLOOKUP(P$1&":"&P9,'Finish order'!$C:$K,7,FALSE()),"") -> Scarborough AC | T9: =IFERROR(VLOOKUP(P$1&":"&P9,'Finish order'!$C:$K,5,FALSE()),"") -> 0.066782407 | U9: =IFERROR(VLOOKUP(P$1&":"&P9,'Finish order'!$C:$K,4,FALSE()),"") -> 202 | V9: {=IFERROR(SMALL(IF($S$2:$S918=S9,$P$2:$P$911*1.001),1),"")} -> 2.002 | W9: {=IFERROR(SMALL(IF($S$2:$S918=S9,$P$2:$P$911*1.0001),2),"")} -> 4.0004 | X9: {=IFERROR(SMALL(IF($S$2:$S918=S9,$P$2:$P$911*1.00001),3),"")} -> 8.00008 | Y9: {=IFERROR(SMALL(IF($S$2:$S918=S9,$P$2:$P$911*1.000001),4),"")} -> 23.000023 | Z9: =IF(P9<>"", IF(COUNT(V9:Y9)=4, SUM(V9:Y9), "No"), "") -> 37.002503 | AA9: =IF(P9<>"", IF(COUNT(V9:X9)=3, SUM(V9:X9), "No"), "") -> 14.00248 | AB9: =IF(P9<>"", IF(COUNT(V9:W9)=2, SUM(V9:W9), "No"), "") -> 6.0024 | AC9: =Table4[[#This Row],[Club]]&":"&Table4[[#Headers],[Female]] -> Scarborough AC:Female | AE9: 8 | AF9: =IFERROR(VLOOKUP(AE$1&":"&AE9,'Finish order'!$E:$K,4,FALSE()),"") | AG9: =IFERROR(VLOOKUP(AE$1&":"&AE9,'Finish order'!$E:$K,5,FALSE()),"") | AH9: =IFERROR(VLOOKUP(AE$1&":"&AE9,'Finish order'!$E:$K,3,FALSE()),"") | AI9: =IFERROR(VLOOKUP(AE$1&":"&AE9,'Finish order'!$E:$K,2,FALSE()),"") | AL9: 8 | AM9: =IFERROR(VLOOKUP(AL$1&":"&AL9,'Finish order'!$E:$K,4,FALSE()),"") | AN9: =IFERROR(VLOOKUP(AL$1&":"&AL9,'Finish order'!$E:$K,5,FALSE()),"") | AO9: =IFERROR(VLOOKUP(AL$1&":"&AL9,'Finish order'!$E:$K,3,FALSE()),"") | AP9: =IFERROR(VLOOKUP(AL$1&":"&AL9,'Finish order'!$E:$K,2,FALSE()),"") | AS9: 8 | AT9: =IFERROR(VLOOKUP(AS$1&":"&AS9,'Finish order'!$E:$K,4,FALSE()),"") | AU9: =IFERROR(VLOOKUP(AS$1&":"&AS9,'Finish order'!$E:$K,5,FALSE()),"") | AV9: =IFERROR(VLOOKUP(AS$1&":"&AS9,'Finish order'!$E:$K,3,FALSE()),"") | AW9: =IFERROR(VLOOKUP(AS$1&":"&AS9,'Finish order'!$E:$K,2,FALSE()),"") | AZ9: 8 | BA9: =IFERROR(VLOOKUP(AZ$1&":"&AZ9,'Finish order'!$E:$K,4,FALSE()),"") | BB9: =IFERROR(VLOOKUP(AZ$1&":"&AZ9,'Finish order'!$E:$K,5,FALSE()),"") | BC9: =IFERROR(VLOOKUP(AZ$1&":"&AZ9,'Finish order'!$E:$K,3,FALSE()),"") | BD9: =IFERROR(VLOOKUP(AZ$1&":"&AZ9,'Finish order'!$E:$K,2,FALSE()),"") | BG9: 8 | BH9: =IFERROR(VLOOKUP(BG$1&":"&BG9,'Finish order'!$E:$K,4,FALSE()),"") -> David Simpson | BI9: =IFERROR(VLOOKUP(BG$1&":"&BG9,'Finish order'!$E:$K,5,FALSE()),"") -> York Knavesmire Harriers | BJ9: =IFERROR(VLOOKUP(BG$1&":"&BG9,'Finish order'!$E:$K,3,FALSE()),"") -> 0.068645833 | BK9: =IFERROR(VLOOKUP(BG$1&":"&BG9,'Finish order'!$E:$K,2,FALSE()),"") -> 742 | BN9: 8 | BO9: =IFERROR(VLOOKUP(BN$1&":"&BN9,'Finish order'!$E:$K,4,FALSE()),"") | BP9: =IFERROR(VLOOKUP(BN$1&":"&BN9,'Finish order'!$E:$K,5,FALSE()),"") | BQ9: =IFERROR(VLOOKUP(BN$1&":"&BN9,'Finish order'!$E:$K,3,FALSE()),"") | BR9: =IFERROR(VLOOKUP(BN$1&":"&BN9,'Finish order'!$E:$K,2,FALSE()),"") | BU9: 8 | BV9: =IFERROR(VLOOKUP(BU$1&":"&BU9,'Finish order'!$E:$K,4,FALSE()),"") -> Stephen Carter | BW9: =IFERROR(VLOOKUP(BU$1&":"&BU9,'Finish order'!$E:$K,5,FALSE()),"") -> Esk Valley Fell Club | BX9: =IFERROR(VLOOKUP(BU$1&":"&BU9,'Finish order'!$E:$K,3,FALSE()),"") -> 0.072997685 | BY9: =IFERROR(VLOOKUP(BU$1&":"&BU9,'Finish order'!$E:$K,2,FALSE()),"") -> 943 | CB9: 8 | CC9: =IFERROR(VLOOKUP(CB$1&":"&CB9,'Finish order'!$E:$K,4,FALSE()),"") | CD9: =IFERROR(VLOOKUP(CB$1&":"&CB9,'Finish order'!$E:$K,5,FALSE()),"") | CE9: =IFERROR(VLOOKUP(CB$1&":"&CB9,'Finish order'!$E:$K,3,FALSE()),"") | CF9: =IFERROR(VLOOKUP(CB$1&":"&CB9,'Finish order'!$E:$K,2,FALSE()),"") | CI9: 8 | CJ9: =IFERROR(VLOOKUP(CI$1&":"&CI9,'Finish order'!$E:$K,4,FALSE()),"") | CK9: =IFERROR(VLOOKUP(CI$1&":"&CI9,'Finish order'!$E:$K,5,FALSE()),"") | CL9: =IFERROR(VLOOKUP(CI$1&":"&CI9,'Finish order'!$E:$K,3,FALSE()),"") | CM9: =IFERROR(VLOOKUP(CI$1&":"&CI9,'Finish order'!$E:$K,2,FALSE()),"") | CP9: 8 | CQ9: =IFERROR(VLOOKUP(CP$1&":"&CP9,'Finish order'!$E:$K,4,FALSE()),"") | CR9: =IFERROR(VLOOKUP(CP$1&":"&CP9,'Finish order'!$E:$K,5,FALSE()),"") | CS9: =IFERROR(VLOOKUP(CP$1&":"&CP9,'Finish order'!$E:$K,3,FALSE()),"") | CT9: =IFERROR(VLOOKUP(CP$1&":"&CP9,'Finish order'!$E:$K,2,FALSE()),"") | CW9: 8 | CX9: =IFERROR(VLOOKUP(CW$1&":"&CW9,'Finish order'!$E:$K,4,FALSE()),"") | CY9: =IFERROR(VLOOKUP(CW$1&":"&CW9,'Finish order'!$E:$K,5,FALSE()),"") | CZ9: =IFERROR(VLOOKUP(CW$1&":"&CW9,'Finish order'!$E:$K,3,FALSE()),"") | DA9: =IFERROR(VLOOKUP(CW$1&":"&CW9,'Finish order'!$E:$K,2,FALSE()),"") | DD9: 8 | DE9: =IFERROR(VLOOKUP(DD$1&":"&DD9,'Finish order'!$E:$K,4,FALSE()),"") | DF9: =IFERROR(VLOOKUP(DD$1&":"&DD9,'Finish order'!$E:$K,5,FALSE()),"") | DG9: =IFERROR(VLOOKUP(DD$1&":"&DD9,'Finish order'!$E:$K,3,FALSE()),"") | DH9: =IFERROR(VLOOKUP(DD$1&":"&DD9,'Finish order'!$E:$K,2,FALSE()),"") | DK9: 8 | DL9: =IFERROR(VLOOKUP(DK$1&":"&DK9,'Finish order'!$E:$K,4,FALSE()),"") | DM9: =IFERROR(VLOOKUP(DK$1&":"&DK9,'Finish order'!$E:$K,5,FALSE()),"") | DN9: =IFERROR(VLOOKUP(DK$1&":"&DK9,'Finish order'!$E:$K,3,FALSE()),"") | DO9: =IFERROR(VLOOKUP(DK$1&":"&DK9,'Finish order'!$E:$K,2,FALSE()),"") | DR9: 8 | DS9: =IFERROR(VLOOKUP(DR$1&":"&DR9,'Finish order'!$E:$K,4,FALSE()),"") | DT9: =IFERROR(VLOOKUP(DR$1&":"&DR9,'Finish order'!$E:$K,5,FALSE()),"") | DU9: =IFERROR(VLOOKUP(DR$1&":"&DR9,'Finish order'!$E:$K,3,FALSE()),"") | DV9: =IFERROR(VLOOKUP(DR$1&":"&DR9,'Finish order'!$E:$K,2,FALSE()),"")
A10: 9 | B10: =IFERROR(VLOOKUP($A$1&":"&A10,'Finish order'!C:K,6,FALSE()),"") -> Damian Kilpin | C10: =IFERROR(VLOOKUP(A$1&":"&A10,'Finish order'!$C:$K,9,FALSE()),"") -> M45 | D10: =IFERROR(VLOOKUP(A$1&":"&A10,'Finish order'!$C:$K,7,FALSE()),"") -> Penistone Footpath Runners & AC | E10: =IFERROR(VLOOKUP($A$1&":"&A10,'Finish order'!C:K,5,FALSE()),"") -> 0.053194444 | F10: =IFERROR(VLOOKUP($A$1&":"&A10,'Finish order'!C:K,4,FALSE()),"") -> 609 | G10: {=IFERROR(SMALL(IF($D$2:$D919=D10,$A$2:$A$911*1.001),1),"")} -> 9.009 | H10: {=IFERROR(SMALL(IF($D$2:$D919=D10,$A$2:$A$911*1.0001),2),"")} | I10: {=IFERROR(SMALL(IF($D$2:$D919=D10,$A$2:$A$911*1.00001),3),"")} | J10: {=IFERROR(SMALL(IF($D$2:$D919=D10,$A$2:$A$911*1.000001),4),"")} | K10: =IF(A10<>"", IF(COUNT(G10:J10)=4, SUM(G10:J10), "No"), "") -> No | L10: =IF(A10<>"", IF(COUNT(G10:I10)=3, SUM(G10:I10), "No"), "") -> No | M10: =IF(A10<>"", IF(COUNT(G10:H10)=2, SUM(G10:H10), "No"), "") -> No | N10: =Table1[[#This Row],[Club]]&":"&Table1[[#Headers],[Male]] -> Penistone Footpath Runners & AC:Male | P10: 9 | Q10: =IFERROR(VLOOKUP(P$1&":"&P10,'Finish order'!$C:$K,6,FALSE()),"") -> Steph Lishman | R10: =IFERROR(VLOOKUP(P$1&":"&P10,'Finish order'!$C:$K,9,FALSE()),"") -> W50 | S10: =IFERROR(VLOOKUP(P$1&":"&P10,'Finish order'!$C:$K,7,FALSE()),"") -> Esk Valley Fell Club | T10: =IFERROR(VLOOKUP(P$1&":"&P10,'Finish order'!$C:$K,5,FALSE()),"") -> 0.068078704 | U10: =IFERROR(VLOOKUP(P$1&":"&P10,'Finish order'!$C:$K,4,FALSE()),"") -> 206 | V10: {=IFERROR(SMALL(IF($S$2:$S919=S10,$P$2:$P$911*1.001),1),"")} -> 9.009 | W10: {=IFERROR(SMALL(IF($S$2:$S919=S10,$P$2:$P$911*1.0001),2),"")} -> 21.0021 | X10: {=IFERROR(SMALL(IF($S$2:$S919=S10,$P$2:$P$911*1.00001),3),"")} | Y10: {=IFERROR(SMALL(IF($S$2:$S919=S10,$P$2:$P$911*1.000001),4),"")} | Z10: =IF(P10<>"", IF(COUNT(V10:Y10)=4, SUM(V10:Y10), "No"), "") -> No | AA10: =IF(P10<>"", IF(COUNT(V10:X10)=3, SUM(V10:X10), "No"), "") -> No | AB10: =IF(P10<>"", IF(COUNT(V10:W10)=2, SUM(V10:W10), "No"), "") -> 30.0111 | AC10: =Table4[[#This Row],[Club]]&":"&Table4[[#Headers],[Female]] -> Esk Valley Fell Club:Female | AE10: 9 | AF10: =IFERROR(VLOOKUP(AE$1&":"&AE10,'Finish order'!$E:$K,4,FALSE()),"") | AG10: =IFERROR(VLOOKUP(AE$1&":"&AE10,'Finish order'!$E:$K,5,FALSE()),"") | AH10: =IFERROR(VLOOKUP(AE$1&":"&AE10,'Finish order'!$E:$K,3,FALSE()),"") | AI10: =IFERROR(VLOOKUP(AE$1&":"&AE10,'Finish order'!$E:$K,2,FALSE()),"") | AL10: 9 | AM10: =IFERROR(VLOOKUP(AL$1&":"&AL10,'Finish order'!$E:$K,4,FALSE()),"") | AN10: =IFERROR(VLOOKUP(AL$1&":"&AL10,'Finish order'!$E:$K,5,FALSE()),"") | AO10: =IFERROR(VLOOKUP(AL$1&":"&AL10,'Finish order'!$E:$K,3,FALSE()),"") | AP10: =IFERROR(VLOOKUP(AL$1&":"&AL10,'Finish order'!$E:$K,2,FALSE()),"") | AS10: 9 | AT10: =IFERROR(VLOOKUP(AS$1&":"&AS10,'Finish order'!$E:$K,4,FALSE()),"") | AU10: =IFERROR(VLOOKUP(AS$1&":"&AS10,'Finish order'!$E:$K,5,FALSE()),"") | AV10: =IFERROR(VLOOKUP(AS$1&":"&AS10,'Finish order'!$E:$K,3,FALSE()),"") | AW10: =IFERROR(VLOOKUP(AS$1&":"&AS10,'Finish order'!$E:$K,2,FALSE()),"") | AZ10: 9 | BA10: =IFERROR(VLOOKUP(AZ$1&":"&AZ10,'Finish order'!$E:$K,4,FALSE()),"") | BB10: =IFERROR(VLOOKUP(AZ$1&":"&AZ10,'Finish order'!$E:$K,5,FALSE()),"") | BC10: =IFERROR(VLOOKUP(AZ$1&":"&AZ10,'Finish order'!$E:$K,3,FALSE()),"") | BD10: =IFERROR(VLOOKUP(AZ$1&":"&AZ10,'Finish order'!$E:$K,2,FALSE()),"") | BG10: 9 | BH10: =IFERROR(VLOOKUP(BG$1&":"&BG10,'Finish order'!$E:$K,4,FALSE()),"") -> Martin Mander | BI10: =IFERROR(VLOOKUP(BG$1&":"&BG10,'Finish order'!$E:$K,5,FALSE()),"") -> Run Scarborough | BJ10: =IFERROR(VLOOKUP(BG$1&":"&BG10,'Finish order'!$E:$K,3,FALSE()),"") -> 0.073912037 | BK10: =IFERROR(VLOOKUP(BG$1&":"&BG10,'Finish order'!$E:$K,2,FALSE()),"") -> 754 | BN10: 9 | BO10: =IFERROR(VLOOKUP(BN$1&":"&BN10,'Finish order'!$E:$K,4,FALSE()),"") | BP10: =IFERROR(VLOOKUP(BN$1&":"&BN10,'Finish order'!$E:$K,5,FALSE()),"") | BQ10: =IFERROR(VLOOKUP(BN$1&":"&BN10,'Finish order'!$E:$K,3,FALSE()),"") | BR10: =IFERROR(VLOOKUP(BN$1&":"&BN10,'Finish order'!$E:$K,2,FALSE()),"") | BU10: 9 | BV10: =IFERROR(VLOOKUP(BU$1&":"&BU10,'Finish order'!$E:$K,4,FALSE()),"") -> Chris Tweddle | BW10: =IFERROR(VLOOKUP(BU$1&":"&BU10,'Finish order'!$E:$K,5,FALSE()),"") -> Boro Runners | BX10: =IFERROR(VLOOKUP(BU$1&":"&BU10,'Finish order'!$E:$K,3,FALSE()),"") -> 0.079861111 | BY10: =IFERROR(VLOOKUP(BU$1&":"&BU10,'Finish order'!$E:$K,2,FALSE()),"") -> 900 | CB10: 9 | CC10: =IFERROR(VLOOKUP(CB$1&":"&CB10,'Finish order'!$E:$K,4,FALSE()),"") | CD10: =IFERROR(VLOOKUP(CB$1&":"&CB10,'Finish order'!$E:$K,5,FALSE()),"") | CE10: =IFERROR(VLOOKUP(CB$1&":"&CB10,'Finish order'!$E:$K,3,FALSE()),"") | CF10: =IFERROR(VLOOKUP(CB$1&":"&CB10,'Finish order'!$E:$K,2,FALSE()),"") | CI10: 9 | CJ10: =IFERROR(VLOOKUP(CI$1&":"&CI10,'Finish order'!$E:$K,4,FALSE()),"") | CK10: =IFERROR(VLOOKUP(CI$1&":"&CI10,'Finish order'!$E:$K,5,FALSE()),"") | CL10: =IFERROR(VLOOKUP(CI$1&":"&CI10,'Finish order'!$E:$K,3,FALSE()),"") | CM10: =IFERROR(VLOOKUP(CI$1&":"&CI10,'Finish order'!$E:$K,2,FALSE()),"") | CP10: 9 | CQ10: =IFERROR(VLOOKUP(CP$1&":"&CP10,'Finish order'!$E:$K,4,FALSE()),"") | CR10: =IFERROR(VLOOKUP(CP$1&":"&CP10,'Finish order'!$E:$K,5,FALSE()),"") | CS10: =IFERROR(VLOOKUP(CP$1&":"&CP10,'Finish order'!$E:$K,3,FALSE()),"") | CT10: =IFERROR(VLOOKUP(CP$1&":"&CP10,'Finish order'!$E:$K,2,FALSE()),"") | CW10: 9 | CX10: =IFERROR(VLOOKUP(CW$1&":"&CW10,'Finish order'!$E:$K,4,FALSE()),"") | CY10: =IFERROR(VLOOKUP(CW$1&":"&CW10,'Finish order'!$E:$K,5,FALSE()),"") | CZ10: =IFERROR(VLOOKUP(CW$1&":"&CW10,'Finish order'!$E:$K,3,FALSE()),"") | DA10: =IFERROR(VLOOKUP(CW$1&":"&CW10,'Finish order'!$E:$K,2,FALSE()),"") | DD10: 9 | DE10: =IFERROR(VLOOKUP(DD$1&":"&DD10,'Finish order'!$E:$K,4,FALSE()),"") | DF10: =IFERROR(VLOOKUP(DD$1&":"&DD10,'Finish order'!$E:$K,5,FALSE()),"") | DG10: =IFERROR(VLOOKUP(DD$1&":"&DD10,'Finish order'!$E:$K,3,FALSE()),"") | DH10: =IFERROR(VLOOKUP(DD$1&":"&DD10,'Finish order'!$E:$K,2,FALSE()),"") | DK10: 9 | DL10: =IFERROR(VLOOKUP(DK$1&":"&DK10,'Finish order'!$E:$K,4,FALSE()),"") | DM10: =IFERROR(VLOOKUP(DK$1&":"&DK10,'Finish order'!$E:$K,5,FALSE()),"") | DN10: =IFERROR(VLOOKUP(DK$1&":"&DK10,'Finish order'!$E:$K,3,FALSE()),"") | DO10: =IFERROR(VLOOKUP(DK$1&":"&DK10,'Finish order'!$E:$K,2,FALSE()),"") | DR10: 9 | DS10: =IFERROR(VLOOKUP(DR$1&":"&DR10,'Finish order'!$E:$K,4,FALSE()),"") | DT10: =IFERROR(VLOOKUP(DR$1&":"&DR10,'Finish order'!$E:$K,5,FALSE()),"") | DU10: =IFERROR(VLOOKUP(DR$1&":"&DR10,'Finish order'!$E:$K,3,FALSE()),"") | DV10: =IFERROR(VLOOKUP(DR$1&":"&DR10,'Finish order'!$E:$K,2,FALSE()),"")
A11: 10 | B11: =IFERROR(VLOOKUP($A$1&":"&A11,'Finish order'!C:K,6,FALSE()),"") -> Glynn Ellwood | C11: =IFERROR(VLOOKUP(A$1&":"&A11,'Finish order'!$C:$K,9,FALSE()),"") -> MSEN | D11: =IFERROR(VLOOKUP(A$1&":"&A11,'Finish order'!$C:$K,7,FALSE()),"") -> York Knavesmire Harriers | E11: =IFERROR(VLOOKUP($A$1&":"&A11,'Finish order'!C:K,5,FALSE()),"") -> 0.053310185 | F11: =IFERROR(VLOOKUP($A$1&":"&A11,'Finish order'!C:K,4,FALSE()),"") -> 435 | G11: {=IFERROR(SMALL(IF($D$2:$D920=D11,$A$2:$A$911*1.001),1),"")} -> 6.006 | H11: {=IFERROR(SMALL(IF($D$2:$D920=D11,$A$2:$A$911*1.0001),2),"")} -> 10.001 | I11: {=IFERROR(SMALL(IF($D$2:$D920=D11,$A$2:$A$911*1.00001),3),"")} -> 12.00012 | J11: {=IFERROR(SMALL(IF($D$2:$D920=D11,$A$2:$A$911*1.000001),4),"")} -> 16.000016 | K11: =IF(A11<>"", IF(COUNT(G11:J11)=4, SUM(G11:J11), "No"), "") -> 44.007136 | L11: =IF(A11<>"", IF(COUNT(G11:I11)=3, SUM(G11:I11), "No"), "") -> 28.00712 | M11: =IF(A11<>"", IF(COUNT(G11:H11)=2, SUM(G11:H11), "No"), "") -> 16.007 | N11: =Table1[[#This Row],[Club]]&":"&Table1[[#Headers],[Male]] -> York Knavesmire Harriers:Male | P11: 10 | Q11: =IFERROR(VLOOKUP(P$1&":"&P11,'Finish order'!$C:$K,6,FALSE()),"") -> Sally Carro Goodwill | R11: =IFERROR(VLOOKUP(P$1&":"&P11,'Finish order'!$C:$K,9,FALSE()),"") -> W50 | S11: =IFERROR(VLOOKUP(P$1&":"&P11,'Finish order'!$C:$K,7,FALSE()),"") -> York Knavesmire Harriers | T11: =IFERROR(VLOOKUP(P$1&":"&P11,'Finish order'!$C:$K,5,FALSE()),"") -> 0.068622685 | U11: =IFERROR(VLOOKUP(P$1&":"&P11,'Finish order'!$C:$K,4,FALSE()),"") -> 220 | V11: {=IFERROR(SMALL(IF($S$2:$S920=S11,$P$2:$P$911*1.001),1),"")} -> 10.01 | W11: {=IFERROR(SMALL(IF($S$2:$S920=S11,$P$2:$P$911*1.0001),2),"")} -> 13.0013 | X11: {=IFERROR(SMALL(IF($S$2:$S920=S11,$P$2:$P$911*1.00001),3),"")} | Y11: {=IFERROR(SMALL(IF($S$2:$S920=S11,$P$2:$P$911*1.000001),4),"")} | Z11: =IF(P11<>"", IF(COUNT(V11:Y11)=4, SUM(V11:Y11), "No"), "") -> No | AA11: =IF(P11<>"", IF(COUNT(V11:X11)=3, SUM(V11:X11), "No"), "") -> No | AB11: =IF(P11<>"", IF(COUNT(V11:W11)=2, SUM(V11:W11), "No"), "") -> 23.0113 | AC11: =Table4[[#This Row],[Club]]&":"&Table4[[#Headers],[Female]] -> York Knavesmire Harriers:Female | AE11: 10 | AF11: =IFERROR(VLOOKUP(AE$1&":"&AE11,'Finish order'!$E:$K,4,FALSE()),"") | AG11: =IFERROR(VLOOKUP(AE$1&":"&AE11,'Finish order'!$E:$K,5,FALSE()),"") | AH11: =IFERROR(VLOOKUP(AE$1&":"&AE11,'Finish order'!$E:$K,3,FALSE()),"") | AI11: =IFERROR(VLOOKUP(AE$1&":"&AE11,'Finish order'!$E:$K,2,FALSE()),"") | AL11: 10 | AM11: =IFERROR(VLOOKUP(AL$1&":"&AL11,'Finish order'!$E:$K,4,FALSE()),"") | AN11: =IFERROR(VLOOKUP(AL$1&":"&AL11,'Finish order'!$E:$K,5,FALSE()),"") | AO11: =IFERROR(VLOOKUP(AL$1&":"&AL11,'Finish order'!$E:$K,3,FALSE()),"") | AP11: =IFERROR(VLOOKUP(AL$1&":"&AL11,'Finish order'!$E:$K,2,FALSE()),"") | AS11: 10 | AT11: =IFERROR(VLOOKUP(AS$1&":"&AS11,'Finish order'!$E:$K,4,FALSE()),"") | AU11: =IFERROR(VLOOKUP(AS$1&":"&AS11,'Finish order'!$E:$K,5,FALSE()),"") | AV11: =IFERROR(VLOOKUP(AS$1&":"&AS11,'Finish order'!$E:$K,3,FALSE()),"") | AW11: =IFERROR(VLOOKUP(AS$1&":"&AS11,'Finish order'!$E:$K,2,FALSE()),"") | AZ11: 10 | BA11: =IFERROR(VLOOKUP(AZ$1&":"&AZ11,'Finish order'!$E:$K,4,FALSE()),"") | BB11: =IFERROR(VLOOKUP(AZ$1&":"&AZ11,'Finish order'!$E:$K,5,FALSE()),"") | BC11: =IFERROR(VLOOKUP(AZ$1&":"&AZ11,'Finish order'!$E:$K,3,FALSE()),"") | BD11: =IFERROR(VLOOKUP(AZ$1&":"&AZ11,'Finish order'!$E:$K,2,FALSE()),"") | BG11: 10 | BH11: =IFERROR(VLOOKUP(BG$1&":"&BG11,'Finish order'!$E:$K,4,FALSE()),"") | BI11: =IFERROR(VLOOKUP(BG$1&":"&BG11,'Finish order'!$E:$K,5,FALSE()),"") | BJ11: =IFERROR(VLOOKUP(BG$1&":"&BG11,'Finish order'!$E:$K,3,FALSE()),"") | BK11: =IFERROR(VLOOKUP(BG$1&":"&BG11,'Finish order'!$E:$K,2,FALSE()),"") | BN11: 10 | BO11: =IFERROR(VLOOKUP(BN$1&":"&BN11,'Finish order'!$E:$K,4,FALSE()),"") | BP11: =IFERROR(VLOOKUP(BN$1&":"&BN11,'Finish order'!$E:$K,5,FALSE()),"") | BQ11: =IFERROR(VLOOKUP(BN$1&":"&BN11,'Finish order'!$E:$K,3,FALSE()),"") | BR11: =IFERROR(VLOOKUP(BN$1&":"&BN11,'Finish order'!$E:$K,2,FALSE()),"") | BU11: 10 | BV11: =IFERROR(VLOOKUP(BU$1&":"&BU11,'Finish order'!$E:$K,4,FALSE()),"") -> Paul Cutler | BW11: =IFERROR(VLOOKUP(BU$1&":"&BU11,'Finish order'!$E:$K,5,FALSE()),"") -> Individual# | BX11: =IFERROR(VLOOKUP(BU$1&":"&BU11,'Finish order'!$E:$K,3,FALSE()),"") -> 0.086712963 | BY11: =IFERROR(VLOOKUP(BU$1&":"&BU11,'Finish order'!$E:$K,2,FALSE()),"") -> 1186 | CB11: 10 | CC11: =IFERROR(VLOOKUP(CB$1&":"&CB11,'Finish order'!$E:$K,4,FALSE()),"") | CD11: =IFERROR(VLOOKUP(CB$1&":"&CB11,'Finish order'!$E:$K,5,FALSE()),"") | CE11: =IFERROR(VLOOKUP(CB$1&":"&CB11,'Finish order'!$E:$K,3,FALSE()),"") | CF11: =IFERROR(VLOOKUP(CB$1&":"&CB11,'Finish order'!$E:$K,2,FALSE()),"") | CI11: 10 | CJ11: =IFERROR(VLOOKUP(CI$1&":"&CI11,'Finish order'!$E:$K,4,FALSE()),"") | CK11: =IFERROR(VLOOKUP(CI$1&":"&CI11,'Finish order'!$E:$K,5,FALSE()),"") | CL11: =IFERROR(VLOOKUP(CI$1&":"&CI11,'Finish order'!$E:$K,3,FALSE()),"") | CM11: =IFERROR(VLOOKUP(CI$1&":"&CI11,'Finish order'!$E:$K,2,FALSE()),"") | CP11: 10 | CQ11: =IFERROR(VLOOKUP(CP$1&":"&CP11,'Finish order'!$E:$K,4,FALSE()),"") | CR11: =IFERROR(VLOOKUP(CP$1&":"&CP11,'Finish order'!$E:$K,5,FALSE()),"") | CS11: =IFERROR(VLOOKUP(CP$1&":"&CP11,'Finish order'!$E:$K,3,FALSE()),"") | CT11: =IFERROR(VLOOKUP(CP$1&":"&CP11,'Finish order'!$E:$K,2,FALSE()),"") | CW11: 10 | CX11: =IFERROR(VLOOKUP(CW$1&":"&CW11,'Finish order'!$E:$K,4,FALSE()),"") | CY11: =IFERROR(VLOOKUP(CW$1&":"&CW11,'Finish order'!$E:$K,5,FALSE()),"") | CZ11: =IFERROR(VLOOKUP(CW$1&":"&CW11,'Finish order'!$E:$K,3,FALSE()),"") | DA11: =IFERROR(VLOOKUP(CW$1&":"&CW11,'Finish order'!$E:$K,2,FALSE()),"") | DD11: 10 | DE11: =IFERROR(VLOOKUP(DD$1&":"&DD11,'Finish order'!$E:$K,4,FALSE()),"") | DF11: =IFERROR(VLOOKUP(DD$1&":"&DD11,'Finish order'!$E:$K,5,FALSE()),"") | DG11: =IFERROR(VLOOKUP(DD$1&":"&DD11,'Finish order'!$E:$K,3,FALSE()),"") | DH11: =IFERROR(VLOOKUP(DD$1&":"&DD11,'Finish order'!$E:$K,2,FALSE()),"") | DK11: 10 | DL11: =IFERROR(VLOOKUP(DK$1&":"&DK11,'Finish order'!$E:$K,4,FALSE()),"") | DM11: =IFERROR(VLOOKUP(DK$1&":"&DK11,'Finish order'!$E:$K,5,FALSE()),"") | DN11: =IFERROR(VLOOKUP(DK$1&":"&DK11,'Finish order'!$E:$K,3,FALSE()),"") | DO11: =IFERROR(VLOOKUP(DK$1&":"&DK11,'Finish order'!$E:$K,2,FALSE()),"") | DR11: 10 | DS11: =IFERROR(VLOOKUP(DR$1&":"&DR11,'Finish order'!$E:$K,4,FALSE()),"") | DT11: =IFERROR(VLOOKUP(DR$1&":"&DR11,'Finish order'!$E:$K,5,FALSE()),"") | DU11: =IFERROR(VLOOKUP(DR$1&":"&DR11,'Finish order'!$E:$K,3,FALSE()),"") | DV11: =IFERROR(VLOOKUP(DR$1&":"&DR11,'Finish order'!$E:$K,2,FALSE()),"")
A12: 11 | B12: =IFERROR(VLOOKUP($A$1&":"&A12,'Finish order'!C:K,6,FALSE()),"") -> Alex Linsley | C12: =IFERROR(VLOOKUP(A$1&":"&A12,'Finish order'!$C:$K,9,FALSE()),"") -> MSEN | D12: =IFERROR(VLOOKUP(A$1&":"&A12,'Finish order'!$C:$K,7,FALSE()),"") -> Individual# | E12: =IFERROR(VLOOKUP($A$1&":"&A12,'Finish order'!C:K,5,FALSE()),"") -> 0.05337963 | F12: =IFERROR(VLOOKUP($A$1&":"&A12,'Finish order'!C:K,4,FALSE()),"") -> 328 | G12: {=IFERROR(SMALL(IF($D$2:$D921=D12,$A$2:$A$911*1.001),1),"")} -> 11.011 | H12: {=IFERROR(SMALL(IF($D$2:$D921=D12,$A$2:$A$911*1.0001),2),"")} -> 15.0015 | I12: {=IFERROR(SMALL(IF($D$2:$D921=D12,$A$2:$A$911*1.00001),3),"")} -> 28.00028 | J12: {=IFERROR(SMALL(IF($D$2:$D921=D12,$A$2:$A$911*1.000001),4),"")} -> 33.000033 | K12: =IF(A12<>"", IF(COUNT(G12:J12)=4, SUM(G12:J12), "No"), "") -> 87.012813 | L12: =IF(A12<>"", IF(COUNT(G12:I12)=3, SUM(G12:I12), "No"), "") -> 54.01278 | M12: =IF(A12<>"", IF(COUNT(G12:H12)=2, SUM(G12:H12), "No"), "") -> 26.0125 | N12: =Table1[[#This Row],[Club]]&":"&Table1[[#Headers],[Male]] -> Individual#:Male | P12: 11 | Q12: =IFERROR(VLOOKUP(P$1&":"&P12,'Finish order'!$C:$K,6,FALSE()),"") -> Siobhan Firman | R12: =IFERROR(VLOOKUP(P$1&":"&P12,'Finish order'!$C:$K,9,FALSE()),"") -> WSEN | S12: =IFERROR(VLOOKUP(P$1&":"&P12,'Finish order'!$C:$K,7,FALSE()),"") -> Individual# | T12: =IFERROR(VLOOKUP(P$1&":"&P12,'Finish order'!$C:$K,5,FALSE()),"") -> 0.069143519 | U12: =IFERROR(VLOOKUP(P$1&":"&P12,'Finish order'!$C:$K,4,FALSE()),"") -> 58 | V12: {=IFERROR(SMALL(IF($S$2:$S921=S12,$P$2:$P$911*1.001),1),"")} -> 11.011 | W12: {=IFERROR(SMALL(IF($S$2:$S921=S12,$P$2:$P$911*1.0001),2),"")} -> 16.0016 | X12: {=IFERROR(SMALL(IF($S$2:$S921=S12,$P$2:$P$911*1.00001),3),"")} -> 17.00017 | Y12: {=IFERROR(SMALL(IF($S$2:$S921=S12,$P$2:$P$911*1.000001),4),"")} -> 29.000029 | Z12: =IF(P12<>"", IF(COUNT(V12:Y12)=4, SUM(V12:Y12), "No"), "") -> 73.012799 | AA12: =IF(P12<>"", IF(COUNT(V12:X12)=3, SUM(V12:X12), "No"), "") -> 44.01277 | AB12: =IF(P12<>"", IF(COUNT(V12:W12)=2, SUM(V12:W12), "No"), "") -> 27.0126 | AC12: =Table4[[#This Row],[Club]]&":"&Table4[[#Headers],[Female]] -> Individual#:Female | AE12: 11 | AF12: =IFERROR(VLOOKUP(AE$1&":"&AE12,'Finish order'!$E:$K,4,FALSE()),"") | AG12: =IFERROR(VLOOKUP(AE$1&":"&AE12,'Finish order'!$E:$K,5,FALSE()),"") | AH12: =IFERROR(VLOOKUP(AE$1&":"&AE12,'Finish order'!$E:$K,3,FALSE()),"") | AI12: =IFERROR(VLOOKUP(AE$1&":"&AE12,'Finish order'!$E:$K,2,FALSE()),"") | AL12: 11 | AM12: =IFERROR(VLOOKUP(AL$1&":"&AL12,'Finish order'!$E:$K,4,FALSE()),"") | AN12: =IFERROR(VLOOKUP(AL$1&":"&AL12,'Finish order'!$E:$K,5,FALSE()),"") | AO12: =IFERROR(VLOOKUP(AL$1&":"&AL12,'Finish order'!$E:$K,3,FALSE()),"") | AP12: =IFERROR(VLOOKUP(AL$1&":"&AL12,'Finish order'!$E:$K,2,FALSE()),"") | AS12: 11 | AT12: =IFERROR(VLOOKUP(AS$1&":"&AS12,'Finish order'!$E:$K,4,FALSE()),"") | AU12: =IFERROR(VLOOKUP(AS$1&":"&AS12,'Finish order'!$E:$K,5,FALSE()),"") | AV12: =IFERROR(VLOOKUP(AS$1&":"&AS12,'Finish order'!$E:$K,3,FALSE()),"") | AW12: =IFERROR(VLOOKUP(AS$1&":"&AS12,'Finish order'!$E:$K,2,FALSE()),"") | AZ12: 11 | BA12: =IFERROR(VLOOKUP(AZ$1&":"&AZ12,'Finish order'!$E:$K,4,FALSE()),"") | BB12: =IFERROR(VLOOKUP(AZ$1&":"&AZ12,'Finish order'!$E:$K,5,FALSE()),"") | BC12: =IFERROR(VLOOKUP(AZ$1&":"&AZ12,'Finish order'!$E:$K,3,FALSE()),"") | BD12: =IFERROR(VLOOKUP(AZ$1&":"&AZ12,'Finish order'!$E:$K,2,FALSE()),"") | BG12: 11 | BH12: =IFERROR(VLOOKUP(BG$1&":"&BG12,'Finish order'!$E:$K,4,FALSE()),"") | BI12: =IFERROR(VLOOKUP(BG$1&":"&BG12,'Finish order'!$E:$K,5,FALSE()),"") | BJ12: =IFERROR(VLOOKUP(BG$1&":"&BG12,'Finish order'!$E:$K,3,FALSE()),"") | BK12: =IFERROR(VLOOKUP(BG$1&":"&BG12,'Finish order'!$E:$K,2,FALSE()),"") | BN12: 11 | BO12: =IFERROR(VLOOKUP(BN$1&":"&BN12,'Finish order'!$E:$K,4,FALSE()),"") | BP12: =IFERROR(VLOOKUP(BN$1&":"&BN12,'Finish order'!$E:$K,5,FALSE()),"") | BQ12: =IFERROR(VLOOKUP(BN$1&":"&BN12,'Finish order'!$E:$K,3,FALSE()),"") | BR12: =IFERROR(VLOOKUP(BN$1&":"&BN12,'Finish order'!$E:$K,2,FALSE()),"") | BU12: 11 | BV12: =IFERROR(VLOOKUP(BU$1&":"&BU12,'Finish order'!$E:$K,4,FALSE()),"") -> Ian Robinson | BW12: =IFERROR(VLOOKUP(BU$1&":"&BU12,'Finish order'!$E:$K,5,FALSE()),"") -> Esk Valley Fell Club | BX12: =IFERROR(VLOOKUP(BU$1&":"&BU12,'Finish order'!$E:$K,3,FALSE()),"") -> 0.093587963 | BY12: =IFERROR(VLOOKUP(BU$1&":"&BU12,'Finish order'!$E:$K,2,FALSE()),"") -> 909 | CB12: 11 | CC12: =IFERROR(VLOOKUP(CB$1&":"&CB12,'Finish order'!$E:$K,4,FALSE()),"") | CD12: =IFERROR(VLOOKUP(CB$1&":"&CB12,'Finish order'!$E:$K,5,FALSE()),"") | CE12: =IFERROR(VLOOKUP(CB$1&":"&CB12,'Finish order'!$E:$K,3,FALSE()),"") | CF12: =IFERROR(VLOOKUP(CB$1&":"&CB12,'Finish order'!$E:$K,2,FALSE()),"") | CI12: 11 | CJ12: =IFERROR(VLOOKUP(CI$1&":"&CI12,'Finish order'!$E:$K,4,FALSE()),"") | CK12: =IFERROR(VLOOKUP(CI$1&":"&CI12,'Finish order'!$E:$K,5,FALSE()),"") | CL12: =IFERROR(VLOOKUP(CI$1&":"&CI12,'Finish order'!$E:$K,3,FALSE()),"") | CM12: =IFERROR(VLOOKUP(CI$1&":"&CI12,'Finish order'!$E:$K,2,FALSE()),"") | CP12: 11 | CQ12: =IFERROR(VLOOKUP(CP$1&":"&CP12,'Finish order'!$E:$K,4,FALSE()),"") | CR12: =IFERROR(VLOOKUP(CP$1&":"&CP12,'Finish order'!$E:$K,5,FALSE()),"") | CS12: =IFERROR(VLOOKUP(CP$1&":"&CP12,'Finish order'!$E:$K,3,FALSE()),"") | CT12: =IFERROR(VLOOKUP(CP$1&":"&CP12,'Finish order'!$E:$K,2,FALSE()),"") | CW12: 11 | CX12: =IFERROR(VLOOKUP(CW$1&":"&CW12,'Finish order'!$E:$K,4,FALSE()),"") | CY12: =IFERROR(VLOOKUP(CW$1&":"&CW12,'Finish order'!$E:$K,5,FALSE()),"") | CZ12: =IFERROR(VLOOKUP(CW$1&":"&CW12,'Finish order'!$E:$K,3,FALSE()),"") | DA12: =IFERROR(VLOOKUP(CW$1&":"&CW12,'Finish order'!$E:$K,2,FALSE()),"") | DD12: 11 | DE12: =IFERROR(VLOOKUP(DD$1&":"&DD12,'Finish order'!$E:$K,4,FALSE()),"") | DF12: =IFERROR(VLOOKUP(DD$1&":"&DD12,'Finish order'!$E:$K,5,FALSE()),"") | DG12: =IFERROR(VLOOKUP(DD$1&":"&DD12,'Finish order'!$E:$K,3,FALSE()),"") | DH12: =IFERROR(VLOOKUP(DD$1&":"&DD12,'Finish order'!$E:$K,2,FALSE()),"") | DK12: 11 | DL12: =IFERROR(VLOOKUP(DK$1&":"&DK12,'Finish order'!$E:$K,4,FALSE()),"") | DM12: =IFERROR(VLOOKUP(DK$1&":"&DK12,'Finish order'!$E:$K,5,FALSE()),"") | DN12: =IFERROR(VLOOKUP(DK$1&":"&DK12,'Finish order'!$E:$K,3,FALSE()),"") | DO12: =IFERROR(VLOOKUP(DK$1&":"&DK12,'Finish order'!$E:$K,2,FALSE()),"") | DR12: 11 | DS12: =IFERROR(VLOOKUP(DR$1&":"&DR12,'Finish order'!$E:$K,4,FALSE()),"") | DT12: =IFERROR(VLOOKUP(DR$1&":"&DR12,'Finish order'!$E:$K,5,FALSE()),"") | DU12: =IFERROR(VLOOKUP(DR$1&":"&DR12,'Finish order'!$E:$K,3,FALSE()),"") | DV12: =IFERROR(VLOOKUP(DR$1&":"&DR12,'Finish order'!$E:$K,2,FALSE()),"")
A13: 12 | B13: =IFERROR(VLOOKUP($A$1&":"&A13,'Finish order'!C:K,6,FALSE()),"") -> Chris Doble | C13: =IFERROR(VLOOKUP(A$1&":"&A13,'Finish order'!$C:$K,9,FALSE()),"") -> MSEN | D13: =IFERROR(VLOOKUP(A$1&":"&A13,'Finish order'!$C:$K,7,FALSE()),"") -> York Knavesmire Harriers | E13: =IFERROR(VLOOKUP($A$1&":"&A13,'Finish order'!C:K,5,FALSE()),"") -> 0.054583333 | F13: =IFERROR(VLOOKUP($A$1&":"&A13,'Finish order'!C:K,4,FALSE()),"") -> 311 | G13: {=IFERROR(SMALL(IF($D$2:$D922=D13,$A$2:$A$911*1.001),1),"")} -> 6.006 | H13: {=IFERROR(SMALL(IF($D$2:$D922=D13,$A$2:$A$911*1.0001),2),"")} -> 10.001 | I13: {=IFERROR(SMALL(IF($D$2:$D922=D13,$A$2:$A$911*1.00001),3),"")} -> 12.00012 | J13: {=IFERROR(SMALL(IF($D$2:$D922=D13,$A$2:$A$911*1.000001),4),"")} -> 16.000016 | K13: =IF(A13<>"", IF(COUNT(G13:J13)=4, SUM(G13:J13), "No"), "") -> 44.007136 | L13: =IF(A13<>"", IF(COUNT(G13:I13)=3, SUM(G13:I13), "No"), "") -> 28.00712 | M13: =IF(A13<>"", IF(COUNT(G13:H13)=2, SUM(G13:H13), "No"), "") -> 16.007 | N13: =Table1[[#This Row],[Club]]&":"&Table1[[#Headers],[Male]] -> York Knavesmire Harriers:Male | P13: 12 | Q13: =IFERROR(VLOOKUP(P$1&":"&P13,'Finish order'!$C:$K,6,FALSE()),"") -> Lucy Saggers | R13: =IFERROR(VLOOKUP(P$1&":"&P13,'Finish order'!$C:$K,9,FALSE()),"") -> W55 | S13: =IFERROR(VLOOKUP(P$1&":"&P13,'Finish order'!$C:$K,7,FALSE()),"") -> Pickering RC | T13: =IFERROR(VLOOKUP(P$1&":"&P13,'Finish order'!$C:$K,5,FALSE()),"") -> 0.069282407 | U13: =IFERROR(VLOOKUP(P$1&":"&P13,'Finish order'!$C:$K,4,FALSE()),"") -> 250 | V13: {=IFERROR(SMALL(IF($S$2:$S922=S13,$P$2:$P$911*1.001),1),"")} -> 3.003 | W13: {=IFERROR(SMALL(IF($S$2:$S922=S13,$P$2:$P$911*1.0001),2),"")} -> 12.0012 | X13: {=IFERROR(SMALL(IF($S$2:$S922=S13,$P$2:$P$911*1.00001),3),"")} -> 15.00015 | Y13: {=IFERROR(SMALL(IF($S$2:$S922=S13,$P$2:$P$911*1.000001),4),"")} -> 22.000022 | Z13: =IF(P13<>"", IF(COUNT(V13:Y13)=4, SUM(V13:Y13), "No"), "") -> 52.004372 | AA13: =IF(P13<>"", IF(COUNT(V13:X13)=3, SUM(V13:X13), "No"), "") -> 30.00435 | AB13: =IF(P13<>"", IF(COUNT(V13:W13)=2, SUM(V13:W13), "No"), "") -> 15.0042 | AC13: =Table4[[#This Row],[Club]]&":"&Table4[[#Headers],[Female]] -> Pickering RC:Female | AE13: 12 | AF13: =IFERROR(VLOOKUP(AE$1&":"&AE13,'Finish order'!$E:$K,4,FALSE()),"") | AG13: =IFERROR(VLOOKUP(AE$1&":"&AE13,'Finish order'!$E:$K,5,FALSE()),"") | AH13: =IFERROR(VLOOKUP(AE$1&":"&AE13,'Finish order'!$E:$K,3,FALSE()),"") | AI13: =IFERROR(VLOOKUP(AE$1&":"&AE13,'Finish order'!$E:$K,2,FALSE()),"") | AL13: 12 | AM13: =IFERROR(VLOOKUP(AL$1&":"&AL13,'Finish order'!$E:$K,4,FALSE()),"") | AN13: =IFERROR(VLOOKUP(AL$1&":"&AL13,'Finish order'!$E:$K,5,FALSE()),"") | AO13: =IFERROR(VLOOKUP(AL$1&":"&AL13,'Finish order'!$E:$K,3,FALSE()),"") | AP13: =IFERROR(VLOOKUP(AL$1&":"&AL13,'Finish order'!$E:$K,2,FALSE()),"") | AS13: 12 | AT13: =IFERROR(VLOOKUP(AS$1&":"&AS13,'Finish order'!$E:$K,4,FALSE()),"") | AU13: =IFERROR(VLOOKUP(AS$1&":"&AS13,'Finish order'!$E:$K,5,FALSE()),"") | AV13: =IFERROR(VLOOKUP(AS$1&":"&AS13,'Finish order'!$E:$K,3,FALSE()),"") | AW13: =IFERROR(VLOOKUP(AS$1&":"&AS13,'Finish order'!$E:$K,2,FALSE()),"") | AZ13: 12 | BA13: =IFERROR(VLOOKUP(AZ$1&":"&AZ13,'Finish order'!$E:$K,4,FALSE()),"") | BB13: =IFERROR(VLOOKUP(AZ$1&":"&AZ13,'Finish order'!$E:$K,5,FALSE()),"") | BC13: =IFERROR(VLOOKUP(AZ$1&":"&AZ13,'Finish order'!$E:$K,3,FALSE()),"") | BD13: =IFERROR(VLOOKUP(AZ$1&":"&AZ13,'Finish order'!$E:$K,2,FALSE()),"") | BG13: 12 | BH13: =IFERROR(VLOOKUP(BG$1&":"&BG13,'Finish order'!$E:$K,4,FALSE()),"") | BI13: =IFERROR(VLOOKUP(BG$1&":"&BG13,'Finish order'!$E:$K,5,FALSE()),"") | BJ13: =IFERROR(VLOOKUP(BG$1&":"&BG13,'Finish order'!$E:$K,3,FALSE()),"") | BK13: =IFERROR(VLOOKUP(BG$1&":"&BG13,'Finish order'!$E:$K,2,FALSE()),"") | BN13: 12 | BO13: =IFERROR(VLOOKUP(BN$1&":"&BN13,'Finish order'!$E:$K,4,FALSE()),"") | BP13: =IFERROR(VLOOKUP(BN$1&":"&BN13,'Finish order'!$E:$K,5,FALSE()),"") | BQ13: =IFERROR(VLOOKUP(BN$1&":"&BN13,'Finish order'!$E:$K,3,FALSE()),"") | BR13: =IFERROR(VLOOKUP(BN$1&":"&BN13,'Finish order'!$E:$K,2,FALSE()),"") | BU13: 12 | BV13: =IFERROR(VLOOKUP(BU$1&":"&BU13,'Finish order'!$E:$K,4,FALSE()),"") | BW13: =IFERROR(VLOOKUP(BU$1&":"&BU13,'Finish order'!$E:$K,5,FALSE()),"") | BX13: =IFERROR(VLOOKUP(BU$1&":"&BU13,'Finish order'!$E:$K,3,FALSE()),"") | BY13: =IFERROR(VLOOKUP(BU$1&":"&BU13,'Finish order'!$E:$K,2,FALSE()),"") | CB13: 12 | CC13: =IFERROR(VLOOKUP(CB$1&":"&CB13,'Finish order'!$E:$K,4,FALSE()),"") | CD13: =IFERROR(VLOOKUP(CB$1&":"&CB13,'Finish order'!$E:$K,5,FALSE()),"") | CE13: =IFERROR(VLOOKUP(CB$1&":"&CB13,'Finish order'!$E:$K,3,FALSE()),"") | CF13: =IFERROR(VLOOKUP(CB$1&":"&CB13,'Finish order'!$E:$K,2,FALSE()),"") | CI13: 12 | CJ13: =IFERROR(VLOOKUP(CI$1&":"&CI13,'Finish order'!$E:$K,4,FALSE()),"") | CK13: =IFERROR(VLOOKUP(CI$1&":"&CI13,'Finish order'!$E:$K,5,FALSE()),"") | CL13: =IFERROR(VLOOKUP(CI$1&":"&CI13,'Finish order'!$E:$K,3,FALSE()),"") | CM13: =IFERROR(VLOOKUP(CI$1&":"&CI13,'Finish order'!$E:$K,2,FALSE()),"") | CP13: 12 | CQ13: =IFERROR(VLOOKUP(CP$1&":"&CP13,'Finish order'!$E:$K,4,FALSE()),"") | CR13: =IFERROR(VLOOKUP(CP$1&":"&CP13,'Finish order'!$E:$K,5,FALSE()),"") | CS13: =IFERROR(VLOOKUP(CP$1&":"&CP13,'Finish order'!$E:$K,3,FALSE()),"") | CT13: =IFERROR(VLOOKUP(CP$1&":"&CP13,'Finish order'!$E:$K,2,FALSE()),"") | CW13: 12 | CX13: =IFERROR(VLOOKUP(CW$1&":"&CW13,'Finish order'!$E:$K,4,FALSE()),"") | CY13: =IFERROR(VLOOKUP(CW$1&":"&CW13,'Finish order'!$E:$K,5,FALSE()),"") | CZ13: =IFERROR(VLOOKUP(CW$1&":"&CW13,'Finish order'!$E:$K,3,FALSE()),"") | DA13: =IFERROR(VLOOKUP(CW$1&":"&CW13,'Finish order'!$E:$K,2,FALSE()),"") | DD13: 12 | DE13: =IFERROR(VLOOKUP(DD$1&":"&DD13,'Finish order'!$E:$K,4,FALSE()),"") | DF13: =IFERROR(VLOOKUP(DD$1&":"&DD13,'Finish order'!$E:$K,5,FALSE()),"") | DG13: =IFERROR(VLOOKUP(DD$1&":"&DD13,'Finish order'!$E:$K,3,FALSE()),"") | DH13: =IFERROR(VLOOKUP(DD$1&":"&DD13,'Finish order'!$E:$K,2,FALSE()),"") | DK13: 12 | DL13: =IFERROR(VLOOKUP(DK$1&":"&DK13,'Finish order'!$E:$K,4,FALSE()),"") | DM13: =IFERROR(VLOOKUP(DK$1&":"&DK13,'Finish order'!$E:$K,5,FALSE()),"") | DN13: =IFERROR(VLOOKUP(DK$1&":"&DK13,'Finish order'!$E:$K,3,FALSE()),"") | DO13: =IFERROR(VLOOKUP(DK$1&":"&DK13,'Finish order'!$E:$K,2,FALSE()),"") | DR13: 12 | DS13: =IFERROR(VLOOKUP(DR$1&":"&DR13,'Finish order'!$E:$K,4,FALSE()),"") | DT13: =IFERROR(VLOOKUP(DR$1&":"&DR13,'Finish order'!$E:$K,5,FALSE()),"") | DU13: =IFERROR(VLOOKUP(DR$1&":"&DR13,'Finish order'!$E:$K,3,FALSE()),"") | DV13: =IFERROR(VLOOKUP(DR$1&":"&DR13,'Finish order'!$E:$K,2,FALSE()),"")
A14: 13 | B14: =IFERROR(VLOOKUP($A$1&":"&A14,'Finish order'!C:K,6,FALSE()),"") -> Michael Richmond | C14: =IFERROR(VLOOKUP(A$1&":"&A14,'Finish order'!$C:$K,9,FALSE()),"") -> M45 | D14: =IFERROR(VLOOKUP(A$1&":"&A14,'Finish order'!$C:$K,7,FALSE()),"") -> Pickering RC | E14: =IFERROR(VLOOKUP($A$1&":"&A14,'Finish order'!C:K,5,FALSE()),"") -> 0.054699074 | F14: =IFERROR(VLOOKUP($A$1&":"&A14,'Finish order'!C:K,4,FALSE()),"") -> 619 | G14: {=IFERROR(SMALL(IF($D$2:$D923=D14,$A$2:$A$911*1.001),1),"")} -> 3.003 | H14: {=IFERROR(SMALL(IF($D$2:$D923=D14,$A$2:$A$911*1.0001),2),"")} -> 13.0013 | I14: {=IFERROR(SMALL(IF($D$2:$D923=D14,$A$2:$A$911*1.00001),3),"")} -> 20.0002 | J14: {=IFERROR(SMALL(IF($D$2:$D923=D14,$A$2:$A$911*1.000001),4),"")} -> 32.000032 | K14: =IF(A14<>"", IF(COUNT(G14:J14)=4, SUM(G14:J14), "No"), "") -> 68.004532 | L14: =IF(A14<>"", IF(COUNT(G14:I14)=3, SUM(G14:I14), "No"), "") -> 36.0045 | M14: =IF(A14<>"", IF(COUNT(G14:H14)=2, SUM(G14:H14), "No"), "") -> 16.0043 | N14: =Table1[[#This Row],[Club]]&":"&Table1[[#Headers],[Male]] -> Pickering RC:Male | P14: 13 | Q14: =IFERROR(VLOOKUP(P$1&":"&P14,'Finish order'!$C:$K,6,FALSE()),"") -> Melanie Ellwood | R14: =IFERROR(VLOOKUP(P$1&":"&P14,'Finish order'!$C:$K,9,FALSE()),"") -> WSEN | S14: =IFERROR(VLOOKUP(P$1&":"&P14,'Finish order'!$C:$K,7,FALSE()),"") -> York Knavesmire Harriers | T14: =IFERROR(VLOOKUP(P$1&":"&P14,'Finish order'!$C:$K,5,FALSE()),"") -> 0.07037037 | U14: =IFERROR(VLOOKUP(P$1&":"&P14,'Finish order'!$C:$K,4,FALSE()),"") -> 56 | V14: {=IFERROR(SMALL(IF($S$2:$S923=S14,$P$2:$P$911*1.001),1),"")} -> 10.01 | W14: {=IFERROR(SMALL(IF($S$2:$S923=S14,$P$2:$P$911*1.0001),2),"")} -> 13.0013 | X14: {=IFERROR(SMALL(IF($S$2:$S923=S14,$P$2:$P$911*1.00001),3),"")} | Y14: {=IFERROR(SMALL(IF($S$2:$S923=S14,$P$2:$P$911*1.000001),4),"")} | Z14: =IF(P14<>"", IF(COUNT(V14:Y14)=4, SUM(V14:Y14), "No"), "") -> No | AA14: =IF(P14<>"", IF(COUNT(V14:X14)=3, SUM(V14:X14), "No"), "") -> No | AB14: =IF(P14<>"", IF(COUNT(V14:W14)=2, SUM(V14:W14), "No"), "") -> 23.0113 | AC14: =Table4[[#This Row],[Club]]&":"&Table4[[#Headers],[Female]] -> York Knavesmire Harriers:Female | AE14: 13 | AF14: =IFERROR(VLOOKUP(AE$1&":"&AE14,'Finish order'!$E:$K,4,FALSE()),"") | AG14: =IFERROR(VLOOKUP(AE$1&":"&AE14,'Finish order'!$E:$K,5,FALSE()),"") | AH14: =IFERROR(VLOOKUP(AE$1&":"&AE14,'Finish order'!$E:$K,3,FALSE()),"") | AI14: =IFERROR(VLOOKUP(AE$1&":"&AE14,'Finish order'!$E:$K,2,FALSE()),"") | AL14: 13 | AM14: =IFERROR(VLOOKUP(AL$1&":"&AL14,'Finish order'!$E:$K,4,FALSE()),"") | AN14: =IFERROR(VLOOKUP(AL$1&":"&AL14,'Finish order'!$E:$K,5,FALSE()),"") | AO14: =IFERROR(VLOOKUP(AL$1&":"&AL14,'Finish order'!$E:$K,3,FALSE()),"") | AP14: =IFERROR(VLOOKUP(AL$1&":"&AL14,'Finish order'!$E:$K,2,FALSE()),"") | AS14: 13 | AT14: =IFERROR(VLOOKUP(AS$1&":"&AS14,'Finish order'!$E:$K,4,FALSE()),"") | AU14: =IFERROR(VLOOKUP(AS$1&":"&AS14,'Finish order'!$E:$K,5,FALSE()),"") | AV14: =IFERROR(VLOOKUP(AS$1&":"&AS14,'Finish order'!$E:$K,3,FALSE()),"") | AW14: =IFERROR(VLOOKUP(AS$1&":"&AS14,'Finish order'!$E:$K,2,FALSE()),"") | AZ14: 13 | BA14: =IFERROR(VLOOKUP(AZ$1&":"&AZ14,'Finish order'!$E:$K,4,FALSE()),"") | BB14: =IFERROR(VLOOKUP(AZ$1&":"&AZ14,'Finish order'!$E:$K,5,FALSE()),"") | BC14: =IFERROR(VLOOKUP(AZ$1&":"&AZ14,'Finish order'!$E:$K,3,FALSE()),"") | BD14: =IFERROR(VLOOKUP(AZ$1&":"&AZ14,'Finish order'!$E:$K,2,FALSE()),"") | BG14: 13 | BH14: =IFERROR(VLOOKUP(BG$1&":"&BG14,'Finish order'!$E:$K,4,FALSE()),"") | BI14: =IFERROR(VLOOKUP(BG$1&":"&BG14,'Finish order'!$E:$K,5,FALSE()),"") | BJ14: =IFERROR(VLOOKUP(BG$1&":"&BG14,'Finish order'!$E:$K,3,FALSE()),"") | BK14: =IFERROR(VLOOKUP(BG$1&":"&BG14,'Finish order'!$E:$K,2,FALSE()),"") | BN14: 13 | BO14: =IFERROR(VLOOKUP(BN$1&":"&BN14,'Finish order'!$E:$K,4,FALSE()),"") | BP14: =IFERROR(VLOOKUP(BN$1&":"&BN14,'Finish order'!$E:$K,5,FALSE()),"") | BQ14: =IFERROR(VLOOKUP(BN$1&":"&BN14,'Finish order'!$E:$K,3,FALSE()),"") | BR14: =IFERROR(VLOOKUP(BN$1&":"&BN14,'Finish order'!$E:$K,2,FALSE()),"") | BU14: 13 | BV14: =IFERROR(VLOOKUP(BU$1&":"&BU14,'Finish order'!$E:$K,4,FALSE()),"") | BW14: =IFERROR(VLOOKUP(BU$1&":"&BU14,'Finish order'!$E:$K,5,FALSE()),"") | BX14: =IFERROR(VLOOKUP(BU$1&":"&BU14,'Finish order'!$E:$K,3,FALSE()),"") | BY14: =IFERROR(VLOOKUP(BU$1&":"&BU14,'Finish order'!$E:$K,2,FALSE()),"") | CB14: 13 | CC14: =IFERROR(VLOOKUP(CB$1&":"&CB14,'Finish order'!$E:$K,4,FALSE()),"") | CD14: =IFERROR(VLOOKUP(CB$1&":"&CB14,'Finish order'!$E:$K,5,FALSE()),"") | CE14: =IFERROR(VLOOKUP(CB$1&":"&CB14,'Finish order'!$E:$K,3,FALSE()),"") | CF14: =IFERROR(VLOOKUP(CB$1&":"&CB14,'Finish order'!$E:$K,2,FALSE()),"") | CI14: 13 | CJ14: =IFERROR(VLOOKUP(CI$1&":"&CI14,'Finish order'!$E:$K,4,FALSE()),"") | CK14: =IFERROR(VLOOKUP(CI$1&":"&CI14,'Finish order'!$E:$K,5,FALSE()),"") | CL14: =IFERROR(VLOOKUP(CI$1&":"&CI14,'Finish order'!$E:$K,3,FALSE()),"") | CM14: =IFERROR(VLOOKUP(CI$1&":"&CI14,'Finish order'!$E:$K,2,FALSE()),"") | CP14: 13 | CQ14: =IFERROR(VLOOKUP(CP$1&":"&CP14,'Finish order'!$E:$K,4,FALSE()),"") | CR14: =IFERROR(VLOOKUP(CP$1&":"&CP14,'Finish order'!$E:$K,5,FALSE()),"") | CS14: =IFERROR(VLOOKUP(CP$1&":"&CP14,'Finish order'!$E:$K,3,FALSE()),"") | CT14: =IFERROR(VLOOKUP(CP$1&":"&CP14,'Finish order'!$E:$K,2,FALSE()),"") | CW14: 13 | CX14: =IFERROR(VLOOKUP(CW$1&":"&CW14,'Finish order'!$E:$K,4,FALSE()),"") | CY14: =IFERROR(VLOOKUP(CW$1&":"&CW14,'Finish order'!$E:$K,5,FALSE()),"") | CZ14: =IFERROR(VLOOKUP(CW$1&":"&CW14,'Finish order'!$E:$K,3,FALSE()),"") | DA14: =IFERROR(VLOOKUP(CW$1&":"&CW14,'Finish order'!$E:$K,2,FALSE()),"") | DD14: 13 | DE14: =IFERROR(VLOOKUP(DD$1&":"&DD14,'Finish order'!$E:$K,4,FALSE()),"") | DF14: =IFERROR(VLOOKUP(DD$1&":"&DD14,'Finish order'!$E:$K,5,FALSE()),"") | DG14: =IFERROR(VLOOKUP(DD$1&":"&DD14,'Finish order'!$E:$K,3,FALSE()),"") | DH14: =IFERROR(VLOOKUP(DD$1&":"&DD14,'Finish order'!$E:$K,2,FALSE()),"") | DK14: 13 | DL14: =IFERROR(VLOOKUP(DK$1&":"&DK14,'Finish order'!$E:$K,4,FALSE()),"") | DM14: =IFERROR(VLOOKUP(DK$1&":"&DK14,'Finish order'!$E:$K,5,FALSE()),"") | DN14: =IFERROR(VLOOKUP(DK$1&":"&DK14,'Finish order'!$E:$K,3,FALSE()),"") | DO14: =IFERROR(VLOOKUP(DK$1&":"&DK14,'Finish order'!$E:$K,2,FALSE()),"") | DR14: 13 | DS14: =IFERROR(VLOOKUP(DR$1&":"&DR14,'Finish order'!$E:$K,4,FALSE()),"") | DT14: =IFERROR(VLOOKUP(DR$1&":"&DR14,'Finish order'!$E:$K,5,FALSE()),"") | DU14: =IFERROR(VLOOKUP(DR$1&":"&DR14,'Finish order'!$E:$K,3,FALSE()),"") | DV14: =IFERROR(VLOOKUP(DR$1&":"&DR14,'Finish order'!$E:$K,2,FALSE()),"")
A15: 14 | B15: =IFERROR(VLOOKUP($A$1&":"&A15,'Finish order'!C:K,6,FALSE()),"") -> Reiner Hesse | C15: =IFERROR(VLOOKUP(A$1&":"&A15,'Finish order'!$C:$K,9,FALSE()),"") -> M50 | D15: =IFERROR(VLOOKUP(A$1&":"&A15,'Finish order'!$C:$K,7,FALSE()),"") -> Loftus & Whitby AC | E15: =IFERROR(VLOOKUP($A$1&":"&A15,'Finish order'!C:K,5,FALSE()),"") -> 0.054814815 | F15: =IFERROR(VLOOKUP($A$1&":"&A15,'Finish order'!C:K,4,FALSE()),"") -> 700 | G15: {=IFERROR(SMALL(IF($D$2:$D924=D15,$A$2:$A$911*1.001),1),"")} -> 14.014 | H15: {=IFERROR(SMALL(IF($D$2:$D924=D15,$A$2:$A$911*1.0001),2),"")} -> 24.0024 | I15: {=IFERROR(SMALL(IF($D$2:$D924=D15,$A$2:$A$911*1.00001),3),"")} -> 36.00036 | J15: {=IFERROR(SMALL(IF($D$2:$D924=D15,$A$2:$A$911*1.000001),4),"")} -> 43.000043 | K15: =IF(A15<>"", IF(COUNT(G15:J15)=4, SUM(G15:J15), "No"), "") -> 117.0168 | L15: =IF(A15<>"", IF(COUNT(G15:I15)=3, SUM(G15:I15), "No"), "") -> 74.01676 | M15: =IF(A15<>"", IF(COUNT(G15:H15)=2, SUM(G15:H15), "No"), "") -> 38.0164 | N15: =Table1[[#This Row],[Club]]&":"&Table1[[#Headers],[Male]] -> Loftus & Whitby AC:Male | P15: 14 | Q15: =IFERROR(VLOOKUP(P$1&":"&P15,'Finish order'!$C:$K,6,FALSE()),"") -> Sarah Hudson | R15: =IFERROR(VLOOKUP(P$1&":"&P15,'Finish order'!$C:$K,9,FALSE()),"") -> W45 | S15: =IFERROR(VLOOKUP(P$1&":"&P15,'Finish order'!$C:$K,7,FALSE()),"") -> Loftus & Whitby AC | T15: =IFERROR(VLOOKUP(P$1&":"&P15,'Finish order'!$C:$K,5,FALSE()),"") -> 0.071574074 | U15: =IFERROR(VLOOKUP(P$1&":"&P15,'Finish order'!$C:$K,4,FALSE()),"") -> 153 | V15: {=IFERROR(SMALL(IF($S$2:$S924=S15,$P$2:$P$911*1.001),1),"")} -> 1.001 | W15: {=IFERROR(SMALL(IF($S$2:$S924=S15,$P$2:$P$911*1.0001),2),"")} -> 14.0014 | X15: {=IFERROR(SMALL(IF($S$2:$S924=S15,$P$2:$P$911*1.00001),3),"")} | Y15: {=IFERROR(SMALL(IF($S$2:$S924=S15,$P$2:$P$911*1.000001),4),"")} | Z15: =IF(P15<>"", IF(COUNT(V15:Y15)=4, SUM(V15:Y15), "No"), "") -> No | AA15: =IF(P15<>"", IF(COUNT(V15:X15)=3, SUM(V15:X15), "No"), "") -> No | AB15: =IF(P15<>"", IF(COUNT(V15:W15)=2, SUM(V15:W15), "No"), "") -> 15.0024 | AC15: =Table4[[#This Row],[Club]]&":"&Table4[[#Headers],[Female]] -> Loftus & Whitby AC:Female | AE15: 14 | AF15: =IFERROR(VLOOKUP(AE$1&":"&AE15,'Finish order'!$E:$K,4,FALSE()),"") | AG15: =IFERROR(VLOOKUP(AE$1&":"&AE15,'Finish order'!$E:$K,5,FALSE()),"") | AH15: =IFERROR(VLOOKUP(AE$1&":"&AE15,'Finish order'!$E:$K,3,FALSE()),"") | AI15: =IFERROR(VLOOKUP(AE$1&":"&AE15,'Finish order'!$E:$K,2,FALSE()),"") | AL15: 14 | AM15: =IFERROR(VLOOKUP(AL$1&":"&AL15,'Finish order'!$E:$K,4,FALSE()),"") | AN15: =IFERROR(VLOOKUP(AL$1&":"&AL15,'Finish order'!$E:$K,5,FALSE()),"") | AO15: =IFERROR(VLOOKUP(AL$1&":"&AL15,'Finish order'!$E:$K,3,FALSE()),"") | AP15: =IFERROR(VLOOKUP(AL$1&":"&AL15,'Finish order'!$E:$K,2,FALSE()),"") | AS15: 14 | AT15: =IFERROR(VLOOKUP(AS$1&":"&AS15,'Finish order'!$E:$K,4,FALSE()),"") | AU15: =IFERROR(VLOOKUP(AS$1&":"&AS15,'Finish order'!$E:$K,5,FALSE()),"") | AV15: =IFERROR(VLOOKUP(AS$1&":"&AS15,'Finish order'!$E:$K,3,FALSE()),"") | AW15: =IFERROR(VLOOKUP(AS$1&":"&AS15,'Finish order'!$E:$K,2,FALSE()),"") | AZ15: 14 | BA15: =IFERROR(VLOOKUP(AZ$1&":"&AZ15,'Finish order'!$E:$K,4,FALSE()),"") | BB15: =IFERROR(VLOOKUP(AZ$1&":"&AZ15,'Finish order'!$E:$K,5,FALSE()),"") | BC15: =IFERROR(VLOOKUP(AZ$1&":"&AZ15,'Finish order'!$E:$K,3,FALSE()),"") | BD15: =IFERROR(VLOOKUP(AZ$1&":"&AZ15,'Finish order'!$E:$K,2,FALSE()),"") | BG15: 14 | BH15: =IFERROR(VLOOKUP(BG$1&":"&BG15,'Finish order'!$E:$K,4,FALSE()),"") | BI15: =IFERROR(VLOOKUP(BG$1&":"&BG15,'Finish order'!$E:$K,5,FALSE()),"") | BJ15: =IFERROR(VLOOKUP(BG$1&":"&BG15,'Finish order'!$E:$K,3,FALSE()),"") | BK15: =IFERROR(VLOOKUP(BG$1&":"&BG15,'Finish order'!$E:$K,2,FALSE()),"") | BN15: 14 | BO15: =IFERROR(VLOOKUP(BN$1&":"&BN15,'Finish order'!$E:$K,4,FALSE()),"") | BP15: =IFERROR(VLOOKUP(BN$1&":"&BN15,'Finish order'!$E:$K,5,FALSE()),"") | BQ15: =IFERROR(VLOOKUP(BN$1&":"&BN15,'Finish order'!$E:$K,3,FALSE()),"") | BR15: =IFERROR(VLOOKUP(BN$1&":"&BN15,'Finish order'!$E:$K,2,FALSE()),"") | BU15: 14 | BV15: =IFERROR(VLOOKUP(BU$1&":"&BU15,'Finish order'!$E:$K,4,FALSE()),"") | BW15: =IFERROR(VLOOKUP(BU$1&":"&BU15,'Finish order'!$E:$K,5,FALSE()),"") | BX15: =IFERROR(VLOOKUP(BU$1&":"&BU15,'Finish order'!$E:$K,3,FALSE()),"") | BY15: =IFERROR(VLOOKUP(BU$1&":"&BU15,'Finish order'!$E:$K,2,FALSE()),"") | CB15: 14 | CC15: =IFERROR(VLOOKUP(CB$1&":"&CB15,'Finish order'!$E:$K,4,FALSE()),"") | CD15: =IFERROR(VLOOKUP(CB$1&":"&CB15,'Finish order'!$E:$K,5,FALSE()),"") | CE15: =IFERROR(VLOOKUP(CB$1&":"&CB15,'Finish order'!$E:$K,3,FALSE()),"") | CF15: =IFERROR(VLOOKUP(CB$1&":"&CB15,'Finish order'!$E:$K,2,FALSE()),"") | CI15: 14 | CJ15: =IFERROR(VLOOKUP(CI$1&":"&CI15,'Finish order'!$E:$K,4,FALSE()),"") | CK15: =IFERROR(VLOOKUP(CI$1&":"&CI15,'Finish order'!$E:$K,5,FALSE()),"") | CL15: =IFERROR(VLOOKUP(CI$1&":"&CI15,'Finish order'!$E:$K,3,FALSE()),"") | CM15: =IFERROR(VLOOKUP(CI$1&":"&CI15,'Finish order'!$E:$K,2,FALSE()),"") | CP15: 14 | CQ15: =IFERROR(VLOOKUP(CP$1&":"&CP15,'Finish order'!$E:$K,4,FALSE()),"") | CR15: =IFERROR(VLOOKUP(CP$1&":"&CP15,'Finish order'!$E:$K,5,FALSE()),"") | CS15: =IFERROR(VLOOKUP(CP$1&":"&CP15,'Finish order'!$E:$K,3,FALSE()),"") | CT15: =IFERROR(VLOOKUP(CP$1&":"&CP15,'Finish order'!$E:$K,2,FALSE()),"") | CW15: 14 | CX15: =IFERROR(VLOOKUP(CW$1&":"&CW15,'Finish order'!$E:$K,4,FALSE()),"") | CY15: =IFERROR(VLOOKUP(CW$1&":"&CW15,'Finish order'!$E:$K,5,FALSE()),"") | CZ15: =IFERROR(VLOOKUP(CW$1&":"&CW15,'Finish order'!$E:$K,3,FALSE()),"") | DA15: =IFERROR(VLOOKUP(CW$1&":"&CW15,'Finish order'!$E:$K,2,FALSE()),"") | DD15: 14 | DE15: =IFERROR(VLOOKUP(DD$1&":"&DD15,'Finish order'!$E:$K,4,FALSE()),"") | DF15: =IFERROR(VLOOKUP(DD$1&":"&DD15,'Finish order'!$E:$K,5,FALSE()),"") | DG15: =IFERROR(VLOOKUP(DD$1&":"&DD15,'Finish order'!$E:$K,3,FALSE()),"") | DH15: =IFERROR(VLOOKUP(DD$1&":"&DD15,'Finish order'!$E:$K,2,FALSE()),"") | DK15: 14 | DL15: =IFERROR(VLOOKUP(DK$1&":"&DK15,'Finish order'!$E:$K,4,FALSE()),"") | DM15: =IFERROR(VLOOKUP(DK$1&":"&DK15,'Finish order'!$E:$K,5,FALSE()),"") | DN15: =IFERROR(VLOOKUP(DK$1&":"&DK15,'Finish order'!$E:$K,3,FALSE()),"") | DO15: =IFERROR(VLOOKUP(DK$1&":"&DK15,'Finish order'!$E:$K,2,FALSE()),"") | DR15: 14 | DS15: =IFERROR(VLOOKUP(DR$1&":"&DR15,'Finish order'!$E:$K,4,FALSE()),"") | DT15: =IFERROR(VLOOKUP(DR$1&":"&DR15,'Finish order'!$E:$K,5,FALSE()),"") | DU15: =IFERROR(VLOOKUP(DR$1&":"&DR15,'Finish order'!$E:$K,3,FALSE()),"") | DV15: =IFERROR(VLOOKUP(DR$1&":"&DR15,'Finish order'!$E:$K,2,FALSE()),"")
A16: 15 | B16: =IFERROR(VLOOKUP($A$1&":"&A16,'Finish order'!C:K,6,FALSE()),"") -> James Mullholland | C16: =IFERROR(VLOOKUP(A$1&":"&A16,'Finish order'!$C:$K,9,FALSE()),"") -> MU23 | D16: =IFERROR(VLOOKUP(A$1&":"&A16,'Finish order'!$C:$K,7,FALSE()),"") -> Individual# | E16: =IFERROR(VLOOKUP($A$1&":"&A16,'Finish order'!C:K,5,FALSE()),"") -> 0.055162037 | F16: =IFERROR(VLOOKUP($A$1&":"&A16,'Finish order'!C:K,4,FALSE()),"") -> 344 | G16: {=IFERROR(SMALL(IF($D$2:$D925=D16,$A$2:$A$911*1.001),1),"")} -> 11.011 | H16: {=IFERROR(SMALL(IF($D$2:$D925=D16,$A$2:$A$911*1.0001),2),"")} -> 15.0015 | I16: {=IFERROR(SMALL(IF($D$2:$D925=D16,$A$2:$A$911*1.00001),3),"")} -> 28.00028 | J16: {=IFERROR(SMALL(IF($D$2:$D925=D16,$A$2:$A$911*1.000001),4),"")} -> 33.000033 | K16: =IF(A16<>"", IF(COUNT(G16:J16)=4, SUM(G16:J16), "No"), "") -> 87.012813 | L16: =IF(A16<>"", IF(COUNT(G16:I16)=3, SUM(G16:I16), "No"), "") -> 54.01278 | M16: =IF(A16<>"", IF(COUNT(G16:H16)=2, SUM(G16:H16), "No"), "") -> 26.0125 | N16: =Table1[[#This Row],[Club]]&":"&Table1[[#Headers],[Male]] -> Individual#:Male | P16: 15 | Q16: =IFERROR(VLOOKUP(P$1&":"&P16,'Finish order'!$C:$K,6,FALSE()),"") -> Alice Hayter | R16: =IFERROR(VLOOKUP(P$1&":"&P16,'Finish order'!$C:$K,9,FALSE()),"") -> W45 | S16: =IFERROR(VLOOKUP(P$1&":"&P16,'Finish order'!$C:$K,7,FALSE()),"") -> Pickering RC | T16: =IFERROR(VLOOKUP(P$1&":"&P16,'Finish order'!$C:$K,5,FALSE()),"") -> 0.071921296 | U16: =IFERROR(VLOOKUP(P$1&":"&P16,'Finish order'!$C:$K,4,FALSE()),"") -> 151 | V16: {=IFERROR(SMALL(IF($S$2:$S925=S16,$P$2:$P$911*1.001),1),"")} -> 3.003 | W16: {=IFERROR(SMALL(IF($S$2:$S925=S16,$P$2:$P$911*1.0001),2),"")} -> 12.0012 | X16: {=IFERROR(SMALL(IF($S$2:$S925=S16,$P$2:$P$911*1.00001),3),"")} -> 15.00015 | Y16: {=IFERROR(SMALL(IF($S$2:$S925=S16,$P$2:$P$911*1.000001),4),"")} -> 22.000022 | Z16: =IF(P16<>"", IF(COUNT(V16:Y16)=4, SUM(V16:Y16), "No"), "") -> 52.004372 | AA16: =IF(P16<>"", IF(COUNT(V16:X16)=3, SUM(V16:X16), "No"), "") -> 30.00435 | AB16: =IF(P16<>"", IF(COUNT(V16:W16)=2, SUM(V16:W16), "No"), "") -> 15.0042 | AC16: =Table4[[#This Row],[Club]]&":"&Table4[[#Headers],[Female]] -> Pickering RC:Female | AE16: 15 | AF16: =IFERROR(VLOOKUP(AE$1&":"&AE16,'Finish order'!$E:$K,4,FALSE()),"") | AG16: =IFERROR(VLOOKUP(AE$1&":"&AE16,'Finish order'!$E:$K,5,FALSE()),"") | AH16: =IFERROR(VLOOKUP(AE$1&":"&AE16,'Finish order'!$E:$K,3,FALSE()),"") | AI16: =IFERROR(VLOOKUP(AE$1&":"&AE16,'Finish order'!$E:$K,2,FALSE()),"") | AL16: 15 | AM16: =IFERROR(VLOOKUP(AL$1&":"&AL16,'Finish order'!$E:$K,4,FALSE()),"") | AN16: =IFERROR(VLOOKUP(AL$1&":"&AL16,'Finish order'!$E:$K,5,FALSE()),"") | AO16: =IFERROR(VLOOKUP(AL$1&":"&AL16,'Finish order'!$E:$K,3,FALSE()),"") | AP16: =IFERROR(VLOOKUP(AL$1&":"&AL16,'Finish order'!$E:$K,2,FALSE()),"") | AS16: 15 | AT16: =IFERROR(VLOOKUP(AS$1&":"&AS16,'Finish order'!$E:$K,4,FALSE()),"") | AU16: =IFERROR(VLOOKUP(AS$1&":"&AS16,'Finish order'!$E:$K,5,FALSE()),"") | AV16: =IFERROR(VLOOKUP(AS$1&":"&AS16,'Finish order'!$E:$K,3,FALSE()),"") | AW16: =IFERROR(VLOOKUP(AS$1&":"&AS16,'Finish order'!$E:$K,2,FALSE()),"") | AZ16: 15 | BA16: =IFERROR(VLOOKUP(AZ$1&":"&AZ16,'Finish order'!$E:$K,4,FALSE()),"") | BB16: =IFERROR(VLOOKUP(AZ$1&":"&AZ16,'Finish order'!$E:$K,5,FALSE()),"") | BC16: =IFERROR(VLOOKUP(AZ$1&":"&AZ16,'Finish order'!$E:$K,3,FALSE()),"") | BD16: =IFERROR(VLOOKUP(AZ$1&":"&AZ16,'Finish order'!$E:$K,2,FALSE()),"") | BG16: 15 | BH16: =IFERROR(VLOOKUP(BG$1&":"&BG16,'Finish order'!$E:$K,4,FALSE()),"") | BI16: =IFERROR(VLOOKUP(BG$1&":"&BG16,'Finish order'!$E:$K,5,FALSE()),"") | BJ16: =IFERROR(VLOOKUP(BG$1&":"&BG16,'Finish order'!$E:$K,3,FALSE()),"") | BK16: =IFERROR(VLOOKUP(BG$1&":"&BG16,'Finish order'!$E:$K,2,FALSE()),"") | BN16: 15 | BO16: =IFERROR(VLOOKUP(BN$1&":"&BN16,'Finish order'!$E:$K,4,FALSE()),"") | BP16: =IFERROR(VLOOKUP(BN$1&":"&BN16,'Finish order'!$E:$K,5,FALSE()),"") | BQ16: =IFERROR(VLOOKUP(BN$1&":"&BN16,'Finish order'!$E:$K,3,FALSE()),"") | BR16: =IFERROR(VLOOKUP(BN$1&":"&BN16,'Finish order'!$E:$K,2,FALSE()),"") | BU16: 15 | BV16: =IFERROR(VLOOKUP(BU$1&":"&BU16,'Finish order'!$E:$K,4,FALSE()),"") | BW16: =IFERROR(VLOOKUP(BU$1&":"&BU16,'Finish order'!$E:$K,5,FALSE()),"") | BX16: =IFERROR(VLOOKUP(BU$1&":"&BU16,'Finish order'!$E:$K,3,FALSE()),"") | BY16: =IFERROR(VLOOKUP(BU$1&":"&BU16,'Finish order'!$E:$K,2,FALSE()),"") | CB16: 15 | CC16: =IFERROR(VLOOKUP(CB$1&":"&CB16,'Finish order'!$E:$K,4,FALSE()),"") | CD16: =IFERROR(VLOOKUP(CB$1&":"&CB16,'Finish order'!$E:$K,5,FALSE()),"") | CE16: =IFERROR(VLOOKUP(CB$1&":"&CB16,'Finish order'!$E:$K,3,FALSE()),"") | CF16: =IFERROR(VLOOKUP(CB$1&":"&CB16,'Finish order'!$E:$K,2,FALSE()),"") | CI16: 15 | CJ16: =IFERROR(VLOOKUP(CI$1&":"&CI16,'Finish order'!$E:$K,4,FALSE()),"") | CK16: =IFERROR(VLOOKUP(CI$1&":"&CI16,'Finish order'!$E:$K,5,FALSE()),"") | CL16: =IFERROR(VLOOKUP(CI$1&":"&CI16,'Finish order'!$E:$K,3,FALSE()),"") | CM16: =IFERROR(VLOOKUP(CI$1&":"&CI16,'Finish order'!$E:$K,2,FALSE()),"") | CP16: 15 | CQ16: =IFERROR(VLOOKUP(CP$1&":"&CP16,'Finish order'!$E:$K,4,FALSE()),"") | CR16: =IFERROR(VLOOKUP(CP$1&":"&CP16,'Finish order'!$E:$K,5,FALSE()),"") | CS16: =IFERROR(VLOOKUP(CP$1&":"&CP16,'Finish order'!$E:$K,3,FALSE()),"") | CT16: =IFERROR(VLOOKUP(CP$1&":"&CP16,'Finish order'!$E:$K,2,FALSE()),"") | CW16: 15 | CX16: =IFERROR(VLOOKUP(CW$1&":"&CW16,'Finish order'!$E:$K,4,FALSE()),"") | CY16: =IFERROR(VLOOKUP(CW$1&":"&CW16,'Finish order'!$E:$K,5,FALSE()),"") | CZ16: =IFERROR(VLOOKUP(CW$1&":"&CW16,'Finish order'!$E:$K,3,FALSE()),"") | DA16: =IFERROR(VLOOKUP(CW$1&":"&CW16,'Finish order'!$E:$K,2,FALSE()),"") | DD16: 15 | DE16: =IFERROR(VLOOKUP(DD$1&":"&DD16,'Finish order'!$E:$K,4,FALSE()),"") | DF16: =IFERROR(VLOOKUP(DD$1&":"&DD16,'Finish order'!$E:$K,5,FALSE()),"") | DG16: =IFERROR(VLOOKUP(DD$1&":"&DD16,'Finish order'!$E:$K,3,FALSE()),"") | DH16: =IFERROR(VLOOKUP(DD$1&":"&DD16,'Finish order'!$E:$K,2,FALSE()),"") | DK16: 15 | DL16: =IFERROR(VLOOKUP(DK$1&":"&DK16,'Finish order'!$E:$K,4,FALSE()),"") | DM16: =IFERROR(VLOOKUP(DK$1&":"&DK16,'Finish order'!$E:$K,5,FALSE()),"") | DN16: =IFERROR(VLOOKUP(DK$1&":"&DK16,'Finish order'!$E:$K,3,FALSE()),"") | DO16: =IFERROR(VLOOKUP(DK$1&":"&DK16,'Finish order'!$E:$K,2,FALSE()),"") | DR16: 15 | DS16: =IFERROR(VLOOKUP(DR$1&":"&DR16,'Finish order'!$E:$K,4,FALSE()),"") | DT16: =IFERROR(VLOOKUP(DR$1&":"&DR16,'Finish order'!$E:$K,5,FALSE()),"") | DU16: =IFERROR(VLOOKUP(DR$1&":"&DR16,'Finish order'!$E:$K,3,FALSE()),"") | DV16: =IFERROR(VLOOKUP(DR$1&":"&DR16,'Finish order'!$E:$K,2,FALSE()),"")
... A30: 29 | B30: =IFERROR(VLOOKUP($A$1&":"&A30,'Finish order'!C:K,6,FALSE()),"") -> Luke Green | C30: =IFERROR(VLOOKUP(A$1&":"&A30,'Finish order'!$C:$K,9,FALSE()),"") -> MSEN | D30: =IFERROR(VLOOKUP(A$1&":"&A30,'Finish order'!$C:$K,7,FALSE()),"") -> North York Moors AC | E30: =IFERROR(VLOOKUP($A$1&":"&A30,'Finish order'!C:K,5,FALSE()),"") -> 0.060266204 | F30: =IFERROR(VLOOKUP($A$1&":"&A30,'Finish order'!C:K,4,FALSE()),"") -> 392 | G30: {=IFERROR(SMALL(IF($D$2:$D939=D30,$A$2:$A$911*1.001),1),"")} -> 18.018 | H30: {=IFERROR(SMALL(IF($D$2:$D939=D30,$A$2:$A$911*1.0001),2),"")} -> 19.0019 | I30: {=IFERROR(SMALL(IF($D$2:$D939=D30,$A$2:$A$911*1.00001),3),"")} -> 29.00029 | J30: {=IFERROR(SMALL(IF($D$2:$D939=D30,$A$2:$A$911*1.000001),4),"")} -> 34.000034 | K30: =IF(A30<>"", IF(COUNT(G30:J30)=4, SUM(G30:J30), "No"), "") -> 100.02022 | L30: =IF(A30<>"", IF(COUNT(G30:I30)=3, SUM(G30:I30), "No"), "") -> 66.02019 | M30: =IF(A30<>"", IF(COUNT(G30:H30)=2, SUM(G30:H30), "No"), "") -> 37.0199 | N30: =Table1[[#This Row],[Club]]&":"&Table1[[#Headers],[Male]] -> North York Moors AC:Male | P30: 29 | Q30: =IFERROR(VLOOKUP(P$1&":"&P30,'Finish order'!$C:$K,6,FALSE()),"") -> Kathryn Waterworth | R30: =IFERROR(VLOOKUP(P$1&":"&P30,'Finish order'!$C:$K,9,FALSE()),"") -> W45 | S30: =IFERROR(VLOOKUP(P$1&":"&P30,'Finish order'!$C:$K,7,FALSE()),"") -> Individual# | T30: =IFERROR(VLOOKUP(P$1&":"&P30,'Finish order'!$C:$K,5,FALSE()),"") -> 0.093738426 | U30: =IFERROR(VLOOKUP(P$1&":"&P30,'Finish order'!$C:$K,4,FALSE()),"") -> 159 | V30: {=IFERROR(SMALL(IF($S$2:$S939=S30,$P$2:$P$911*1.001),1),"")} -> 11.011 | W30: {=IFERROR(SMALL(IF($S$2:$S939=S30,$P$2:$P$911*1.0001),2),"")} -> 16.0016 | X30: {=IFERROR(SMALL(IF($S$2:$S939=S30,$P$2:$P$911*1.00001),3),"")} -> 17.00017 | Y30: {=IFERROR(SMALL(IF($S$2:$S939=S30,$P$2:$P$911*1.000001),4),"")} -> 29.000029 | Z30: =IF(P30<>"", IF(COUNT(V30:Y30)=4, SUM(V30:Y30), "No"), "") -> 73.012799 | AA30: =IF(P30<>"", IF(COUNT(V30:X30)=3, SUM(V30:X30), "No"), "") -> 44.01277 | AB30: =IF(P30<>"", IF(COUNT(V30:W30)=2, SUM(V30:W30), "No"), "") -> 27.0126 | AC30: =Table4[[#This Row],[Club]]&":"&Table4[[#Headers],[Female]] -> Individual#:Female | AE30: 29 | AF30: =IFERROR(VLOOKUP(AE$1&":"&AE30,'Finish order'!$E:$K,4,FALSE()),"") | AG30: =IFERROR(VLOOKUP(AE$1&":"&AE30,'Finish order'!$E:$K,5,FALSE()),"") | AH30: =IFERROR(VLOOKUP(AE$1&":"&AE30,'Finish order'!$E:$K,3,FALSE()),"") | AI30: =IFERROR(VLOOKUP(AE$1&":"&AE30,'Finish order'!$E:$K,2,FALSE()),"") | AL30: 29 | AM30: =IFERROR(VLOOKUP(AL$1&":"&AL30,'Finish order'!$E:$K,4,FALSE()),"") | AN30: =IFERROR(VLOOKUP(AL$1&":"&AL30,'Finish order'!$E:$K,5,FALSE()),"") | AO30: =IFERROR(VLOOKUP(AL$1&":"&AL30,'Finish order'!$E:$K,3,FALSE()),"") | AP30: =IFERROR(VLOOKUP(AL$1&":"&AL30,'Finish order'!$E:$K,2,FALSE()),"") | AS30: 29 | AT30: =IFERROR(VLOOKUP(AS$1&":"&AS30,'Finish order'!$E:$K,4,FALSE()),"") | AU30: =IFERROR(VLOOKUP(AS$1&":"&AS30,'Finish order'!$E:$K,5,FALSE()),"") | AV30: =IFERROR(VLOOKUP(AS$1&":"&AS30,'Finish order'!$E:$K,3,FALSE()),"") | AW30: =IFERROR(VLOOKUP(AS$1&":"&AS30,'Finish order'!$E:$K,2,FALSE()),"") | AZ30: 29 | BA30: =IFERROR(VLOOKUP(AZ$1&":"&AZ30,'Finish order'!$E:$K,4,FALSE()),"") | BB30: =IFERROR(VLOOKUP(AZ$1&":"&AZ30,'Finish order'!$E:$K,5,FALSE()),"") | BC30: =IFERROR(VLOOKUP(AZ$1&":"&AZ30,'Finish order'!$E:$K,3,FALSE()),"") | BD30: =IFERROR(VLOOKUP(AZ$1&":"&AZ30,'Finish order'!$E:$K,2,FALSE()),"") | BG30: 29 | BH30: =IFERROR(VLOOKUP(BG$1&":"&BG30,'Finish order'!$E:$K,4,FALSE()),"") | BI30: =IFERROR(VLOOKUP(BG$1&":"&BG30,'Finish order'!$E:$K,5,FALSE()),"") | BJ30: =IFERROR(VLOOKUP(BG$1&":"&BG30,'Finish order'!$E:$K,3,FALSE()),"") | BK30: =IFERROR(VLOOKUP(BG$1&":"&BG30,'Finish order'!$E:$K,2,FALSE()),"") | BN30: 29 | BO30: =IFERROR(VLOOKUP(BN$1&":"&BN30,'Finish order'!$E:$K,4,FALSE()),"") | BP30: =IFERROR(VLOOKUP(BN$1&":"&BN30,'Finish order'!$E:$K,5,FALSE()),"") | BQ30: =IFERROR(VLOOKUP(BN$1&":"&BN30,'Finish order'!$E:$K,3,FALSE()),"") | BR30: =IFERROR(VLOOKUP(BN$1&":"&BN30,'Finish order'!$E:$K,2,FALSE()),"") | BU30: 29 | BV30: =IFERROR(VLOOKUP(BU$1&":"&BU30,'Finish order'!$E:$K,4,FALSE()),"") | BW30: =IFERROR(VLOOKUP(BU$1&":"&BU30,'Finish order'!$E:$K,5,FALSE()),"") | BX30: =IFERROR(VLOOKUP(BU$1&":"&BU30,'Finish order'!$E:$K,3,FALSE()),"") | BY30: =IFERROR(VLOOKUP(BU$1&":"&BU30,'Finish order'!$E:$K,2,FALSE()),"") | CB30: 29 | CC30: =IFERROR(VLOOKUP(CB$1&":"&CB30,'Finish order'!$E:$K,4,FALSE()),"") | CD30: =IFERROR(VLOOKUP(CB$1&":"&CB30,'Finish order'!$E:$K,5,FALSE()),"") | CE30: =IFERROR(VLOOKUP(CB$1&":"&CB30,'Finish order'!$E:$K,3,FALSE()),"") | CF30: =IFERROR(VLOOKUP(CB$1&":"&CB30,'Finish order'!$E:$K,2,FALSE()),"") | CI30: 29 | CJ30: =IFERROR(VLOOKUP(CI$1&":"&CI30,'Finish order'!$E:$K,4,FALSE()),"") | CK30: =IFERROR(VLOOKUP(CI$1&":"&CI30,'Finish order'!$E:$K,5,FALSE()),"") | CL30: =IFERROR(VLOOKUP(CI$1&":"&CI30,'Finish order'!$E:$K,3,FALSE()),"") | CM30: =IFERROR(VLOOKUP(CI$1&":"&CI30,'Finish order'!$E:$K,2,FALSE()),"") | CP30: 29 | CQ30: =IFERROR(VLOOKUP(CP$1&":"&CP30,'Finish order'!$E:$K,4,FALSE()),"") | CR30: =IFERROR(VLOOKUP(CP$1&":"&CP30,'Finish order'!$E:$K,5,FALSE()),"") | CS30: =IFERROR(VLOOKUP(CP$1&":"&CP30,'Finish order'!$E:$K,3,FALSE()),"") | CT30: =IFERROR(VLOOKUP(CP$1&":"&CP30,'Finish order'!$E:$K,2,FALSE()),"") | CW30: 29 | CX30: =IFERROR(VLOOKUP(CW$1&":"&CW30,'Finish order'!$E:$K,4,FALSE()),"") | CY30: =IFERROR(VLOOKUP(CW$1&":"&CW30,'Finish order'!$E:$K,5,FALSE()),"") | CZ30: =IFERROR(VLOOKUP(CW$1&":"&CW30,'Finish order'!$E:$K,3,FALSE()),"") | DA30: =IFERROR(VLOOKUP(CW$1&":"&CW30,'Finish order'!$E:$K,2,FALSE()),"") | DD30: 29 | DE30: =IFERROR(VLOOKUP(DD$1&":"&DD30,'Finish order'!$E:$K,4,FALSE()),"") | DF30: =IFERROR(VLOOKUP(DD$1&":"&DD30,'Finish order'!$E:$K,5,FALSE()),"") | DG30: =IFERROR(VLOOKUP(DD$1&":"&DD30,'Finish order'!$E:$K,3,FALSE()),"") | DH30: =IFERROR(VLOOKUP(DD$1&":"&DD30,'Finish order'!$E:$K,2,FALSE()),"") | DK30: 29 | DL30: =IFERROR(VLOOKUP(DK$1&":"&DK30,'Finish order'!$E:$K,4,FALSE()),"") | DM30: =IFERROR(VLOOKUP(DK$1&":"&DK30,'Finish order'!$E:$K,5,FALSE()),"") | DN30: =IFERROR(VLOOKUP(DK$1&":"&DK30,'Finish order'!$E:$K,3,FALSE()),"") | DO30: =IFERROR(VLOOKUP(DK$1&":"&DK30,'Finish order'!$E:$K,2,FALSE()),"") | DR30: 29 | DS30: =IFERROR(VLOOKUP(DR$1&":"&DR30,'Finish order'!$E:$K,4,FALSE()),"") | DT30: =IFERROR(VLOOKUP(DR$1&":"&DR30,'Finish order'!$E:$K,5,FALSE()),"") | DU30: =IFERROR(VLOOKUP(DR$1&":"&DR30,'Finish order'!$E:$K,3,FALSE()),"") | DV30: =IFERROR(VLOOKUP(DR$1&":"&DR30,'Finish order'!$E:$K,2,FALSE()),"")
A31: 30 | B31: =IFERROR(VLOOKUP($A$1&":"&A31,'Finish order'!C:K,6,FALSE()),"") -> Chris Jefferies | C31: =IFERROR(VLOOKUP(A$1&":"&A31,'Finish order'!$C:$K,9,FALSE()),"") -> M50 | D31: =IFERROR(VLOOKUP(A$1&":"&A31,'Finish order'!$C:$K,7,FALSE()),"") -> Billingham RC | E31: =IFERROR(VLOOKUP($A$1&":"&A31,'Finish order'!C:K,5,FALSE()),"") -> 0.0615625 | F31: =IFERROR(VLOOKUP($A$1&":"&A31,'Finish order'!C:K,4,FALSE()),"") -> 709 | G31: {=IFERROR(SMALL(IF($D$2:$D940=D31,$A$2:$A$911*1.001),1),"")} -> 30.03 | H31: {=IFERROR(SMALL(IF($D$2:$D940=D31,$A$2:$A$911*1.0001),2),"")} | I31: {=IFERROR(SMALL(IF($D$2:$D940=D31,$A$2:$A$911*1.00001),3),"")} | J31: {=IFERROR(SMALL(IF($D$2:$D940=D31,$A$2:$A$911*1.000001),4),"")} | K31: =IF(A31<>"", IF(COUNT(G31:J31)=4, SUM(G31:J31), "No"), "") -> No | L31: =IF(A31<>"", IF(COUNT(G31:I31)=3, SUM(G31:I31), "No"), "") -> No | M31: =IF(A31<>"", IF(COUNT(G31:H31)=2, SUM(G31:H31), "No"), "") -> No | N31: =Table1[[#This Row],[Club]]&":"&Table1[[#Headers],[Male]] -> Billingham RC:Male | P31: 30 | Q31: =IFERROR(VLOOKUP(P$1&":"&P31,'Finish order'!$C:$K,6,FALSE()),"") -> Sally Kingscott | R31: =IFERROR(VLOOKUP(P$1&":"&P31,'Finish order'!$C:$K,9,FALSE()),"") -> W60 | S31: =IFERROR(VLOOKUP(P$1&":"&P31,'Finish order'!$C:$K,7,FALSE()),"") -> Scarborough AC | T31: =IFERROR(VLOOKUP(P$1&":"&P31,'Finish order'!$C:$K,5,FALSE()),"") -> 0.093946759 | U31: =IFERROR(VLOOKUP(P$1&":"&P31,'Finish order'!$C:$K,4,FALSE()),"") -> 274 | V31: {=IFERROR(SMALL(IF($S$2:$S940=S31,$P$2:$P$911*1.001),1),"")} -> 2.002 | W31: {=IFERROR(SMALL(IF($S$2:$S940=S31,$P$2:$P$911*1.0001),2),"")} -> 4.0004 | X31: {=IFERROR(SMALL(IF($S$2:$S940=S31,$P$2:$P$911*1.00001),3),"")} -> 8.00008 | Y31: {=IFERROR(SMALL(IF($S$2:$S940=S31,$P$2:$P$911*1.000001),4),"")} -> 23.000023 | Z31: =IF(P31<>"", IF(COUNT(V31:Y31)=4, SUM(V31:Y31), "No"), "") -> 37.002503 | AA31: =IF(P31<>"", IF(COUNT(V31:X31)=3, SUM(V31:X31), "No"), "") -> 14.00248 | AB31: =IF(P31<>"", IF(COUNT(V31:W31)=2, SUM(V31:W31), "No"), "") -> 6.0024 | AC31: =Table4[[#This Row],[Club]]&":"&Table4[[#Headers],[Female]] -> Scarborough AC:Female | AE31: 30 | AF31: =IFERROR(VLOOKUP(AE$1&":"&AE31,'Finish order'!$E:$K,4,FALSE()),"") | AG31: =IFERROR(VLOOKUP(AE$1&":"&AE31,'Finish order'!$E:$K,5,FALSE()),"") | AH31: =IFERROR(VLOOKUP(AE$1&":"&AE31,'Finish order'!$E:$K,3,FALSE()),"") | AI31: =IFERROR(VLOOKUP(AE$1&":"&AE31,'Finish order'!$E:$K,2,FALSE()),"") | AL31: 30 | AM31: =IFERROR(VLOOKUP(AL$1&":"&AL31,'Finish order'!$E:$K,4,FALSE()),"") | AN31: =IFERROR(VLOOKUP(AL$1&":"&AL31,'Finish order'!$E:$K,7,FALSE()),"") | AO31: =IFERROR(VLOOKUP(AL$1&":"&AL31,'Finish order'!$E:$K,3,FALSE()),"") | AP31: =IFERROR(VLOOKUP(AL$1&":"&AL31,'Finish order'!$E:$K,2,FALSE()),"") | AS31: 30 | AT31: =IFERROR(VLOOKUP(AS$1&":"&AS31,'Finish order'!$E:$K,4,FALSE()),"") | AU31: =IFERROR(VLOOKUP(AS$1&":"&AS31,'Finish order'!$E:$K,5,FALSE()),"") | AV31: =IFERROR(VLOOKUP(AS$1&":"&AS31,'Finish order'!$E:$K,3,FALSE()),"") | AW31: =IFERROR(VLOOKUP(AS$1&":"&AS31,'Finish order'!$E:$K,2,FALSE()),"") | AZ31: 30 | BA31: =IFERROR(VLOOKUP(AZ$1&":"&AZ31,'Finish order'!$E:$K,4,FALSE()),"") | BB31: =IFERROR(VLOOKUP(AZ$1&":"&AZ31,'Finish order'!$E:$K,5,FALSE()),"") | BC31: =IFERROR(VLOOKUP(AZ$1&":"&AZ31,'Finish order'!$E:$K,3,FALSE()),"") | BD31: =IFERROR(VLOOKUP(AZ$1&":"&AZ31,'Finish order'!$E:$K,2,FALSE()),"") | BG31: 30 | BH31: =IFERROR(VLOOKUP(BG$1&":"&BG31,'Finish order'!$E:$K,4,FALSE()),"") | BI31: =IFERROR(VLOOKUP(BG$1&":"&BG31,'Finish order'!$E:$K,5,FALSE()),"") | BJ31: =IFERROR(VLOOKUP(BG$1&":"&BG31,'Finish order'!$E:$K,3,FALSE()),"") | BK31: =IFERROR(VLOOKUP(BG$1&":"&BG31,'Finish order'!$E:$K,2,FALSE()),"") | BN31: 30 | BO31: =IFERROR(VLOOKUP(BN$1&":"&BN31,'Finish order'!$E:$K,4,FALSE()),"") | BP31: =IFERROR(VLOOKUP(BN$1&":"&BN31,'Finish order'!$E:$K,5,FALSE()),"") | BQ31: =IFERROR(VLOOKUP(BN$1&":"&BN31,'Finish order'!$E:$K,3,FALSE()),"") | BR31: =IFERROR(VLOOKUP(BN$1&":"&BN31,'Finish order'!$E:$K,2,FALSE()),"") | BU31: 30 | BV31: =IFERROR(VLOOKUP(BU$1&":"&BU31,'Finish order'!$E:$K,4,FALSE()),"") | BW31: =IFERROR(VLOOKUP(BU$1&":"&BU31,'Finish order'!$E:$K,5,FALSE()),"") | BX31: =IFERROR(VLOOKUP(BU$1&":"&BU31,'Finish order'!$E:$K,3,FALSE()),"") | BY31: =IFERROR(VLOOKUP(BU$1&":"&BU31,'Finish order'!$E:$K,2,FALSE()),"") | CB31: 30 | CC31: =IFERROR(VLOOKUP(CB$1&":"&CB31,'Finish order'!$E:$K,4,FALSE()),"") | CD31: =IFERROR(VLOOKUP(CB$1&":"&CB31,'Finish order'!$E:$K,5,FALSE()),"") | CE31: =IFERROR(VLOOKUP(CB$1&":"&CB31,'Finish order'!$E:$K,3,FALSE()),"") | CF31: =IFERROR(VLOOKUP(CB$1&":"&CB31,'Finish order'!$E:$K,2,FALSE()),"") | CI31: 30 | CJ31: =IFERROR(VLOOKUP(CI$1&":"&CI31,'Finish order'!$E:$K,4,FALSE()),"") | CK31: =IFERROR(VLOOKUP(CI$1&":"&CI31,'Finish order'!$E:$K,5,FALSE()),"") | CL31: =IFERROR(VLOOKUP(CI$1&":"&CI31,'Finish order'!$E:$K,3,FALSE()),"") | CM31: =IFERROR(VLOOKUP(CI$1&":"&CI31,'Finish order'!$E:$K,2,FALSE()),"") | CP31: 30 | CQ31: =IFERROR(VLOOKUP(CP$1&":"&CP31,'Finish order'!$E:$K,4,FALSE()),"") | CR31: =IFERROR(VLOOKUP(CP$1&":"&CP31,'Finish order'!$E:$K,5,FALSE()),"") | CS31: =IFERROR(VLOOKUP(CP$1&":"&CP31,'Finish order'!$E:$K,3,FALSE()),"") | CT31: =IFERROR(VLOOKUP(CP$1&":"&CP31,'Finish order'!$E:$K,2,FALSE()),"") | CW31: 30 | CX31: =IFERROR(VLOOKUP(CW$1&":"&CW31,'Finish order'!$E:$K,4,FALSE()),"") | CY31: =IFERROR(VLOOKUP(CW$1&":"&CW31,'Finish order'!$E:$K,5,FALSE()),"") | CZ31: =IFERROR(VLOOKUP(CW$1&":"&CW31,'Finish order'!$E:$K,3,FALSE()),"") | DA31: =IFERROR(VLOOKUP(CW$1&":"&CW31,'Finish order'!$E:$K,2,FALSE()),"") | DD31: 30 | DE31: =IFERROR(VLOOKUP(DD$1&":"&DD31,'Finish order'!$E:$K,4,FALSE()),"") | DF31: =IFERROR(VLOOKUP(DD$1&":"&DD31,'Finish order'!$E:$K,5,FALSE()),"") | DG31: =IFERROR(VLOOKUP(DD$1&":"&DD31,'Finish order'!$E:$K,3,FALSE()),"") | DH31: =IFERROR(VLOOKUP(DD$1&":"&DD31,'Finish order'!$E:$K,2,FALSE()),"") | DK31: 30 | DL31: =IFERROR(VLOOKUP(DK$1&":"&DK31,'Finish order'!$E:$K,4,FALSE()),"") | DM31: =IFERROR(VLOOKUP(DK$1&":"&DK31,'Finish order'!$E:$K,5,FALSE()),"") | DN31: =IFERROR(VLOOKUP(DK$1&":"&DK31,'Finish order'!$E:$K,3,FALSE()),"") | DO31: =IFERROR(VLOOKUP(DK$1&":"&DK31,'Finish order'!$E:$K,2,FALSE()),"") | DR31: 30 | DS31: =IFERROR(VLOOKUP(DR$1&":"&DR31,'Finish order'!$E:$K,4,FALSE()),"") | DT31: =IFERROR(VLOOKUP(DR$1&":"&DR31,'Finish order'!$E:$K,5,FALSE()),"") | DU31: =IFERROR(VLOOKUP(DR$1&":"&DR31,'Finish order'!$E:$K,3,FALSE()),"") | DV31: =IFERROR(VLOOKUP(DR$1&":"&DR31,'Finish order'!$E:$K,2,FALSE()),"")
A32: 31 | B32: =IFERROR(VLOOKUP($A$1&":"&A32,'Finish order'!C:K,6,FALSE()),"") -> Robert Allinson | C32: =IFERROR(VLOOKUP(A$1&":"&A32,'Finish order'!$C:$K,9,FALSE()),"") -> M45 | D32: =IFERROR(VLOOKUP(A$1&":"&A32,'Finish order'!$C:$K,7,FALSE()),"") -> Redcar RC | E32: =IFERROR(VLOOKUP($A$1&":"&A32,'Finish order'!C:K,5,FALSE()),"") -> 0.06162037 | F32: =IFERROR(VLOOKUP($A$1&":"&A32,'Finish order'!C:K,4,FALSE()),"") -> 622 | G32: {=IFERROR(SMALL(IF($D$2:$D941=D32,$A$2:$A$911*1.001),1),"")} -> 31.031 | H32: {=IFERROR(SMALL(IF($D$2:$D941=D32,$A$2:$A$911*1.0001),2),"")} | I32: {=IFERROR(SMALL(IF($D$2:$D941=D32,$A$2:$A$911*1.00001),3),"")} | J32: {=IFERROR(SMALL(IF($D$2:$D941=D32,$A$2:$A$911*1.000001),4),"")} | K32: =IF(A32<>"", IF(COUNT(G32:J32)=4, SUM(G32:J32), "No"), "") -> No | L32: =IF(A32<>"", IF(COUNT(G32:I32)=3, SUM(G32:I32), "No"), "") -> No | M32: =IF(A32<>"", IF(COUNT(G32:H32)=2, SUM(G32:H32), "No"), "") -> No | N32: =Table1[[#This Row],[Club]]&":"&Table1[[#Headers],[Male]] -> Redcar RC:Male | P32: 31 | Q32: =IFERROR(VLOOKUP(P$1&":"&P32,'Finish order'!$C:$K,6,FALSE()),"") | R32: =IFERROR(VLOOKUP(P$1&":"&P32,'Finish order'!$C:$K,9,FALSE()),"") | S32: =IFERROR(VLOOKUP(P$1&":"&P32,'Finish order'!$C:$K,7,FALSE()),"") | T32: =IFERROR(VLOOKUP(P$1&":"&P32,'Finish order'!$C:$K,5,FALSE()),"") | U32: =IFERROR(VLOOKUP(P$1&":"&P32,'Finish order'!$C:$K,4,FALSE()),"") | V32: {=IFERROR(SMALL(IF($S$2:$S941=S32,$P$2:$P$911*1.001),1),"")} | W32: {=IFERROR(SMALL(IF($S$2:$S941=S32,$P$2:$P$911*1.0001),2),"")} | X32: {=IFERROR(SMALL(IF($S$2:$S941=S32,$P$2:$P$911*1.00001),3),"")} | Y32: {=IFERROR(SMALL(IF($S$2:$S941=S32,$P$2:$P$911*1.000001),4),"")} | Z32: =IF(P32<>"", IF(COUNT(V32:Y32)=4, SUM(V32:Y32), "No"), "") -> No | AA32: =IF(P32<>"", IF(COUNT(V32:X32)=3, SUM(V32:X32), "No"), "") -> No | AB32: =IF(P32<>"", IF(COUNT(V32:W32)=2, SUM(V32:W32), "No"), "") -> No | AC32: =Table4[[#This Row],[Club]]&":"&Table4[[#Headers],[Female]] -> :Female | AE32: 31 | AF32: =IFERROR(VLOOKUP(AE$1&":"&AE32,'Finish order'!$E:$K,4,FALSE()),"") | AG32: =IFERROR(VLOOKUP(AE$1&":"&AE32,'Finish order'!$E:$K,5,FALSE()),"") | AH32: =IFERROR(VLOOKUP(AE$1&":"&AE32,'Finish order'!$E:$K,3,FALSE()),"") | AI32: =IFERROR(VLOOKUP(AE$1&":"&AE32,'Finish order'!$E:$K,2,FALSE()),"") | AL32: 31 | AM32: =IFERROR(VLOOKUP(AL$1&":"&AL32,'Finish order'!$E:$K,4,FALSE()),"") | AN32: =IFERROR(VLOOKUP(AL$1&":"&AL32,'Finish order'!$E:$K,5,FALSE()),"") | AO32: =IFERROR(VLOOKUP(AL$1&":"&AL32,'Finish order'!$E:$K,3,FALSE()),"") | AP32: =IFERROR(VLOOKUP(AL$1&":"&AL32,'Finish order'!$E:$K,2,FALSE()),"") | AS32: 31 | AT32: =IFERROR(VLOOKUP(AS$1&":"&AS32,'Finish order'!$E:$K,4,FALSE()),"") | AU32: =IFERROR(VLOOKUP(AS$1&":"&AS32,'Finish order'!$E:$K,5,FALSE()),"") | AV32: =IFERROR(VLOOKUP(AS$1&":"&AS32,'Finish order'!$E:$K,3,FALSE()),"") | AW32: =IFERROR(VLOOKUP(AS$1&":"&AS32,'Finish order'!$E:$K,2,FALSE()),"") | AZ32: 31 | BA32: =IFERROR(VLOOKUP(AZ$1&":"&AZ32,'Finish order'!$E:$K,4,FALSE()),"") | BB32: =IFERROR(VLOOKUP(AZ$1&":"&AZ32,'Finish order'!$E:$K,5,FALSE()),"") | BC32: =IFERROR(VLOOKUP(AZ$1&":"&AZ32,'Finish order'!$E:$K,3,FALSE()),"") | BD32: =IFERROR(VLOOKUP(AZ$1&":"&AZ32,'Finish order'!$E:$K,2,FALSE()),"") | BG32: 31 | BH32: =IFERROR(VLOOKUP(BG$1&":"&BG32,'Finish order'!$E:$K,4,FALSE()),"") | BI32: =IFERROR(VLOOKUP(BG$1&":"&BG32,'Finish order'!$E:$K,5,FALSE()),"") | BJ32: =IFERROR(VLOOKUP(BG$1&":"&BG32,'Finish order'!$E:$K,3,FALSE()),"") | BK32: =IFERROR(VLOOKUP(BG$1&":"&BG32,'Finish order'!$E:$K,2,FALSE()),"") | BN32: 31 | BO32: =IFERROR(VLOOKUP(BN$1&":"&BN32,'Finish order'!$E:$K,4,FALSE()),"") | BP32: =IFERROR(VLOOKUP(BN$1&":"&BN32,'Finish order'!$E:$K,5,FALSE()),"") | BQ32: =IFERROR(VLOOKUP(BN$1&":"&BN32,'Finish order'!$E:$K,3,FALSE()),"") | BR32: =IFERROR(VLOOKUP(BN$1&":"&BN32,'Finish order'!$E:$K,2,FALSE()),"") | BU32: 31 | BV32: =IFERROR(VLOOKUP(BU$1&":"&BU32,'Finish order'!$E:$K,4,FALSE()),"") | BW32: =IFERROR(VLOOKUP(BU$1&":"&BU32,'Finish order'!$E:$K,5,FALSE()),"") | BX32: =IFERROR(VLOOKUP(BU$1&":"&BU32,'Finish order'!$E:$K,3,FALSE()),"") | BY32: =IFERROR(VLOOKUP(BU$1&":"&BU32,'Finish order'!$E:$K,2,FALSE()),"") | CB32: 31 | CC32: =IFERROR(VLOOKUP(CB$1&":"&CB32,'Finish order'!$E:$K,4,FALSE()),"") | CD32: =IFERROR(VLOOKUP(CB$1&":"&CB32,'Finish order'!$E:$K,5,FALSE()),"") | CE32: =IFERROR(VLOOKUP(CB$1&":"&CB32,'Finish order'!$E:$K,3,FALSE()),"") | CF32: =IFERROR(VLOOKUP(CB$1&":"&CB32,'Finish order'!$E:$K,2,FALSE()),"") | CI32: 31 | CJ32: =IFERROR(VLOOKUP(CI$1&":"&CI32,'Finish order'!$E:$K,4,FALSE()),"") | CK32: =IFERROR(VLOOKUP(CI$1&":"&CI32,'Finish order'!$E:$K,5,FALSE()),"") | CL32: =IFERROR(VLOOKUP(CI$1&":"&CI32,'Finish order'!$E:$K,3,FALSE()),"") | CM32: =IFERROR(VLOOKUP(CI$1&":"&CI32,'Finish order'!$E:$K,2,FALSE()),"") | CP32: 31 | CQ32: =IFERROR(VLOOKUP(CP$1&":"&CP32,'Finish order'!$E:$K,4,FALSE()),"") | CR32: =IFERROR(VLOOKUP(CP$1&":"&CP32,'Finish order'!$E:$K,5,FALSE()),"") | CS32: =IFERROR(VLOOKUP(CP$1&":"&CP32,'Finish order'!$E:$K,3,FALSE()),"") | CT32: =IFERROR(VLOOKUP(CP$1&":"&CP32,'Finish order'!$E:$K,2,FALSE()),"") | CW32: 31 | CX32: =IFERROR(VLOOKUP(CW$1&":"&CW32,'Finish order'!$E:$K,4,FALSE()),"") | CY32: =IFERROR(VLOOKUP(CW$1&":"&CW32,'Finish order'!$E:$K,5,FALSE()),"") | CZ32: =IFERROR(VLOOKUP(CW$1&":"&CW32,'Finish order'!$E:$K,3,FALSE()),"") | DA32: =IFERROR(VLOOKUP(CW$1&":"&CW32,'Finish order'!$E:$K,2,FALSE()),"") | DD32: 31 | DE32: =IFERROR(VLOOKUP(DD$1&":"&DD32,'Finish order'!$E:$K,4,FALSE()),"") | DF32: =IFERROR(VLOOKUP(DD$1&":"&DD32,'Finish order'!$E:$K,5,FALSE()),"") | DG32: =IFERROR(VLOOKUP(DD$1&":"&DD32,'Finish order'!$E:$K,3,FALSE()),"") | DH32: =IFERROR(VLOOKUP(DD$1&":"&DD32,'Finish order'!$E:$K,2,FALSE()),"") | DK32: 31 | DL32: =IFERROR(VLOOKUP(DK$1&":"&DK32,'Finish order'!$E:$K,4,FALSE()),"") | DM32: =IFERROR(VLOOKUP(DK$1&":"&DK32,'Finish order'!$E:$K,5,FALSE()),"") | DN32: =IFERROR(VLOOKUP(DK$1&":"&DK32,'Finish order'!$E:$K,3,FALSE()),"") | DO32: =IFERROR(VLOOKUP(DK$1&":"&DK32,'Finish order'!$E:$K,2,FALSE()),"") | DR32: 31 | DS32: =IFERROR(VLOOKUP(DR$1&":"&DR32,'Finish order'!$E:$K,4,FALSE()),"") | DT32: =IFERROR(VLOOKUP(DR$1&":"&DR32,'Finish order'!$E:$K,5,FALSE()),"") | DU32: =IFERROR(VLOOKUP(DR$1&":"&DR32,'Finish order'!$E:$K,3,FALSE()),"") | DV32: =IFERROR(VLOOKUP(DR$1&":"&DR32,'Finish order'!$E:$K,2,FALSE()),"")
