Workbook

Sheet Read Me
A1: This spreadsheet has been created by Andy Blackett of Durham Fell Runners, it is intended to be used to collate results for non-commercial fell races. If you wish to use it for any other purpose please contact andyblackett@googlemail.com to discuss terms. This spreadsheet has no affiliation or connection with the FRA or any other organisation.
A3: This spreadsheet has been designed to be easy to use and require no specialist knowledge to operate. It doesn't use macros or anything similar, as the author doesn't understand them either.
A5: Instructions - Registration.
A6: Delete the example data from the 'Entries' tab cells A2:E196, and from the 'Finish order' tab F2:G173.
A7: Input your entry data, this can be pre-populated from pre-entres (by downloading a report from SI Entries or similar), and populated 'on the day'.
A8: Enter runners numbers next to their names in column A of the 'Entries' tab, again, either in advance or on the day.
A9: All the column headers have notes, indicated by red triangles at the top of the column, read these to check you are inputting data in the correct format.
A11: After the race.
A12: Go to the 'Finish order' tab and input the numbers as the runners finish.
A13: All the results will then auto-populate including the team results.
A14: Enter the runners times in the 'Finish order' tab, this will then feed through to the Results tabs and the 'Published format'
A15: If the sheet is 'laggy' and takes time to recalculate after each data entry, change the calculation option to 'manual' and then press F9 each time you want to recalculate.
... A39: Extended to take up to 1000 runners

Sheet Entries
A1: Bib | B1: Number | C1: Name | D1: Club | E1: Gender | F1: Category | G1: Finished? | H1: Column1
A2: 1 | E2: Female | F2: WSEN | G2: =IF(Entries!$B2<>0,COUNTIF('Finish order'!F:F, Entries!$B2),"")
A3: 2 | E3: female | F3: WSEN | G3: =IF(Entries!$B3<>0,COUNTIF('Finish order'!F:F, Entries!$B3),"")
A4: 3 | E4: Female | F4: WSEN | G4: =IF(Entries!$B4<>0,COUNTIF('Finish order'!F:F, Entries!$B4),"")
A5: 4 | E5: Female | F5: WSEN | G5: =IF(Entries!$B5<>0,COUNTIF('Finish order'!F:F, Entries!$B5),"")
A6: 5 | E6: Female | F6: WSEN | G6: =IF(Entries!$B6<>0,COUNTIF('Finish order'!F:F, Entries!$B6),"")
A7: 6 | E7: Female | F7: WSEN | G7: =IF(Entries!$B7<>0,COUNTIF('Finish order'!F:F, Entries!$B7),"")
A8: 7 | E8: Female | F8: WSEN | G8: =IF(Entries!$B8<>0,COUNTIF('Finish order'!F:F, Entries!$B8),"")
A9: 8 | E9: Female | F9: WSEN | G9: =IF(Entries!$B9<>0,COUNTIF('Finish order'!F:F, Entries!$B9),"")
A10: 9 | E10: Female | F10: WSEN | G10: =IF(Entries!$B10<>0,COUNTIF('Finish order'!F:F, Entries!$B10),"")
A11: 10 | E11: Female | F11: WSEN | G11: =IF(Entries!$B11<>0,COUNTIF('Finish order'!F:F, Entries!$B11),"")
A12: 11 | E12: Female | F12: WSEN | G12: =IF(Entries!$B12<>0,COUNTIF('Finish order'!F:F, Entries!$B12),"")
A13: 12 | E13: Female | F13: WSEN | G13: =IF(Entries!$B13<>0,COUNTIF('Finish order'!F:F, Entries!$B13),"")
... A1002: 1001 | E1002: Male | F1002: MSEN | G1002: =IF(Entries!$B1002<>0,COUNTIF('Finish order'!F:F, Entries!$B1002),"")
A1003: 1002 | D1003: Ackworth Road Runners | E1003: Male | F1003: MSEN | G1003: =IF(Entries!$B1003<>0,COUNTIF('Finish order'!F:F, Entries!$B1003),"")
A1004: 1003 | D1004: Acorns AC | E1004: Male | F1004: MSEN | G1004: =IF(Entries!$B1004<>0,COUNTIF('Finish order'!F:F, Entries!$B1004),"")
A1005: 1004 | D1005: Allerton Juniors | E1005: Male | F1005: MSEN | G1005: =IF(Entries!$B1005<>0,COUNTIF('Finish order'!F:F, Entries!$B1005),"")
A1006: 1005 | D1006: Almost Athletes | E1006: Male | F1006: MSEN | G1006: =IF(Entries!$B1006<>0,COUNTIF('Finish order'!F:F, Entries!$B1006),"")
A1007: 1006 | D1007: Alnwick Harriers | E1007: Male | F1007: MSEN | G1007: =IF(Entries!$B1007<>0,COUNTIF('Finish order'!F:F, Entries!$B1007),"")
A1008: 1007 | D1008: Altrincham & District Athletic Club Limited | E1008: Male | F1008: MSEN | G1008: =IF(Entries!$B1008<>0,COUNTIF('Finish order'!F:F, Entries!$B1008),"")
A1009: 1008 | D1009: Ambleside AC | E1009: Male | F1009: MU23 | G1009: =IF(Entries!$B1009<>0,COUNTIF('Finish order'!F:F, Entries!$B1009),"")
A1010: 1009 | D1010: Ashington Hirst Running Club | E1010: Male | F1010: MSEN | G1010: =IF(Entries!$B1010<>0,COUNTIF('Finish order'!F:F, Entries!$B1010),"")
A1011: 1010 | D1011: Axe Valley Runners | E1011: Male | F1011: MSEN | G1011: =IF(Entries!$B1011<>0,COUNTIF('Finish order'!F:F, Entries!$B1011),"")
A1012: 1011 | D1012: Aycliffe Running Club | E1012: Male | F1012: MSEN | G1012: =IF(Entries!$B1012<>0,COUNTIF('Finish order'!F:F, Entries!$B1012),"")
A1013: 1012 | D1013: Badgers | E1013: Male | F1013: MU23 | G1013: =IF(Entries!$B1013<>0,COUNTIF('Finish order'!F:F, Entries!$B1013),"")
A1014: 1013 | D1014: Baildon Runners | E1014: Male | F1014: MSEN | G1014: =IF(Entries!$B1014<>0,COUNTIF('Finish order'!F:F, Entries!$B1014),"")
... A1037: 1036 | D1037: Bodmin Women's Running Club | E1037: Male | F1037: MSEN | G1037: =IF(Entries!$B1037<>0,COUNTIF('Finish order'!F:F, Entries!$B1037),"")
A1038: 1037 | D1038: Bolt Running Club | E1038: Male | G1038: =IF(Entries!$B1038<>0,COUNTIF('Finish order'!F:F, Entries!$B1038),"")
A1039: 1038 | D1039: Borrowdale Fell Runners | E1039: Male | G1039: =IF(Entries!$B1039<>0,COUNTIF('Finish order'!F:F, Entries!$B1039),"")
A1040: 1039 | D1040: Bournville Harriers | E1040: Male | G1040: =IF(Entries!$B1040<>0,COUNTIF('Finish order'!F:F, Entries!$B1040),"")
A1041: 1040 | D1041: Bowland Fell Runners | E1041: Male | G1041: =IF(Entries!$B1041<>0,COUNTIF('Finish order'!F:F, Entries!$B1041),"")
A1042: 1041 | D1042: Bracknell Forest Runners | E1042: Male | G1042: =IF(Entries!$B1042<>0,COUNTIF('Finish order'!F:F, Entries!$B1042),"")
A1043: 1042 | D1043: Bramhall Runners | E1043: Male | G1043: =IF(Entries!$B1043<>0,COUNTIF('Finish order'!F:F, Entries!$B1043),"")
A1044: 1043 | D1044: Bridlington Road Runners | E1044: Male | G1044: =IF(Entries!$B1044<>0,COUNTIF('Finish order'!F:F, Entries!$B1044),"")
A1045: 1044 | D1045: Bude Rats (Run and Tri) | E1045: Male | G1045: =IF(Entries!$B1045<>0,COUNTIF('Finish order'!F:F, Entries!$B1045),"")
A1046: 1045 | D1046: Burgess Hill Runners | E1046: Male | G1046: =IF(Entries!$B1046<>0,COUNTIF('Finish order'!F:F, Entries!$B1046),"")
A1047: 1046 | D1047: Burnden Road Runners | E1047: Male | G1047: =IF(Entries!$B1047<>0,COUNTIF('Finish order'!F:F, Entries!$B1047),"")
A1048: 1047 | D1048: Buxton AC | E1048: Male | G1048: =IF(Entries!$B1048<>0,COUNTIF('Finish order'!F:F, Entries!$B1048),"")
A1049: 1048 | D1049: Bys Vyken Race Team | E1049: Male | G1049: =IF(Entries!$B1049<>0,COUNTIF('Finish order'!F:F, Entries!$B1049),"")
... A1139: 1138 | D1139: Howgill Harriers | E1139: Male | G1139: =IF(Entries!$B1139<>0,COUNTIF('Finish order'!F:F, Entries!$B1139),"")
...

Sheet Finish order
A1: Position | B1: Gender Position | C1: Column1 | D1: Cat Position | E1: Column2 | F1: Number | G1: Time | H1: Name | I1: Club | J1: Gender | K1: Category | L1: Short Cat. | M1: Short Cat Position | N1: Column3
A2: 1 | B2: =IF(F2<>"",COUNTIF($J$2:J2,J2),"") | C2: =IF(F2<>0,J2&":"&B2,"") | D2: =IF(F2<>0,COUNTIF($K$2:K2,K2),"") | E2: =IF(F2<>0,K2&":"&D2,"") | H2: =IFERROR(VLOOKUP(F2, Entries!$B:$F, 2, FALSE()),"") | I2: =IFERROR(VLOOKUP(F2, Entries!$B:$F, 3, FALSE()),"") | J2: =IFERROR(VLOOKUP(F2, Entries!$B:$F, 4, FALSE()),"") | K2: =IFERROR(VLOOKUP(F2, Entries!$B:$F, 5, FALSE()),"") | L2: =LEFT('Finish order'!$K2,2) | M2: =IF(F2<>0,COUNTIF($L$2:L2,L2),"") | N2: =IF(F2<>0,L2&":"&M2,"")
A3: 2 | B3: =IF(F3<>"",COUNTIF($J$2:J3,J3),"") | C3: =IF(F3<>0,J3&":"&B3,"") | D3: =IF(F3<>0,COUNTIF($K$2:K3,K3),"") | E3: =IF(F3<>0,K3&":"&D3,"") | H3: =IFERROR(VLOOKUP(F3, Entries!$B:$F, 2, FALSE()),"") | I3: =IFERROR(VLOOKUP(F3, Entries!$B:$F, 3, FALSE()),"") | J3: =IFERROR(VLOOKUP(F3, Entries!$B:$F, 4, FALSE()),"") | K3: =IFERROR(VLOOKUP(F3, Entries!$B:$F, 5, FALSE()),"") | L3: =LEFT('Finish order'!$K3,2) | M3: =IF(F3<>0,COUNTIF($L$2:L3,L3),"") | N3: =IF(F3<>0,L3&":"&M3,"")
A4: 3 | B4: =IF(F4<>"",COUNTIF($J$2:J4,J4),"") | C4: =IF(F4<>0,J4&":"&B4,"") | D4: =IF(F4<>0,COUNTIF($K$2:K4,K4),"") | E4: =IF(F4<>0,K4&":"&D4,"") | H4: =IFERROR(VLOOKUP(F4, Entries!$B:$F, 2, FALSE()),"") | I4: =IFERROR(VLOOKUP(F4, Entries!$B:$F, 3, FALSE()),"") | J4: =IFERROR(VLOOKUP(F4, Entries!$B:$F, 4, FALSE()),"") | K4: =IFERROR(VLOOKUP(F4, Entries!$B:$F, 5, FALSE()),"") | L4: =LEFT('Finish order'!$K4,2) | M4: =IF(F4<>0,COUNTIF($L$2:L4,L4),"") | N4: =IF(F4<>0,L4&":"&M4,"")
A5: 4 | B5: =IF(F5<>"",COUNTIF($J$2:J5,J5),"") | C5: =IF(F5<>0,J5&":"&B5,"") | D5: =IF(F5<>0,COUNTIF($K$2:K5,K5),"") | E5: =IF(F5<>0,K5&":"&D5,"") | H5: =IFERROR(VLOOKUP(F5, Entries!$B:$F, 2, FALSE()),"") | I5: =IFERROR(VLOOKUP(F5, Entries!$B:$F, 3, FALSE()),"") | J5: =IFERROR(VLOOKUP(F5, Entries!$B:$F, 4, FALSE()),"") | K5: =IFERROR(VLOOKUP(F5, Entries!$B:$F, 5, FALSE()),"") | L5: =LEFT('Finish order'!$K5,2) | M5: =IF(F5<>0,COUNTIF($L$2:L5,L5),"") | N5: =IF(F5<>0,L5&":"&M5,"")
A6: 5 | B6: =IF(F6<>"",COUNTIF($J$2:J6,J6),"") | C6: =IF(F6<>0,J6&":"&B6,"") | D6: =IF(F6<>0,COUNTIF($K$2:K6,K6),"") | E6: =IF(F6<>0,K6&":"&D6,"") | H6: =IFERROR(VLOOKUP(F6, Entries!$B:$F, 2, FALSE()),"") | I6: =IFERROR(VLOOKUP(F6, Entries!$B:$F, 3, FALSE()),"") | J6: =IFERROR(VLOOKUP(F6, Entries!$B:$F, 4, FALSE()),"") | K6: =IFERROR(VLOOKUP(F6, Entries!$B:$F, 5, FALSE()),"") | L6: =LEFT('Finish order'!$K6,2) | M6: =IF(F6<>0,COUNTIF($L$2:L6,L6),"") | N6: =IF(F6<>0,L6&":"&M6,"")
A7: 6 | B7: =IF(F7<>"",COUNTIF($J$2:J7,J7),"") | C7: =IF(F7<>0,J7&":"&B7,"") | D7: =IF(F7<>0,COUNTIF($K$2:K7,K7),"") | E7: =IF(F7<>0,K7&":"&D7,"") | H7: =IFERROR(VLOOKUP(F7, Entries!$B:$F, 2, FALSE()),"") | I7: =IFERROR(VLOOKUP(F7, Entries!$B:$F, 3, FALSE()),"") | J7: =IFERROR(VLOOKUP(F7, Entries!$B:$F, 4, FALSE()),"") | K7: =IFERROR(VLOOKUP(F7, Entries!$B:$F, 5, FALSE()),"") | L7: =LEFT('Finish order'!$K7,2) | M7: =IF(F7<>0,COUNTIF($L$2:L7,L7),"") | N7: =IF(F7<>0,L7&":"&M7,"")
A8: 7 | B8: =IF(F8<>"",COUNTIF($J$2:J8,J8),"") | C8: =IF(F8<>0,J8&":"&B8,"") | D8: =IF(F8<>0,COUNTIF($K$2:K8,K8),"") | E8: =IF(F8<>0,K8&":"&D8,"") | H8: =IFERROR(VLOOKUP(F8, Entries!$B:$F, 2, FALSE()),"") | I8: =IFERROR(VLOOKUP(F8, Entries!$B:$F, 3, FALSE()),"") | J8: =IFERROR(VLOOKUP(F8, Entries!$B:$F, 4, FALSE()),"") | K8: =IFERROR(VLOOKUP(F8, Entries!$B:$F, 5, FALSE()),"") | L8: =LEFT('Finish order'!$K8,2) | M8: =IF(F8<>0,COUNTIF($L$2:L8,L8),"") | N8: =IF(F8<>0,L8&":"&M8,"")
A9: 8 | B9: =IF(F9<>"",COUNTIF($J$2:J9,J9),"") | C9: =IF(F9<>0,J9&":"&B9,"") | D9: =IF(F9<>0,COUNTIF($K$2:K9,K9),"") | E9: =IF(F9<>0,K9&":"&D9,"") | H9: =IFERROR(VLOOKUP(F9, Entries!$B:$F, 2, FALSE()),"") | I9: =IFERROR(VLOOKUP(F9, Entries!$B:$F, 3, FALSE()),"") | J9: =IFERROR(VLOOKUP(F9, Entries!$B:$F, 4, FALSE()),"") | K9: =IFERROR(VLOOKUP(F9, Entries!$B:$F, 5, FALSE()),"") | L9: =LEFT('Finish order'!$K9,2) | M9: =IF(F9<>0,COUNTIF($L$2:L9,L9),"") | N9: =IF(F9<>0,L9&":"&M9,"")
A10: 9 | B10: =IF(F10<>"",COUNTIF($J$2:J10,J10),"") | C10: =IF(F10<>0,J10&":"&B10,"") | D10: =IF(F10<>0,COUNTIF($K$2:K10,K10),"") | E10: =IF(F10<>0,K10&":"&D10,"") | H10: =IFERROR(VLOOKUP(F10, Entries!$B:$F, 2, FALSE()),"") | I10: =IFERROR(VLOOKUP(F10, Entries!$B:$F, 3, FALSE()),"") | J10: =IFERROR(VLOOKUP(F10, Entries!$B:$F, 4, FALSE()),"") | K10: =IFERROR(VLOOKUP(F10, Entries!$B:$F, 5, FALSE()),"") | L10: =LEFT('Finish order'!$K10,2) | M10: =IF(F10<>0,COUNTIF($L$2:L10,L10),"") | N10: =IF(F10<>0,L10&":"&M10,"")
A11: 10 | B11: =IF(F11<>"",COUNTIF($J$2:J11,J11),"") | C11: =IF(F11<>0,J11&":"&B11,"") | D11: =IF(F11<>0,COUNTIF($K$2:K11,K11),"") | E11: =IF(F11<>0,K11&":"&D11,"") | H11: =IFERROR(VLOOKUP(F11, Entries!$B:$F, 2, FALSE()),"") | I11: =IFERROR(VLOOKUP(F11, Entries!$B:$F, 3, FALSE()),"") | J11: =IFERROR(VLOOKUP(F11, Entries!$B:$F, 4, FALSE()),"") | K11: =IFERROR(VLOOKUP(F11, Entries!$B:$F, 5, FALSE()),"") | L11: =LEFT('Finish order'!$K11,2) | M11: =IF(F11<>0,COUNTIF($L$2:L11,L11),"") | N11: =IF(F11<>0,L11&":"&M11,"")
A12: 11 | B12: =IF(F12<>"",COUNTIF($J$2:J12,J12),"") | C12: =IF(F12<>0,J12&":"&B12,"") | D12: =IF(F12<>0,COUNTIF($K$2:K12,K12),"") | E12: =IF(F12<>0,K12&":"&D12,"") | H12: =IFERROR(VLOOKUP(F12, Entries!$B:$F, 2, FALSE()),"") | I12: =IFERROR(VLOOKUP(F12, Entries!$B:$F, 3, FALSE()),"") | J12: =IFERROR(VLOOKUP(F12, Entries!$B:$F, 4, FALSE()),"") | K12: =IFERROR(VLOOKUP(F12, Entries!$B:$F, 5, FALSE()),"") | L12: =LEFT('Finish order'!$K12,2) | M12: =IF(F12<>0,COUNTIF($L$2:L12,L12),"") | N12: =IF(F12<>0,L12&":"&M12,"")
A13: 12 | B13: =IF(F13<>"",COUNTIF($J$2:J13,J13),"") | C13: =IF(F13<>0,J13&":"&B13,"") | D13: =IF(F13<>0,COUNTIF($K$2:K13,K13),"") | E13: =IF(F13<>0,K13&":"&D13,"") | H13: =IFERROR(VLOOKUP(F13, Entries!$B:$F, 2, FALSE()),"") | I13: =IFERROR(VLOOKUP(F13, Entries!$B:$F, 3, FALSE()),"") | J13: =IFERROR(VLOOKUP(F13, Entries!$B:$F, 4, FALSE()),"") | K13: =IFERROR(VLOOKUP(F13, Entries!$B:$F, 5, FALSE()),"") | L13: =LEFT('Finish order'!$K13,2) | M13: =IF(F13<>0,COUNTIF($L$2:L13,L13),"") | N13: =IF(F13<>0,L13&":"&M13,"")
... A24: 23 | B24: =IF(F24<>"",COUNTIF($J$2:J24,J24),"") | C24: =IF(F24<>0,J24&":"&B24,"") | D24: =IF(F24<>0,COUNTIF($K$2:K24,K24),"") | E24: =IF(F24<>0,K24&":"&D24,"") | H24: =IFERROR(VLOOKUP(F24, Entries!$B:$F, 2, FALSE()),"") | I24: =IFERROR(VLOOKUP(F24, Entries!$B:$F, 3, FALSE()),"") | J24: =IFERROR(VLOOKUP(F24, Entries!$B:$F, 4, FALSE()),"") | K24: =IFERROR(VLOOKUP(F24, Entries!$B:$F, 5, FALSE()),"") | L24: =LEFT('Finish order'!$K24,2) | M24: =IF(F24<>0,COUNTIF($L$2:L24,L24),"") | N24: =IF(F24<>0,L24&":"&M24,"")
A25: 24 | B25: =IF(F25<>"",COUNTIF($J$2:J25,J25),"") | C25: =IF(F25<>0,J25&":"&B25,"") | D25: =IF(F25<>0,COUNTIF($K$2:K25,K25),"") | E25: =IF(F25<>0,K25&":"&D25,"") | H25: =IFERROR(VLOOKUP(F25, Entries!$B:$F, 2, FALSE()),"") | I25: =IFERROR(VLOOKUP(F25, Entries!$B:$F, 3, FALSE()),"") | J25: =IFERROR(VLOOKUP(F25, Entries!$B:$F, 4, FALSE()),"") | K25: =IFERROR(VLOOKUP(F25, Entries!$B:$F, 5, FALSE()),"") | L25: =LEFT('Finish order'!$K25,2) | M25: =IF(F25<>0,COUNTIF($L$2:L25,L25),"") | N25: =IF(F25<>0,L25&":"&M25,"") | P25: query
A26: 25 | B26: =IF(F26<>"",COUNTIF($J$2:J26,J26),"") | C26: =IF(F26<>0,J26&":"&B26,"") | D26: =IF(F26<>0,COUNTIF($K$2:K26,K26),"") | E26: =IF(F26<>0,K26&":"&D26,"") | H26: =IFERROR(VLOOKUP(F26, Entries!$B:$F, 2, FALSE()),"") | I26: =IFERROR(VLOOKUP(F26, Entries!$B:$F, 3, FALSE()),"") | J26: =IFERROR(VLOOKUP(F26, Entries!$B:$F, 4, FALSE()),"") | K26: =IFERROR(VLOOKUP(F26, Entries!$B:$F, 5, FALSE()),"") | L26: =LEFT('Finish order'!$K26,2) | M26: =IF(F26<>0,COUNTIF($L$2:L26,L26),"") | N26: =IF(F26<>0,L26&":"&M26,"")
A27: 26 | B27: =IF(F27<>"",COUNTIF($J$2:J27,J27),"") | C27: =IF(F27<>0,J27&":"&B27,"") | D27: =IF(F27<>0,COUNTIF($K$2:K27,K27),"") | E27: =IF(F27<>0,K27&":"&D27,"") | H27: =IFERROR(VLOOKUP(F27, Entries!$B:$F, 2, FALSE()),"") | I27: =IFERROR(VLOOKUP(F27, Entries!$B:$F, 3, FALSE()),"") | J27: =IFERROR(VLOOKUP(F27, Entries!$B:$F, 4, FALSE()),"") | K27: =IFERROR(VLOOKUP(F27, Entries!$B:$F, 5, FALSE()),"") | L27: =LEFT('Finish order'!$K27,2) | M27: =IF(F27<>0,COUNTIF($L$2:L27,L27),"") | N27: =IF(F27<>0,L27&":"&M27,"")
A28: 27 | B28: =IF(F28<>"",COUNTIF($J$2:J28,J28),"") | C28: =IF(F28<>0,J28&":"&B28,"") | D28: =IF(F28<>0,COUNTIF($K$2:K28,K28),"") | E28: =IF(F28<>0,K28&":"&D28,"") | H28: =IFERROR(VLOOKUP(F28, Entries!$B:$F, 2, FALSE()),"") | I28: =IFERROR(VLOOKUP(F28, Entries!$B:$F, 3, FALSE()),"") | J28: =IFERROR(VLOOKUP(F28, Entries!$B:$F, 4, FALSE()),"") | K28: =IFERROR(VLOOKUP(F28, Entries!$B:$F, 5, FALSE()),"") | L28: =LEFT('Finish order'!$K28,2) | M28: =IF(F28<>0,COUNTIF($L$2:L28,L28),"") | N28: =IF(F28<>0,L28&":"&M28,"")
A29: 28 | B29: =IF(F29<>"",COUNTIF($J$2:J29,J29),"") | C29: =IF(F29<>0,J29&":"&B29,"") | D29: =IF(F29<>0,COUNTIF($K$2:K29,K29),"") | E29: =IF(F29<>0,K29&":"&D29,"") | H29: =IFERROR(VLOOKUP(F29, Entries!$B:$F, 2, FALSE()),"") | I29: =IFERROR(VLOOKUP(F29, Entries!$B:$F, 3, FALSE()),"") | J29: =IFERROR(VLOOKUP(F29, Entries!$B:$F, 4, FALSE()),"") | K29: =IFERROR(VLOOKUP(F29, Entries!$B:$F, 5, FALSE()),"") | L29: =LEFT('Finish order'!$K29,2) | M29: =IF(F29<>0,COUNTIF($L$2:L29,L29),"") | N29: =IF(F29<>0,L29&":"&M29,"")
A30: 29 | B30: =IF(F30<>"",COUNTIF($J$2:J30,J30),"") | C30: =IF(F30<>0,J30&":"&B30,"") | D30: =IF(F30<>0,COUNTIF($K$2:K30,K30),"") | E30: =IF(F30<>0,K30&":"&D30,"") | H30: =IFERROR(VLOOKUP(F30, Entries!$B:$F, 2, FALSE()),"") | I30: =IFERROR(VLOOKUP(F30, Entries!$B:$F, 3, FALSE()),"") | J30: =IFERROR(VLOOKUP(F30, Entries!$B:$F, 4, FALSE()),"") | K30: =IFERROR(VLOOKUP(F30, Entries!$B:$F, 5, FALSE()),"") | L30: =LEFT('Finish order'!$K30,2) | M30: =IF(F30<>0,COUNTIF($L$2:L30,L30),"") | N30: =IF(F30<>0,L30&":"&M30,"")
A31: 30 | B31: =IF(F31<>"",COUNTIF($J$2:J31,J31),"") | C31: =IF(F31<>0,J31&":"&B31,"") | D31: =IF(F31<>0,COUNTIF($K$2:K31,K31),"") | E31: =IF(F31<>0,K31&":"&D31,"") | H31: =IFERROR(VLOOKUP(F31, Entries!$B:$F, 2, FALSE()),"") | I31: =IFERROR(VLOOKUP(F31, Entries!$B:$F, 3, FALSE()),"") | J31: =IFERROR(VLOOKUP(F31, Entries!$B:$F, 4, FALSE()),"") | K31: =IFERROR(VLOOKUP(F31, Entries!$B:$F, 5, FALSE()),"") | L31: =LEFT('Finish order'!$K31,2) | M31: =IF(F31<>0,COUNTIF($L$2:L31,L31),"") | N31: =IF(F31<>0,L31&":"&M31,"")
A32: 31 | B32: =IF(F32<>"",COUNTIF($J$2:J32,J32),"") | C32: =IF(F32<>0,J32&":"&B32,"") | D32: =IF(F32<>0,COUNTIF($K$2:K32,K32),"") | E32: =IF(F32<>0,K32&":"&D32,"") | H32: =IFERROR(VLOOKUP(F32, Entries!$B:$F, 2, FALSE()),"") | I32: =IFERROR(VLOOKUP(F32, Entries!$B:$F, 3, FALSE()),"") | J32: =IFERROR(VLOOKUP(F32, Entries!$B:$F, 4, FALSE()),"") | K32: =IFERROR(VLOOKUP(F32, Entries!$B:$F, 5, FALSE()),"") | L32: =LEFT('Finish order'!$K32,2) | M32: =IF(F32<>0,COUNTIF($L$2:L32,L32),"") | N32: =IF(F32<>0,L32&":"&M32,"")
A33: 32 | B33: =IF(F33<>"",COUNTIF($J$2:J33,J33),"") | C33: =IF(F33<>0,J33&":"&B33,"") | D33: =IF(F33<>0,COUNTIF($K$2:K33,K33),"") | E33: =IF(F33<>0,K33&":"&D33,"") | H33: =IFERROR(VLOOKUP(F33, Entries!$B:$F, 2, FALSE()),"") | I33: =IFERROR(VLOOKUP(F33, Entries!$B:$F, 3, FALSE()),"") | J33: =IFERROR(VLOOKUP(F33, Entries!$B:$F, 4, FALSE()),"") | K33: =IFERROR(VLOOKUP(F33, Entries!$B:$F, 5, FALSE()),"") | L33: =LEFT('Finish order'!$K33,2) | M33: =IF(F33<>0,COUNTIF($L$2:L33,L33),"") | N33: =IF(F33<>0,L33&":"&M33,"")
A34: 33 | B34: =IF(F34<>"",COUNTIF($J$2:J34,J34),"") | C34: =IF(F34<>0,J34&":"&B34,"") | D34: =IF(F34<>0,COUNTIF($K$2:K34,K34),"") | E34: =IF(F34<>0,K34&":"&D34,"") | H34: =IFERROR(VLOOKUP(F34, Entries!$B:$F, 2, FALSE()),"") | I34: =IFERROR(VLOOKUP(F34, Entries!$B:$F, 3, FALSE()),"") | J34: =IFERROR(VLOOKUP(F34, Entries!$B:$F, 4, FALSE()),"") | K34: =IFERROR(VLOOKUP(F34, Entries!$B:$F, 5, FALSE()),"") | L34: =LEFT('Finish order'!$K34,2) | M34: =IF(F34<>0,COUNTIF($L$2:L34,L34),"") | N34: =IF(F34<>0,L34&":"&M34,"")
A35: 34 | B35: =IF(F35<>"",COUNTIF($J$2:J35,J35),"") | C35: =IF(F35<>0,J35&":"&B35,"") | D35: =IF(F35<>0,COUNTIF($K$2:K35,K35),"") | E35: =IF(F35<>0,K35&":"&D35,"") | H35: =IFERROR(VLOOKUP(F35, Entries!$B:$F, 2, FALSE()),"") | I35: =IFERROR(VLOOKUP(F35, Entries!$B:$F, 3, FALSE()),"") | J35: =IFERROR(VLOOKUP(F35, Entries!$B:$F, 4, FALSE()),"") | K35: =IFERROR(VLOOKUP(F35, Entries!$B:$F, 5, FALSE()),"") | L35: =LEFT('Finish order'!$K35,2) | M35: =IF(F35<>0,COUNTIF($L$2:L35,L35),"") | N35: =IF(F35<>0,L35&":"&M35,"")
A36: 35 | B36: =IF(F36<>"",COUNTIF($J$2:J36,J36),"") | C36: =IF(F36<>0,J36&":"&B36,"") | D36: =IF(F36<>0,COUNTIF($K$2:K36,K36),"") | E36: =IF(F36<>0,K36&":"&D36,"") | H36: =IFERROR(VLOOKUP(F36, Entries!$B:$F, 2, FALSE()),"") | I36: =IFERROR(VLOOKUP(F36, Entries!$B:$F, 3, FALSE()),"") | J36: =IFERROR(VLOOKUP(F36, Entries!$B:$F, 4, FALSE()),"") | K36: =IFERROR(VLOOKUP(F36, Entries!$B:$F, 5, FALSE()),"") | L36: =LEFT('Finish order'!$K36,2) | M36: =IF(F36<>0,COUNTIF($L$2:L36,L36),"") | N36: =IF(F36<>0,L36&":"&M36,"")
A37: 36 | B37: =IF(F37<>"",COUNTIF($J$2:J37,J37),"") | C37: =IF(F37<>0,J37&":"&B37,"") | D37: =IF(F37<>0,COUNTIF($K$2:K37,K37),"") | E37: =IF(F37<>0,K37&":"&D37,"") | H37: =IFERROR(VLOOKUP(F37, Entries!$B:$F, 2, FALSE()),"") | I37: =IFERROR(VLOOKUP(F37, Entries!$B:$F, 3, FALSE()),"") | J37: =IFERROR(VLOOKUP(F37, Entries!$B:$F, 4, FALSE()),"") | K37: =IFERROR(VLOOKUP(F37, Entries!$B:$F, 5, FALSE()),"") | L37: =LEFT('Finish order'!$K37,2) | M37: =IF(F37<>0,COUNTIF($L$2:L37,L37),"") | N37: =IF(F37<>0,L37&":"&M37,"")
... A200: 199 | B200: =IF(F200<>"",COUNTIF($J$2:J200,J200),"") | C200: =IF(F200<>0,J200&":"&B200,"") | D200: =IF(F200<>0,COUNTIF($K$2:K200,K200),"") | E200: =IF(F200<>0,K200&":"&D200,"") | H200: =IFERROR(VLOOKUP(F200, Entries!$B:$F, 2, FALSE()),"") | I200: =IFERROR(VLOOKUP(F200, Entries!$B:$F, 3, FALSE()),"") | J200: =IFERROR(VLOOKUP(F200, Entries!$B:$F, 4, FALSE()),"") | K200: =IFERROR(VLOOKUP(F200, Entries!$B:$F, 5, FALSE()),"") | L200: =LEFT('Finish order'!$K200,2) | M200: =IF(F200<>0,COUNTIF($L$2:L200,L200),"") | N200: =IF(F200<>0,L200&":"&M200,"")
A201: 200 | B201: =IF(F201<>"",COUNTIF($J$2:J201,J201),"") | C201: =IF(F201<>0,J201&":"&B201,"") | D201: =IF(F201<>0,COUNTIF($K$2:K201,K201),"") | E201: =IF(F201<>0,K201&":"&D201,"") | H201: =IFERROR(VLOOKUP(F201, Entries!$B:$F, 2, FALSE()),"") | I201: =IFERROR(VLOOKUP(F201, Entries!$B:$F, 3, FALSE()),"") | J201: =IFERROR(VLOOKUP(F201, Entries!$B:$F, 4, FALSE()),"") | K201: =IFERROR(VLOOKUP(F201, Entries!$B:$F, 5, FALSE()),"") | L201: =LEFT('Finish order'!$K201,2) | M201: =IF(F201<>0,COUNTIF($L$2:L1510,L201),"") | N201: =IF(F201<>0,L201&":"&M201,"")
A202: 201 | B202: =IF(F202<>"",COUNTIF($J$2:J202,J202),"") | C202: =IF(F202<>0,J202&":"&B202,"") | D202: =IF(F202<>0,COUNTIF($K$2:K202,K202),"") | E202: =IF(F202<>0,K202&":"&D202,"") | H202: =IFERROR(VLOOKUP(F202, Entries!$B:$F, 2, FALSE()),"") | I202: =IFERROR(VLOOKUP(F202, Entries!$B:$F, 3, FALSE()),"") | J202: =IFERROR(VLOOKUP(F202, Entries!$B:$F, 4, FALSE()),"") | K202: =IFERROR(VLOOKUP(F202, Entries!$B:$F, 5, FALSE()),"") | L202: =LEFT('Finish order'!$K202,2) | M202: =IF(F202<>0,COUNTIF($L$2:L202,L202),"") | N202: =IF(F202<>0,L202&":"&M202,"")
A203: 202 | B203: =IF(F203<>"",COUNTIF($J$2:J203,J203),"") | C203: =IF(F203<>0,J203&":"&B203,"") | D203: =IF(F203<>0,COUNTIF($K$2:K203,K203),"") | E203: =IF(F203<>0,K203&":"&D203,"") | H203: =IFERROR(VLOOKUP(F203, Entries!$B:$F, 2, FALSE()),"") | I203: =IFERROR(VLOOKUP(F203, Entries!$B:$F, 3, FALSE()),"") | J203: =IFERROR(VLOOKUP(F203, Entries!$B:$F, 4, FALSE()),"") | K203: =IFERROR(VLOOKUP(F203, Entries!$B:$F, 5, FALSE()),"") | L203: =LEFT('Finish order'!$K203,2) | M203: =IF(F203<>0,COUNTIF($L$2:L203,L203),"") | N203: =IF(F203<>0,L203&":"&M203,"")
A204: 203 | B204: =IF(F204<>"",COUNTIF($J$2:J204,J204),"") | C204: =IF(F204<>0,J204&":"&B204,"") | D204: =IF(F204<>0,COUNTIF($K$2:K204,K204),"") | E204: =IF(F204<>0,K204&":"&D204,"") | H204: =IFERROR(VLOOKUP(F204, Entries!$B:$F, 2, FALSE()),"") | I204: =IFERROR(VLOOKUP(F204, Entries!$B:$F, 3, FALSE()),"") | J204: =IFERROR(VLOOKUP(F204, Entries!$B:$F, 4, FALSE()),"") | K204: =IFERROR(VLOOKUP(F204, Entries!$B:$F, 5, FALSE()),"") | L204: =LEFT('Finish order'!$K204,2) | M204: =IF(F204<>0,COUNTIF($L$2:L204,L204),"") | N204: =IF(F204<>0,L204&":"&M204,"")
A205: 204 | B205: =IF(F205<>"",COUNTIF($J$2:J205,J205),"") | C205: =IF(F205<>0,J205&":"&B205,"") | D205: =IF(F205<>0,COUNTIF($K$2:K205,K205),"") | E205: =IF(F205<>0,K205&":"&D205,"") | H205: =IFERROR(VLOOKUP(F205, Entries!$B:$F, 2, FALSE()),"") | I205: =IFERROR(VLOOKUP(F205, Entries!$B:$F, 3, FALSE()),"") | J205: =IFERROR(VLOOKUP(F205, Entries!$B:$F, 4, FALSE()),"") | K205: =IFERROR(VLOOKUP(F205, Entries!$B:$F, 5, FALSE()),"") | L205: =LEFT('Finish order'!$K205,2) | M205: =IF(F205<>0,COUNTIF($L$2:L205,L205),"") | N205: =IF(F205<>0,L205&":"&M205,"")
A206: 205 | B206: =IF(F206<>"",COUNTIF($J$2:J206,J206),"") | C206: =IF(F206<>0,J206&":"&B206,"") | D206: =IF(F206<>0,COUNTIF($K$2:K206,K206),"") | E206: =IF(F206<>0,K206&":"&D206,"") | H206: =IFERROR(VLOOKUP(F206, Entries!$B:$F, 2, FALSE()),"") | I206: =IFERROR(VLOOKUP(F206, Entries!$B:$F, 3, FALSE()),"") | J206: =IFERROR(VLOOKUP(F206, Entries!$B:$F, 4, FALSE()),"") | K206: =IFERROR(VLOOKUP(F206, Entries!$B:$F, 5, FALSE()),"") | L206: =LEFT('Finish order'!$K206,2) | M206: =IF(F206<>0,COUNTIF($L$2:L206,L206),"") | N206: =IF(F206<>0,L206&":"&M206,"")
A207: 206 | B207: =IF(F207<>"",COUNTIF($J$2:J207,J207),"") | C207: =IF(F207<>0,J207&":"&B207,"") | D207: =IF(F207<>0,COUNTIF($K$2:K207,K207),"") | E207: =IF(F207<>0,K207&":"&D207,"") | H207: =IFERROR(VLOOKUP(F207, Entries!$B:$F, 2, FALSE()),"") | I207: =IFERROR(VLOOKUP(F207, Entries!$B:$F, 3, FALSE()),"") | J207: =IFERROR(VLOOKUP(F207, Entries!$B:$F, 4, FALSE()),"") | K207: =IFERROR(VLOOKUP(F207, Entries!$B:$F, 5, FALSE()),"") | L207: =LEFT('Finish order'!$K207,2) | M207: =IF(F207<>0,COUNTIF($L$2:L207,L207),"") | N207: =IF(F207<>0,L207&":"&M207,"")
A208: 207 | B208: =IF(F208<>"",COUNTIF($J$2:J208,J208),"") | C208: =IF(F208<>0,J208&":"&B208,"") | D208: =IF(F208<>0,COUNTIF($K$2:K208,K208),"") | E208: =IF(F208<>0,K208&":"&D208,"") | H208: =IFERROR(VLOOKUP(F208, Entries!$B:$F, 2, FALSE()),"") | I208: =IFERROR(VLOOKUP(F208, Entries!$B:$F, 3, FALSE()),"") | J208: =IFERROR(VLOOKUP(F208, Entries!$B:$F, 4, FALSE()),"") | K208: =IFERROR(VLOOKUP(F208, Entries!$B:$F, 5, FALSE()),"") | L208: =LEFT('Finish order'!$K208,2) | M208: =IF(F208<>0,COUNTIF($L$2:L208,L208),"") | N208: =IF(F208<>0,L208&":"&M208,"")
A209: 208 | B209: =IF(F209<>"",COUNTIF($J$2:J209,J209),"") | C209: =IF(F209<>0,J209&":"&B209,"") | D209: =IF(F209<>0,COUNTIF($K$2:K209,K209),"") | E209: =IF(F209<>0,K209&":"&D209,"") | H209: =IFERROR(VLOOKUP(F209, Entries!$B:$F, 2, FALSE()),"") | I209: =IFERROR(VLOOKUP(F209, Entries!$B:$F, 3, FALSE()),"") | J209: =IFERROR(VLOOKUP(F209, Entries!$B:$F, 4, FALSE()),"") | K209: =IFERROR(VLOOKUP(F209, Entries!$B:$F, 5, FALSE()),"") | L209: =LEFT('Finish order'!$K209,2) | M209: =IF(F209<>0,COUNTIF($L$2:L209,L209),"") | N209: =IF(F209<>0,L209&":"&M209,"")
A210: 209 | B210: =IF(F210<>"",COUNTIF($J$2:J210,J210),"") | C210: =IF(F210<>0,J210&":"&B210,"") | D210: =IF(F210<>0,COUNTIF($K$2:K210,K210),"") | E210: =IF(F210<>0,K210&":"&D210,"") | H210: =IFERROR(VLOOKUP(F210, Entries!$B:$F, 2, FALSE()),"") | I210: =IFERROR(VLOOKUP(F210, Entries!$B:$F, 3, FALSE()),"") | J210: =IFERROR(VLOOKUP(F210, Entries!$B:$F, 4, FALSE()),"") | K210: =IFERROR(VLOOKUP(F210, Entries!$B:$F, 5, FALSE()),"") | L210: =LEFT('Finish order'!$K210,2) | M210: =IF(F210<>0,COUNTIF($L$2:L210,L210),"") | N210: =IF(F210<>0,L210&":"&M210,"")
A211: 210 | B211: =IF(F211<>"",COUNTIF($J$2:J211,J211),"") | C211: =IF(F211<>0,J211&":"&B211,"") | D211: =IF(F211<>0,COUNTIF($K$2:K211,K211),"") | E211: =IF(F211<>0,K211&":"&D211,"") | H211: =IFERROR(VLOOKUP(F211, Entries!$B:$F, 2, FALSE()),"") | I211: =IFERROR(VLOOKUP(F211, Entries!$B:$F, 3, FALSE()),"") | J211: =IFERROR(VLOOKUP(F211, Entries!$B:$F, 4, FALSE()),"") | K211: =IFERROR(VLOOKUP(F211, Entries!$B:$F, 5, FALSE()),"") | L211: =LEFT('Finish order'!$K211,2) | M211: =IF(F211<>0,COUNTIF($L$2:L211,L211),"") | N211: =IF(F211<>0,L211&":"&M211,"")
A212: 211 | B212: =IF(F212<>"",COUNTIF($J$2:J212,J212),"") | C212: =IF(F212<>0,J212&":"&B212,"") | D212: =IF(F212<>0,COUNTIF($K$2:K212,K212),"") | E212: =IF(F212<>0,K212&":"&D212,"") | H212: =IFERROR(VLOOKUP(F212, Entries!$B:$F, 2, FALSE()),"") | I212: =IFERROR(VLOOKUP(F212, Entries!$B:$F, 3, FALSE()),"") | J212: =IFERROR(VLOOKUP(F212, Entries!$B:$F, 4, FALSE()),"") | K212: =IFERROR(VLOOKUP(F212, Entries!$B:$F, 5, FALSE()),"") | L212: =LEFT('Finish order'!$K212,2) | M212: =IF(F212<>0,COUNTIF($L$2:L212,L212),"") | N212: =IF(F212<>0,L212&":"&M212,"")
...

Sheet Results 10 year vets
A1: Male | B1: Name | C1: Cat. | D1: Club | E1: Time | F1: Number | G1: 1st counter | H1: 2nd counter | I1: 3rd counter | J1: 4th counter | K1: team total 4 | L1: Team total 3 | M1: Team total 2 | N1: Team Gender | P1: Female | Q1: Name | R1: Cat. | S1: Club | T1: Time | U1: Number | V1: 1st counter | W1: 2nd counter | X1: 3rd counter | Y1: 4th counter | Z1: team total 4 | AA1: Team total 3 | AB1: Team total 2 | AC1: Team Gender | AE1: MU23 | AF1: Name | AG1: Club | AH1: Time | AI1: Number | AJ1: Top3? | AL1: WU23 | AM1: Name | AN1: Club | AO1: Time | AP1: Number | AQ1: Top3? | AS1: M40 | AT1: Name | AU1: Club | AV1: Time | AW1: Number | AX1: Top3? | AZ1: W40 | BA1: Name | BB1: Club | BC1: Time | BD1: Number | BE1: Top3? | BG1: M50 | BH1: Name | BI1: Club | BJ1: Time | BK1: Number | BL1: Top3? | BN1: W50 | BO1: Name | BP1: Club | BQ1: Time | BR1: Number | BS1: Top3? | BU1: M60 | BV1: Name | BW1: Club | BX1: Time | BY1: Number | BZ1: Top3? | CB1: W60 | CC1: Name | CD1: Club | CE1: Time | CF1: Number | CG1: Top3? | CI1: M70 | CJ1: Name | CK1: Club | CL1: Time | CM1: Number | CN1: Top3? | CP1: W70 | CQ1: Name | CR1: Club | CS1: Time | CT1: Number | CU1: Top3? | CW1: M80 | CX1: Name | CY1: Club | CZ1: Time | DA1: Number | DB1: Top3? | DD1: W80 | DE1: Name | DF1: Club | DG1: Time | DH1: Number | DI1: Top3? | DK1: Custom | DL1: Name | DM1: Club | DN1: Time | DO1: Number | DP1: Top3? | DR1: Custom | DS1: Name | DT1: Club | DU1: Time | DV1: Number | DW1: Top3?
A2: 1 | B2: =IFERROR(VLOOKUP(A$1&":"&A2,'Finish order'!$C:$K,6,FALSE()),"") | C2: =IFERROR(VLOOKUP(A$1&":"&A2,'Finish order'!$C:$K,9,FALSE()),"") | D2: =IFERROR(VLOOKUP(A$1&":"&A2,'Finish order'!$C:$K,7,FALSE()),"") | E2: =IFERROR(VLOOKUP(A$1&":"&A2,'Finish order'!$C:$K,5,FALSE()),"") | F2: =IFERROR(VLOOKUP(A$1&":"&A2,'Finish order'!$C:$K,4,FALSE()),"") | G2: {=IFERROR(SMALL(IF($D$2:$D911=D2,$A$2:$A$911*1.001),1),"")} -> 1.001 | H2: {=IFERROR(SMALL(IF($D$2:$D911=D2,$A$2:$A$911*1.0001),2),"")} -> 2.0002 | I2: {=IFERROR(SMALL(IF($D$2:$D911=D2,$A$2:$A$911*1.00001),3),"")} -> 3.00003 | J2: {=IFERROR(SMALL(IF($D$2:$D911=D2,$A$2:$A$911*1.000001),4),"")} -> 4.000004 | K2: =IF(A2<>"", IF(COUNT(G2:J2)=4, SUM(G2:J2), "No"), "") -> 10.001234 | L2: =IF(A2<>"", IF(COUNT(G2:I2)=3, SUM(G2:I2), "No"), "") -> 6.00123 | M2: =IF(A2<>"", IF(COUNT(G2:H2)=2, SUM(G2:H2), "No"), "") -> 3.0012 | N2: ='Results 10 year vets'!$D2&":"&Table1[[#Headers],[Male]] -> :Male | P2: 1 | Q2: =IFERROR(VLOOKUP(P$1&":"&P2,'Finish order'!$C:$K,6,FALSE()),"") | R2: =IFERROR(VLOOKUP(P$1&":"&P2,'Finish order'!$C:$K,9,FALSE()),"") | S2: =IFERROR(VLOOKUP(P$1&":"&P2,'Finish order'!$C:$K,7,FALSE()),"") | T2: =IFERROR(VLOOKUP(P$1&":"&P2,'Finish order'!$C:$K,5,FALSE()),"") | U2: =IFERROR(VLOOKUP(P$1&":"&P2,'Finish order'!$C:$K,4,FALSE()),"") | V2: {=IFERROR(SMALL(IF($S$2:$S911=S2,$P$2:$P$911*1.001),1),"")} -> 0 | W2: {=IFERROR(SMALL(IF($S$2:$S911=S2,$P$2:$P$911*1.0001),2),"")} -> 0 | X2: {=IFERROR(SMALL(IF($S$2:$S911=S2,$P$2:$P$911*1.00001),3),"")} -> 0 | Y2: {=IFERROR(SMALL(IF($S$2:$S911=S2,$P$2:$P$911*1.000001),4),"")} -> 0 | Z2: =IF(P2<>"", IF(COUNT(V2:Y2)=4, SUM(V2:Y2), "No"), "") -> 0 | AA2: =IF(P2<>"", IF(COUNT(V2:X2)=3, SUM(V2:X2), "No"), "") -> 0 | AB2: =IF(P2<>"", IF(COUNT(V2:W2)=2, SUM(V2:W2), "No"), "") -> 0 | AC2: ='Results 10 year vets'!$S2&":"&Table4[[#Headers],[Female]] -> :Female | AE2: 1 | AF2: =IFERROR(VLOOKUP(AE$1&":"&AE2,'Finish order'!$E:$K,4,FALSE()),"") | AG2: =IFERROR(VLOOKUP(AE$1&":"&AE2,'Finish order'!$E:$K,5,FALSE()),"") | AH2: =IFERROR(VLOOKUP(AE$1&":"&AE2,'Finish order'!$E:$K,3,FALSE()),"") | AI2: =IFERROR(VLOOKUP(AE$1&":"&AE2,'Finish order'!$E:$K,2,FALSE()),"") | AJ2: =IF('Results 10 year vets'!$AF2="","",IF((COUNTIF($B$2:$B$4,AF2)>0),"Top3","")) | AL2: 1 | AM2: =IFERROR(VLOOKUP(AL$1&":"&AL2,'Finish order'!$E:$K,4,FALSE()),"") | AN2: =IFERROR(VLOOKUP(AL$1&":"&AL2,'Finish order'!$E:$K,5,FALSE()),"") | AO2: =IFERROR(VLOOKUP(AL$1&":"&AL2,'Finish order'!$E:$K,3,FALSE()),"") | AP2: =IFERROR(VLOOKUP(AL$1&":"&AL2,'Finish order'!$E:$K,2,FALSE()),"") | AQ2: =IF('Results 10 year vets'!$AM2="","",IF((COUNTIF($Q$2:$Q$4,AM2)>0),"Top3","")) | AS2: 1 | AT2: =IFERROR(VLOOKUP(AS$1&":"&AS2,'Finish order'!$E:$K,4,FALSE()),"") | AU2: =IFERROR(VLOOKUP(AS$1&":"&AS2,'Finish order'!$E:$K,5,FALSE()),"") | AV2: =IFERROR(VLOOKUP(AS$1&":"&AS2,'Finish order'!$E:$K,3,FALSE()),"") | AW2: =IFERROR(VLOOKUP(AS$1&":"&AS2,'Finish order'!$E:$K,2,FALSE()),"") | AX2: =IF('Results 10 year vets'!$AT2="","",IF((COUNTIF($B$2:$B$4,AT2)>0),"Top3","")) | AZ2: 1 | BA2: =IFERROR(VLOOKUP(AZ$1&":"&AZ2,'Finish order'!$E:$K,4,FALSE()),"") | BB2: =IFERROR(VLOOKUP(AZ$1&":"&AZ2,'Finish order'!$E:$K,5,FALSE()),"") | BC2: =IFERROR(VLOOKUP(AZ$1&":"&AZ2,'Finish order'!$E:$K,3,FALSE()),"") | BD2: =IFERROR(VLOOKUP(AZ$1&":"&AZ2,'Finish order'!$E:$K,2,FALSE()),"") | BE2: =IF('Results 10 year vets'!$BA2="","",IF((COUNTIF($Q$2:$Q$4,BA2)>0),"Top3","")) | BG2: 1 | BH2: =IFERROR(VLOOKUP(BG$1&":"&BG2,'Finish order'!$E:$K,4,FALSE()),"") | BI2: =IFERROR(VLOOKUP(BG$1&":"&BG2,'Finish order'!$E:$K,5,FALSE()),"") | BJ2: =IFERROR(VLOOKUP(BG$1&":"&BG2,'Finish order'!$E:$K,3,FALSE()),"") | BK2: =IFERROR(VLOOKUP(BG$1&":"&BG2,'Finish order'!$E:$K,2,FALSE()),"") | BL2: =IF('Results 10 year vets'!$BA2="","",IF((COUNTIF($B$2:$B$4,BH2)>0),"Top3","")) | BN2: 1 | BO2: =IFERROR(VLOOKUP(BN$1&":"&BN2,'Finish order'!$E:$K,4,FALSE()),"") | BP2: =IFERROR(VLOOKUP(BN$1&":"&BN2,'Finish order'!$E:$K,5,FALSE()),"") | BQ2: =IFERROR(VLOOKUP(BN$1&":"&BN2,'Finish order'!$E:$K,3,FALSE()),"") | BR2: =IFERROR(VLOOKUP(BN$1&":"&BN2,'Finish order'!$E:$K,2,FALSE()),"") | BS2: =IF('Results 10 year vets'!$BA2="","",IF((COUNTIF($Q$2:$Q$4,BO2)>0),"Top3","")) | BU2: 1 | BV2: =IFERROR(VLOOKUP(BU$1&":"&BU2,'Finish order'!$E:$K,4,FALSE()),"") | BW2: =IFERROR(VLOOKUP(BU$1&":"&BU2,'Finish order'!$E:$K,5,FALSE()),"") | BX2: =IFERROR(VLOOKUP(BU$1&":"&BU2,'Finish order'!$E:$K,3,FALSE()),"") | BY2: =IFERROR(VLOOKUP(BU$1&":"&BU2,'Finish order'!$E:$K,2,FALSE()),"") | BZ2: =IF('Results 10 year vets'!$BV2="","",IF((COUNTIF($B$2:$B$4,BV2)>0),"Top3","")) | CB2: 1 | CC2: =IFERROR(VLOOKUP(CB$1&":"&CB2,'Finish order'!$E:$K,4,FALSE()),"") | CD2: =IFERROR(VLOOKUP(CB$1&":"&CB2,'Finish order'!$E:$K,5,FALSE()),"") | CE2: =IFERROR(VLOOKUP(CB$1&":"&CB2,'Finish order'!$E:$K,3,FALSE()),"") | CF2: =IFERROR(VLOOKUP(CB$1&":"&CB2,'Finish order'!$E:$K,2,FALSE()),"") | CG2: =IF('Results 10 year vets'!$CC2="","",IF((COUNTIF($Q$2:$Q$4,CC2)>0),"Top3","")) | CI2: 1 | CJ2: =IFERROR(VLOOKUP(CI$1&":"&CI2,'Finish order'!$E:$K,4,FALSE()),"") | CK2: =IFERROR(VLOOKUP(CI$1&":"&CI2,'Finish order'!$E:$K,5,FALSE()),"") | CL2: =IFERROR(VLOOKUP(CI$1&":"&CI2,'Finish order'!$E:$K,3,FALSE()),"") | CM2: =IFERROR(VLOOKUP(CI$1&":"&CI2,'Finish order'!$E:$K,2,FALSE()),"") | CN2: =IF('Results 10 year vets'!$CJ2="","",IF((COUNTIF($B$2:$B$4,CJ2)>0),"Top3","")) | CP2: 1 | CQ2: =IFERROR(VLOOKUP(CP$1&":"&CP2,'Finish order'!$E:$K,4,FALSE()),"") | CR2: =IFERROR(VLOOKUP(CP$1&":"&CP2,'Finish order'!$E:$K,5,FALSE()),"") | CS2: =IFERROR(VLOOKUP(CP$1&":"&CP2,'Finish order'!$E:$K,3,FALSE()),"") | CT2: =IFERROR(VLOOKUP(CP$1&":"&CP2,'Finish order'!$E:$K,2,FALSE()),"") | CU2: =IF('Results 10 year vets'!$CQ2="","",IF((COUNTIF($Q$2:$Q$4,CQ2)>0),"Top3","")) | CW2: 1 | CX2: =IFERROR(VLOOKUP(CW$1&":"&CW2,'Finish order'!$E:$K,4,FALSE()),"") | CY2: =IFERROR(VLOOKUP(CW$1&":"&CW2,'Finish order'!$E:$K,5,FALSE()),"") | CZ2: =IFERROR(VLOOKUP(CW$1&":"&CW2,'Finish order'!$E:$K,3,FALSE()),"") | DA2: =IFERROR(VLOOKUP(CW$1&":"&CW2,'Finish order'!$E:$K,2,FALSE()),"") | DB2: =IF('Results 10 year vets'!$CX2="","",IF((COUNTIF($B$2:$B$4,CX2)>0),"Top3","")) | DD2: 1 | DE2: =IFERROR(VLOOKUP(DD$1&":"&DD2,'Finish order'!$E:$K,4,FALSE()),"") | DF2: =IFERROR(VLOOKUP(DD$1&":"&DD2,'Finish order'!$E:$K,5,FALSE()),"") | DG2: =IFERROR(VLOOKUP(DD$1&":"&DD2,'Finish order'!$E:$K,3,FALSE()),"") | DH2: =IFERROR(VLOOKUP(DD$1&":"&DD2,'Finish order'!$E:$K,2,FALSE()),"") | DI2: =IF('Results 10 year vets'!$DE2="","",IF((COUNTIF($Q$2:$Q$4,DE2)>0),"Top3","")) | DK2: 1 | DL2: =IFERROR(VLOOKUP(DK$1&":"&DK2,'Finish order'!$E:$K,4,FALSE()),"") | DM2: =IFERROR(VLOOKUP(DK$1&":"&DK2,'Finish order'!$E:$K,5,FALSE()),"") | DN2: =IFERROR(VLOOKUP(DK$1&":"&DK2,'Finish order'!$E:$K,3,FALSE()),"") | DO2: =IFERROR(VLOOKUP(DK$1&":"&DK2,'Finish order'!$E:$K,2,FALSE()),"") | DP2: =IF('Results 10 year vets'!$DL2="","",IF((COUNTIF($B$2:$B$4,DL2)>0),"Top3","")) | DR2: 1 | DS2: =IFERROR(VLOOKUP(DR$1&":"&DR2,'Finish order'!$E:$K,4,FALSE()),"") | DT2: =IFERROR(VLOOKUP(DR$1&":"&DR2,'Finish order'!$E:$K,5,FALSE()),"") | DU2: =IFERROR(VLOOKUP(DR$1&":"&DR2,'Finish order'!$E:$K,3,FALSE()),"") | DV2: =IFERROR(VLOOKUP(DR$1&":"&DR2,'Finish order'!$E:$K,2,FALSE()),"") | DW2: =IF('Results 10 year vets'!$DS2="","",IF((COUNTIF($Q$2:$Q$4,DS2)>0),"Top3",""))
A3: 2 | B3: =IFERROR(VLOOKUP($A$1&":"&A3,'Finish order'!C:K,6,FALSE()),"") | C3: =IFERROR(VLOOKUP(A$1&":"&A3,'Finish order'!$C:$K,9,FALSE()),"") | D3: =IFERROR(VLOOKUP(A$1&":"&A3,'Finish order'!$C:$K,7,FALSE()),"") | E3: =IFERROR(VLOOKUP($A$1&":"&A3,'Finish order'!C:K,5,FALSE()),"") | F3: =IFERROR(VLOOKUP($A$1&":"&A3,'Finish order'!C:K,4,FALSE()),"") | G3: {=IFERROR(SMALL(IF($D$2:$D912=D3,$A$2:$A$911*1.001),1),"")} | H3: {=IFERROR(SMALL(IF($D$2:$D912=D3,$A$2:$A$911*1.0001),2),"")} | I3: {=IFERROR(SMALL(IF($D$2:$D912=D3,$A$2:$A$911*1.00001),3),"")} | J3: {=IFERROR(SMALL(IF($D$2:$D912=D3,$A$2:$A$911*1.000001),4),"")} | K3: =IF(A3<>"", IF(COUNT(G3:J3)=4, SUM(G3:J3), "No"), "") -> No | L3: =IF(A3<>"", IF(COUNT(G3:I3)=3, SUM(G3:I3), "No"), "") -> No | M3: =IF(A3<>"", IF(COUNT(G3:H3)=2, SUM(G3:H3), "No"), "") -> No | N3: ='Results 10 year vets'!$D3&":"&Table1[[#Headers],[Male]] -> :Male | P3: 2 | Q3: =IFERROR(VLOOKUP(P$1&":"&P3,'Finish order'!$C:$K,6,FALSE()),"") | R3: =IFERROR(VLOOKUP(P$1&":"&P3,'Finish order'!$C:$K,9,FALSE()),"") | S3: =IFERROR(VLOOKUP(P$1&":"&P3,'Finish order'!$C:$K,7,FALSE()),"") | T3: =IFERROR(VLOOKUP(P$1&":"&P3,'Finish order'!$C:$K,5,FALSE()),"") | U3: =IFERROR(VLOOKUP(P$1&":"&P3,'Finish order'!$C:$K,4,FALSE()),"") | V3: {=IFERROR(SMALL(IF($S$2:$S912=S3,$P$2:$P$911*1.001),1),"")} | W3: {=IFERROR(SMALL(IF($S$2:$S912=S3,$P$2:$P$911*1.0001),2),"")} | X3: {=IFERROR(SMALL(IF($S$2:$S912=S3,$P$2:$P$911*1.00001),3),"")} | Y3: {=IFERROR(SMALL(IF($S$2:$S912=S3,$P$2:$P$911*1.000001),4),"")} | Z3: =IF(P3<>"", IF(COUNT(V3:Y3)=4, SUM(V3:Y3), "No"), "") -> No | AA3: =IF(P3<>"", IF(COUNT(V3:X3)=3, SUM(V3:X3), "No"), "") -> No | AB3: =IF(P3<>"", IF(COUNT(V3:W3)=2, SUM(V3:W3), "No"), "") -> No | AC3: ='Results 10 year vets'!$S3&":"&Table4[[#Headers],[Female]] -> :Female | AE3: 2 | AF3: =IFERROR(VLOOKUP(AE$1&":"&AE3,'Finish order'!$E:$K,4,FALSE()),"") | AG3: =IFERROR(VLOOKUP(AE$1&":"&AE3,'Finish order'!$E:$K,5,FALSE()),"") | AH3: =IFERROR(VLOOKUP(AE$1&":"&AE3,'Finish order'!$E:$K,3,FALSE()),"") | AI3: =IFERROR(VLOOKUP(AE$1&":"&AE3,'Finish order'!$E:$K,2,FALSE()),"") | AJ3: =IF('Results 10 year vets'!$AF3="","",IF((COUNTIF($B$2:$B$4,AF3)>0),"Top3","")) | AL3: 2 | AM3: =IFERROR(VLOOKUP(AL$1&":"&AL3,'Finish order'!$E:$K,4,FALSE()),"") | AN3: =IFERROR(VLOOKUP(AL$1&":"&AL3,'Finish order'!$E:$K,5,FALSE()),"") | AO3: =IFERROR(VLOOKUP(AL$1&":"&AL3,'Finish order'!$E:$K,3,FALSE()),"") | AP3: =IFERROR(VLOOKUP(AL$1&":"&AL3,'Finish order'!$E:$K,2,FALSE()),"") | AQ3: =IF('Results 10 year vets'!$AM3="","",IF((COUNTIF($Q$2:$Q$4,AM3)>0),"Top3","")) | AS3: 2 | AT3: =IFERROR(VLOOKUP(AS$1&":"&AS3,'Finish order'!$E:$K,4,FALSE()),"") | AU3: =IFERROR(VLOOKUP(AS$1&":"&AS3,'Finish order'!$E:$K,5,FALSE()),"") | AV3: =IFERROR(VLOOKUP(AS$1&":"&AS3,'Finish order'!$E:$K,3,FALSE()),"") | AW3: =IFERROR(VLOOKUP(AS$1&":"&AS3,'Finish order'!$E:$K,2,FALSE()),"") | AX3: =IF('Results 10 year vets'!$AT3="","",IF((COUNTIF($B$2:$B$4,AT3)>0),"Top3","")) | AZ3: 2 | BA3: =IFERROR(VLOOKUP(AZ$1&":"&AZ3,'Finish order'!$E:$K,4,FALSE()),"") | BB3: =IFERROR(VLOOKUP(AZ$1&":"&AZ3,'Finish order'!$E:$K,5,FALSE()),"") | BC3: =IFERROR(VLOOKUP(AZ$1&":"&AZ3,'Finish order'!$E:$K,3,FALSE()),"") | BD3: =IFERROR(VLOOKUP(AZ$1&":"&AZ3,'Finish order'!$E:$K,2,FALSE()),"") | BE3: =IF('Results 10 year vets'!$BA3="","",IF((COUNTIF($Q$2:$Q$4,BA3)>0),"Top3","")) | BG3: 2 | BH3: =IFERROR(VLOOKUP(BG$1&":"&BG3,'Finish order'!$E:$K,4,FALSE()),"") | BI3: =IFERROR(VLOOKUP(BG$1&":"&BG3,'Finish order'!$E:$K,5,FALSE()),"") | BJ3: =IFERROR(VLOOKUP(BG$1&":"&BG3,'Finish order'!$E:$K,3,FALSE()),"") | BK3: =IFERROR(VLOOKUP(BG$1&":"&BG3,'Finish order'!$E:$K,2,FALSE()),"") | BL3: =IF('Results 10 year vets'!$BA3="","",IF((COUNTIF($B$2:$B$4,BH3)>0),"Top3","")) | BN3: 2 | BO3: =IFERROR(VLOOKUP(BN$1&":"&BN3,'Finish order'!$E:$K,4,FALSE()),"") | BP3: =IFERROR(VLOOKUP(BN$1&":"&BN3,'Finish order'!$E:$K,5,FALSE()),"") | BQ3: =IFERROR(VLOOKUP(BN$1&":"&BN3,'Finish order'!$E:$K,3,FALSE()),"") | BR3: =IFERROR(VLOOKUP(BN$1&":"&BN3,'Finish order'!$E:$K,2,FALSE()),"") | BS3: =IF('Results 10 year vets'!$BA3="","",IF((COUNTIF($Q$2:$Q$4,BO3)>0),"Top3","")) | BU3: 2 | BV3: =IFERROR(VLOOKUP(BU$1&":"&BU3,'Finish order'!$E:$K,4,FALSE()),"") | BW3: =IFERROR(VLOOKUP(BU$1&":"&BU3,'Finish order'!$E:$K,5,FALSE()),"") | BX3: =IFERROR(VLOOKUP(BU$1&":"&BU3,'Finish order'!$E:$K,3,FALSE()),"") | BY3: =IFERROR(VLOOKUP(BU$1&":"&BU3,'Finish order'!$E:$K,2,FALSE()),"") | BZ3: =IF('Results 10 year vets'!$BV3="","",IF((COUNTIF($B$2:$B$4,BV3)>0),"Top3","")) | CB3: 2 | CC3: =IFERROR(VLOOKUP(CB$1&":"&CB3,'Finish order'!$E:$K,4,FALSE()),"") | CD3: =IFERROR(VLOOKUP(CB$1&":"&CB3,'Finish order'!$E:$K,5,FALSE()),"") | CE3: =IFERROR(VLOOKUP(CB$1&":"&CB3,'Finish order'!$E:$K,3,FALSE()),"") | CF3: =IFERROR(VLOOKUP(CB$1&":"&CB3,'Finish order'!$E:$K,2,FALSE()),"") | CG3: =IF('Results 10 year vets'!$CC3="","",IF((COUNTIF($Q$2:$Q$4,CC3)>0),"Top3","")) | CI3: 2 | CJ3: =IFERROR(VLOOKUP(CI$1&":"&CI3,'Finish order'!$E:$K,4,FALSE()),"") | CK3: =IFERROR(VLOOKUP(CI$1&":"&CI3,'Finish order'!$E:$K,5,FALSE()),"") | CL3: =IFERROR(VLOOKUP(CI$1&":"&CI3,'Finish order'!$E:$K,3,FALSE()),"") | CM3: =IFERROR(VLOOKUP(CI$1&":"&CI3,'Finish order'!$E:$K,2,FALSE()),"") | CN3: =IF('Results 10 year vets'!$CJ3="","",IF((COUNTIF($B$2:$B$4,CJ3)>0),"Top3","")) | CP3: 2 | CQ3: =IFERROR(VLOOKUP(CP$1&":"&CP3,'Finish order'!$E:$K,4,FALSE()),"") | CR3: =IFERROR(VLOOKUP(CP$1&":"&CP3,'Finish order'!$E:$K,5,FALSE()),"") | CS3: =IFERROR(VLOOKUP(CP$1&":"&CP3,'Finish order'!$E:$K,3,FALSE()),"") | CT3: =IFERROR(VLOOKUP(CP$1&":"&CP3,'Finish order'!$E:$K,2,FALSE()),"") | CU3: =IF('Results 10 year vets'!$CQ3="","",IF((COUNTIF($Q$2:$Q$4,CQ3)>0),"Top3","")) | CW3: 2 | CX3: =IFERROR(VLOOKUP(CW$1&":"&CW3,'Finish order'!$E:$K,4,FALSE()),"") | CY3: =IFERROR(VLOOKUP(CW$1&":"&CW3,'Finish order'!$E:$K,5,FALSE()),"") | CZ3: =IFERROR(VLOOKUP(CW$1&":"&CW3,'Finish order'!$E:$K,3,FALSE()),"") | DA3: =IFERROR(VLOOKUP(CW$1&":"&CW3,'Finish order'!$E:$K,2,FALSE()),"") | DB3: =IF('Results 10 year vets'!$CX3="","",IF((COUNTIF($B$2:$B$4,CX3)>0),"Top3","")) | DD3: 2 | DE3: =IFERROR(VLOOKUP(DD$1&":"&DD3,'Finish order'!$E:$K,4,FALSE()),"") | DF3: =IFERROR(VLOOKUP(DD$1&":"&DD3,'Finish order'!$E:$K,5,FALSE()),"") | DG3: =IFERROR(VLOOKUP(DD$1&":"&DD3,'Finish order'!$E:$K,3,FALSE()),"") | DH3: =IFERROR(VLOOKUP(DD$1&":"&DD3,'Finish order'!$E:$K,2,FALSE()),"") | DI3: =IF('Results 10 year vets'!$DE3="","",IF((COUNTIF($Q$2:$Q$4,DE3)>0),"Top3","")) | DK3: 2 | DL3: =IFERROR(VLOOKUP(DK$1&":"&DK3,'Finish order'!$E:$K,4,FALSE()),"") | DM3: =IFERROR(VLOOKUP(DK$1&":"&DK3,'Finish order'!$E:$K,5,FALSE()),"") | DN3: =IFERROR(VLOOKUP(DK$1&":"&DK3,'Finish order'!$E:$K,3,FALSE()),"") | DO3: =IFERROR(VLOOKUP(DK$1&":"&DK3,'Finish order'!$E:$K,2,FALSE()),"") | DP3: =IF('Results 10 year vets'!$DL3="","",IF((COUNTIF($B$2:$B$4,DL3)>0),"Top3","")) | DR3: 2 | DS3: =IFERROR(VLOOKUP(DR$1&":"&DR3,'Finish order'!$E:$K,4,FALSE()),"") | DT3: =IFERROR(VLOOKUP(DR$1&":"&DR3,'Finish order'!$E:$K,5,FALSE()),"") | DU3: =IFERROR(VLOOKUP(DR$1&":"&DR3,'Finish order'!$E:$K,3,FALSE()),"") | DV3: =IFERROR(VLOOKUP(DR$1&":"&DR3,'Finish order'!$E:$K,2,FALSE()),"") | DW3: =IF('Results 10 year vets'!$DS3="","",IF((COUNTIF($Q$2:$Q$4,DS3)>0),"Top3",""))
A4: 3 | B4: =IFERROR(VLOOKUP($A$1&":"&A4,'Finish order'!C:K,6,FALSE()),"") | C4: =IFERROR(VLOOKUP(A$1&":"&A4,'Finish order'!$C:$K,9,FALSE()),"") | D4: =IFERROR(VLOOKUP(A$1&":"&A4,'Finish order'!$C:$K,7,FALSE()),"") | E4: =IFERROR(VLOOKUP($A$1&":"&A4,'Finish order'!C:K,5,FALSE()),"") | F4: =IFERROR(VLOOKUP($A$1&":"&A4,'Finish order'!C:K,4,FALSE()),"") | G4: {=IFERROR(SMALL(IF($D$2:$D913=D4,$A$2:$A$911*1.001),1),"")} | H4: {=IFERROR(SMALL(IF($D$2:$D913=D4,$A$2:$A$911*1.0001),2),"")} | I4: {=IFERROR(SMALL(IF($D$2:$D913=D4,$A$2:$A$911*1.00001),3),"")} | J4: {=IFERROR(SMALL(IF($D$2:$D913=D4,$A$2:$A$911*1.000001),4),"")} | K4: =IF(A4<>"", IF(COUNT(G4:J4)=4, SUM(G4:J4), "No"), "") -> No | L4: =IF(A4<>"", IF(COUNT(G4:I4)=3, SUM(G4:I4), "No"), "") -> No | M4: =IF(A4<>"", IF(COUNT(G4:H4)=2, SUM(G4:H4), "No"), "") -> No | N4: ='Results 10 year vets'!$D4&":"&Table1[[#Headers],[Male]] -> :Male | P4: 3 | Q4: =IFERROR(VLOOKUP(P$1&":"&P4,'Finish order'!$C:$K,6,FALSE()),"") | R4: =IFERROR(VLOOKUP(P$1&":"&P4,'Finish order'!$C:$K,9,FALSE()),"") | S4: =IFERROR(VLOOKUP(P$1&":"&P4,'Finish order'!$C:$K,7,FALSE()),"") | T4: =IFERROR(VLOOKUP(P$1&":"&P4,'Finish order'!$C:$K,5,FALSE()),"") | U4: =IFERROR(VLOOKUP(P$1&":"&P4,'Finish order'!$C:$K,4,FALSE()),"") | V4: {=IFERROR(SMALL(IF($S$2:$S913=S4,$P$2:$P$911*1.001),1),"")} | W4: {=IFERROR(SMALL(IF($S$2:$S913=S4,$P$2:$P$911*1.0001),2),"")} | X4: {=IFERROR(SMALL(IF($S$2:$S913=S4,$P$2:$P$911*1.00001),3),"")} | Y4: {=IFERROR(SMALL(IF($S$2:$S913=S4,$P$2:$P$911*1.000001),4),"")} | Z4: =IF(P4<>"", IF(COUNT(V4:Y4)=4, SUM(V4:Y4), "No"), "") -> No | AA4: =IF(P4<>"", IF(COUNT(V4:X4)=3, SUM(V4:X4), "No"), "") -> No | AB4: =IF(P4<>"", IF(COUNT(V4:W4)=2, SUM(V4:W4), "No"), "") -> No | AC4: ='Results 10 year vets'!$S4&":"&Table4[[#Headers],[Female]] -> :Female | AE4: 3 | AF4: =IFERROR(VLOOKUP(AE$1&":"&AE4,'Finish order'!$E:$K,4,FALSE()),"") | AG4: =IFERROR(VLOOKUP(AE$1&":"&AE4,'Finish order'!$E:$K,5,FALSE()),"") | AH4: =IFERROR(VLOOKUP(AE$1&":"&AE4,'Finish order'!$E:$K,3,FALSE()),"") | AI4: =IFERROR(VLOOKUP(AE$1&":"&AE4,'Finish order'!$E:$K,2,FALSE()),"") | AJ4: =IF('Results 10 year vets'!$AF4="","",IF((COUNTIF($B$2:$B$4,AF4)>0),"Top3","")) | AL4: 3 | AM4: =IFERROR(VLOOKUP(AL$1&":"&AL4,'Finish order'!$E:$K,4,FALSE()),"") | AN4: =IFERROR(VLOOKUP(AL$1&":"&AL4,'Finish order'!$E:$K,5,FALSE()),"") | AO4: =IFERROR(VLOOKUP(AL$1&":"&AL4,'Finish order'!$E:$K,3,FALSE()),"") | AP4: =IFERROR(VLOOKUP(AL$1&":"&AL4,'Finish order'!$E:$K,2,FALSE()),"") | AQ4: =IF('Results 10 year vets'!$AM4="","",IF((COUNTIF($Q$2:$Q$4,AM4)>0),"Top3","")) | AS4: 3 | AT4: =IFERROR(VLOOKUP(AS$1&":"&AS4,'Finish order'!$E:$K,4,FALSE()),"") | AU4: =IFERROR(VLOOKUP(AS$1&":"&AS4,'Finish order'!$E:$K,5,FALSE()),"") | AV4: =IFERROR(VLOOKUP(AS$1&":"&AS4,'Finish order'!$E:$K,3,FALSE()),"") | AW4: =IFERROR(VLOOKUP(AS$1&":"&AS4,'Finish order'!$E:$K,2,FALSE()),"") | AX4: =IF('Results 10 year vets'!$AT4="","",IF((COUNTIF($B$2:$B$4,AT4)>0),"Top3","")) | AZ4: 3 | BA4: =IFERROR(VLOOKUP(AZ$1&":"&AZ4,'Finish order'!$E:$K,4,FALSE()),"") | BB4: =IFERROR(VLOOKUP(AZ$1&":"&AZ4,'Finish order'!$E:$K,5,FALSE()),"") | BC4: =IFERROR(VLOOKUP(AZ$1&":"&AZ4,'Finish order'!$E:$K,3,FALSE()),"") | BD4: =IFERROR(VLOOKUP(AZ$1&":"&AZ4,'Finish order'!$E:$K,2,FALSE()),"") | BE4: =IF('Results 10 year vets'!$BA4="","",IF((COUNTIF($Q$2:$Q$4,BA4)>0),"Top3","")) | BG4: 3 | BH4: =IFERROR(VLOOKUP(BG$1&":"&BG4,'Finish order'!$E:$K,4,FALSE()),"") | BI4: =IFERROR(VLOOKUP(BG$1&":"&BG4,'Finish order'!$E:$K,5,FALSE()),"") | BJ4: =IFERROR(VLOOKUP(BG$1&":"&BG4,'Finish order'!$E:$K,3,FALSE()),"") | BK4: =IFERROR(VLOOKUP(BG$1&":"&BG4,'Finish order'!$E:$K,2,FALSE()),"") | BL4: =IF('Results 10 year vets'!$BA4="","",IF((COUNTIF($B$2:$B$4,BH4)>0),"Top3","")) | BN4: 3 | BO4: =IFERROR(VLOOKUP(BN$1&":"&BN4,'Finish order'!$E:$K,4,FALSE()),"") | BP4: =IFERROR(VLOOKUP(BN$1&":"&BN4,'Finish order'!$E:$K,5,FALSE()),"") | BQ4: =IFERROR(VLOOKUP(BN$1&":"&BN4,'Finish order'!$E:$K,3,FALSE()),"") | BR4: =IFERROR(VLOOKUP(BN$1&":"&BN4,'Finish order'!$E:$K,2,FALSE()),"") | BS4: =IF('Results 10 year vets'!$BA4="","",IF((COUNTIF($Q$2:$Q$4,BO4)>0),"Top3","")) | BU4: 3 | BV4: =IFERROR(VLOOKUP(BU$1&":"&BU4,'Finish order'!$E:$K,4,FALSE()),"") | BW4: =IFERROR(VLOOKUP(BU$1&":"&BU4,'Finish order'!$E:$K,5,FALSE()),"") | BX4: =IFERROR(VLOOKUP(BU$1&":"&BU4,'Finish order'!$E:$K,3,FALSE()),"") | BY4: =IFERROR(VLOOKUP(BU$1&":"&BU4,'Finish order'!$E:$K,2,FALSE()),"") | BZ4: =IF('Results 10 year vets'!$BV4="","",IF((COUNTIF($B$2:$B$4,BV4)>0),"Top3","")) | CB4: 3 | CC4: =IFERROR(VLOOKUP(CB$1&":"&CB4,'Finish order'!$E:$K,4,FALSE()),"") | CD4: =IFERROR(VLOOKUP(CB$1&":"&CB4,'Finish order'!$E:$K,5,FALSE()),"") | CE4: =IFERROR(VLOOKUP(CB$1&":"&CB4,'Finish order'!$E:$K,3,FALSE()),"") | CF4: =IFERROR(VLOOKUP(CB$1&":"&CB4,'Finish order'!$E:$K,2,FALSE()),"") | CG4: =IF('Results 10 year vets'!$CC4="","",IF((COUNTIF($Q$2:$Q$4,CC4)>0),"Top3","")) | CI4: 3 | CJ4: =IFERROR(VLOOKUP(CI$1&":"&CI4,'Finish order'!$E:$K,4,FALSE()),"") | CK4: =IFERROR(VLOOKUP(CI$1&":"&CI4,'Finish order'!$E:$K,5,FALSE()),"") | CL4: =IFERROR(VLOOKUP(CI$1&":"&CI4,'Finish order'!$E:$K,3,FALSE()),"") | CM4: =IFERROR(VLOOKUP(CI$1&":"&CI4,'Finish order'!$E:$K,2,FALSE()),"") | CN4: =IF('Results 10 year vets'!$CJ4="","",IF((COUNTIF($B$2:$B$4,CJ4)>0),"Top3","")) | CP4: 3 | CQ4: =IFERROR(VLOOKUP(CP$1&":"&CP4,'Finish order'!$E:$K,4,FALSE()),"") | CR4: =IFERROR(VLOOKUP(CP$1&":"&CP4,'Finish order'!$E:$K,5,FALSE()),"") | CS4: =IFERROR(VLOOKUP(CP$1&":"&CP4,'Finish order'!$E:$K,3,FALSE()),"") | CT4: =IFERROR(VLOOKUP(CP$1&":"&CP4,'Finish order'!$E:$K,2,FALSE()),"") | CU4: =IF('Results 10 year vets'!$CQ4="","",IF((COUNTIF($Q$2:$Q$4,CQ4)>0),"Top3","")) | CW4: 3 | CX4: =IFERROR(VLOOKUP(CW$1&":"&CW4,'Finish order'!$E:$K,4,FALSE()),"") | CY4: =IFERROR(VLOOKUP(CW$1&":"&CW4,'Finish order'!$E:$K,5,FALSE()),"") | CZ4: =IFERROR(VLOOKUP(CW$1&":"&CW4,'Finish order'!$E:$K,3,FALSE()),"") | DA4: =IFERROR(VLOOKUP(CW$1&":"&CW4,'Finish order'!$E:$K,2,FALSE()),"") | DB4: =IF('Results 10 year vets'!$CX4="","",IF((COUNTIF($B$2:$B$4,CX4)>0),"Top3","")) | DD4: 3 | DE4: =IFERROR(VLOOKUP(DD$1&":"&DD4,'Finish order'!$E:$K,4,FALSE()),"") | DF4: =IFERROR(VLOOKUP(DD$1&":"&DD4,'Finish order'!$E:$K,5,FALSE()),"") | DG4: =IFERROR(VLOOKUP(DD$1&":"&DD4,'Finish order'!$E:$K,3,FALSE()),"") | DH4: =IFERROR(VLOOKUP(DD$1&":"&DD4,'Finish order'!$E:$K,2,FALSE()),"") | DI4: =IF('Results 10 year vets'!$DE4="","",IF((COUNTIF($Q$2:$Q$4,DE4)>0),"Top3","")) | DK4: 3 | DL4: =IFERROR(VLOOKUP(DK$1&":"&DK4,'Finish order'!$E:$K,4,FALSE()),"") | DM4: =IFERROR(VLOOKUP(DK$1&":"&DK4,'Finish order'!$E:$K,5,FALSE()),"") | DN4: =IFERROR(VLOOKUP(DK$1&":"&DK4,'Finish order'!$E:$K,3,FALSE()),"") | DO4: =IFERROR(VLOOKUP(DK$1&":"&DK4,'Finish order'!$E:$K,2,FALSE()),"") | DP4: =IF('Results 10 year vets'!$DL4="","",IF((COUNTIF($B$2:$B$4,DL4)>0),"Top3","")) | DR4: 3 | DS4: =IFERROR(VLOOKUP(DR$1&":"&DR4,'Finish order'!$E:$K,4,FALSE()),"") | DT4: =IFERROR(VLOOKUP(DR$1&":"&DR4,'Finish order'!$E:$K,5,FALSE()),"") | DU4: =IFERROR(VLOOKUP(DR$1&":"&DR4,'Finish order'!$E:$K,3,FALSE()),"") | DV4: =IFERROR(VLOOKUP(DR$1&":"&DR4,'Finish order'!$E:$K,2,FALSE()),"") | DW4: =IF('Results 10 year vets'!$DS4="","",IF((COUNTIF($Q$2:$Q$4,DS4)>0),"Top3",""))
A5: 4 | B5: =IFERROR(VLOOKUP($A$1&":"&A5,'Finish order'!C:K,6,FALSE()),"") | C5: =IFERROR(VLOOKUP(A$1&":"&A5,'Finish order'!$C:$K,9,FALSE()),"") | D5: =IFERROR(VLOOKUP(A$1&":"&A5,'Finish order'!$C:$K,7,FALSE()),"") | E5: =IFERROR(VLOOKUP($A$1&":"&A5,'Finish order'!C:K,5,FALSE()),"") | F5: =IFERROR(VLOOKUP($A$1&":"&A5,'Finish order'!C:K,4,FALSE()),"") | G5: {=IFERROR(SMALL(IF($D$2:$D914=D5,$A$2:$A$911*1.001),1),"")} | H5: {=IFERROR(SMALL(IF($D$2:$D914=D5,$A$2:$A$911*1.0001),2),"")} | I5: {=IFERROR(SMALL(IF($D$2:$D914=D5,$A$2:$A$911*1.00001),3),"")} | J5: {=IFERROR(SMALL(IF($D$2:$D914=D5,$A$2:$A$911*1.000001),4),"")} | K5: =IF(A5<>"", IF(COUNT(G5:J5)=4, SUM(G5:J5), "No"), "") -> No | L5: =IF(A5<>"", IF(COUNT(G5:I5)=3, SUM(G5:I5), "No"), "") -> No | M5: =IF(A5<>"", IF(COUNT(G5:H5)=2, SUM(G5:H5), "No"), "") -> No | N5: ='Results 10 year vets'!$D5&":"&Table1[[#Headers],[Male]] -> :Male | P5: 4 | Q5: =IFERROR(VLOOKUP(P$1&":"&P5,'Finish order'!$C:$K,6,FALSE()),"") | R5: =IFERROR(VLOOKUP(P$1&":"&P5,'Finish order'!$C:$K,9,FALSE()),"") | S5: =IFERROR(VLOOKUP(P$1&":"&P5,'Finish order'!$C:$K,7,FALSE()),"") | T5: =IFERROR(VLOOKUP(P$1&":"&P5,'Finish order'!$C:$K,5,FALSE()),"") | U5: =IFERROR(VLOOKUP(P$1&":"&P5,'Finish order'!$C:$K,4,FALSE()),"") | V5: {=IFERROR(SMALL(IF($S$2:$S914=S5,$P$2:$P$911*1.001),1),"")} | W5: {=IFERROR(SMALL(IF($S$2:$S914=S5,$P$2:$P$911*1.0001),2),"")} | X5: {=IFERROR(SMALL(IF($S$2:$S914=S5,$P$2:$P$911*1.00001),3),"")} | Y5: {=IFERROR(SMALL(IF($S$2:$S914=S5,$P$2:$P$911*1.000001),4),"")} | Z5: =IF(P5<>"", IF(COUNT(V5:Y5)=4, SUM(V5:Y5), "No"), "") -> No | AA5: =IF(P5<>"", IF(COUNT(V5:X5)=3, SUM(V5:X5), "No"), "") -> No | AB5: =IF(P5<>"", IF(COUNT(V5:W5)=2, SUM(V5:W5), "No"), "") -> No | AC5: ='Results 10 year vets'!$S5&":"&Table4[[#Headers],[Female]] -> :Female | AE5: 4 | AF5: =IFERROR(VLOOKUP(AE$1&":"&AE5,'Finish order'!$E:$K,4,FALSE()),"") | AG5: =IFERROR(VLOOKUP(AE$1&":"&AE5,'Finish order'!$E:$K,5,FALSE()),"") | AH5: =IFERROR(VLOOKUP(AE$1&":"&AE5,'Finish order'!$E:$K,3,FALSE()),"") | AI5: =IFERROR(VLOOKUP(AE$1&":"&AE5,'Finish order'!$E:$K,2,FALSE()),"") | AL5: 4 | AM5: =IFERROR(VLOOKUP(AL$1&":"&AL5,'Finish order'!$E:$K,4,FALSE()),"") | AN5: =IFERROR(VLOOKUP(AL$1&":"&AL5,'Finish order'!$E:$K,5,FALSE()),"") | AO5: =IFERROR(VLOOKUP(AL$1&":"&AL5,'Finish order'!$E:$K,3,FALSE()),"") | AP5: =IFERROR(VLOOKUP(AL$1&":"&AL5,'Finish order'!$E:$K,2,FALSE()),"") | AS5: 4 | AT5: =IFERROR(VLOOKUP(AS$1&":"&AS5,'Finish order'!$E:$K,4,FALSE()),"") | AU5: =IFERROR(VLOOKUP(AS$1&":"&AS5,'Finish order'!$E:$K,5,FALSE()),"") | AV5: =IFERROR(VLOOKUP(AS$1&":"&AS5,'Finish order'!$E:$K,3,FALSE()),"") | AW5: =IFERROR(VLOOKUP(AS$1&":"&AS5,'Finish order'!$E:$K,2,FALSE()),"") | AZ5: 4 | BA5: =IFERROR(VLOOKUP(AZ$1&":"&AZ5,'Finish order'!$E:$K,4,FALSE()),"") | BB5: =IFERROR(VLOOKUP(AZ$1&":"&AZ5,'Finish order'!$E:$K,5,FALSE()),"") | BC5: =IFERROR(VLOOKUP(AZ$1&":"&AZ5,'Finish order'!$E:$K,3,FALSE()),"") | BD5: =IFERROR(VLOOKUP(AZ$1&":"&AZ5,'Finish order'!$E:$K,2,FALSE()),"") | BG5: 4 | BH5: =IFERROR(VLOOKUP(BG$1&":"&BG5,'Finish order'!$E:$K,4,FALSE()),"") | BI5: =IFERROR(VLOOKUP(BG$1&":"&BG5,'Finish order'!$E:$K,5,FALSE()),"") | BJ5: =IFERROR(VLOOKUP(BG$1&":"&BG5,'Finish order'!$E:$K,3,FALSE()),"") | BK5: =IFERROR(VLOOKUP(BG$1&":"&BG5,'Finish order'!$E:$K,2,FALSE()),"") | BN5: 4 | BO5: =IFERROR(VLOOKUP(BN$1&":"&BN5,'Finish order'!$E:$K,4,FALSE()),"") | BP5: =IFERROR(VLOOKUP(BN$1&":"&BN5,'Finish order'!$E:$K,5,FALSE()),"") | BQ5: =IFERROR(VLOOKUP(BN$1&":"&BN5,'Finish order'!$E:$K,3,FALSE()),"") | BR5: =IFERROR(VLOOKUP(BN$1&":"&BN5,'Finish order'!$E:$K,2,FALSE()),"") | BU5: 4 | BV5: =IFERROR(VLOOKUP(BU$1&":"&BU5,'Finish order'!$E:$K,4,FALSE()),"") | BW5: =IFERROR(VLOOKUP(BU$1&":"&BU5,'Finish order'!$E:$K,5,FALSE()),"") | BX5: =IFERROR(VLOOKUP(BU$1&":"&BU5,'Finish order'!$E:$K,3,FALSE()),"") | BY5: =IFERROR(VLOOKUP(BU$1&":"&BU5,'Finish order'!$E:$K,2,FALSE()),"") | CB5: 4 | CC5: =IFERROR(VLOOKUP(CB$1&":"&CB5,'Finish order'!$E:$K,4,FALSE()),"") | CD5: =IFERROR(VLOOKUP(CB$1&":"&CB5,'Finish order'!$E:$K,5,FALSE()),"") | CE5: =IFERROR(VLOOKUP(CB$1&":"&CB5,'Finish order'!$E:$K,3,FALSE()),"") | CF5: =IFERROR(VLOOKUP(CB$1&":"&CB5,'Finish order'!$E:$K,2,FALSE()),"") | CI5: 4 | CJ5: =IFERROR(VLOOKUP(CI$1&":"&CI5,'Finish order'!$E:$K,4,FALSE()),"") | CK5: =IFERROR(VLOOKUP(CI$1&":"&CI5,'Finish order'!$E:$K,5,FALSE()),"") | CL5: =IFERROR(VLOOKUP(CI$1&":"&CI5,'Finish order'!$E:$K,3,FALSE()),"") | CM5: =IFERROR(VLOOKUP(CI$1&":"&CI5,'Finish order'!$E:$K,2,FALSE()),"") | CP5: 4 | CQ5: =IFERROR(VLOOKUP(CP$1&":"&CP5,'Finish order'!$E:$K,4,FALSE()),"") | CR5: =IFERROR(VLOOKUP(CP$1&":"&CP5,'Finish order'!$E:$K,5,FALSE()),"") | CS5: =IFERROR(VLOOKUP(CP$1&":"&CP5,'Finish order'!$E:$K,3,FALSE()),"") | CT5: =IFERROR(VLOOKUP(CP$1&":"&CP5,'Finish order'!$E:$K,2,FALSE()),"") | CW5: 4 | CX5: =IFERROR(VLOOKUP(CW$1&":"&CW5,'Finish order'!$E:$K,4,FALSE()),"") | CY5: =IFERROR(VLOOKUP(CW$1&":"&CW5,'Finish order'!$E:$K,5,FALSE()),"") | CZ5: =IFERROR(VLOOKUP(CW$1&":"&CW5,'Finish order'!$E:$K,3,FALSE()),"") | DA5: =IFERROR(VLOOKUP(CW$1&":"&CW5,'Finish order'!$E:$K,2,FALSE()),"") | DD5: 4 | DE5: =IFERROR(VLOOKUP(DD$1&":"&DD5,'Finish order'!$E:$K,4,FALSE()),"") | DF5: =IFERROR(VLOOKUP(DD$1&":"&DD5,'Finish order'!$E:$K,5,FALSE()),"") | DG5: =IFERROR(VLOOKUP(DD$1&":"&DD5,'Finish order'!$E:$K,3,FALSE()),"") | DH5: =IFERROR(VLOOKUP(DD$1&":"&DD5,'Finish order'!$E:$K,2,FALSE()),"") | DK5: 4 | DL5: =IFERROR(VLOOKUP(DK$1&":"&DK5,'Finish order'!$E:$K,4,FALSE()),"") | DM5: =IFERROR(VLOOKUP(DK$1&":"&DK5,'Finish order'!$E:$K,5,FALSE()),"") | DN5: =IFERROR(VLOOKUP(DK$1&":"&DK5,'Finish order'!$E:$K,3,FALSE()),"") | DO5: =IFERROR(VLOOKUP(DK$1&":"&DK5,'Finish order'!$E:$K,2,FALSE()),"") | DR5: 4 | DS5: =IFERROR(VLOOKUP(DR$1&":"&DR5,'Finish order'!$E:$K,4,FALSE()),"") | DT5: =IFERROR(VLOOKUP(DR$1&":"&DR5,'Finish order'!$E:$K,5,FALSE()),"") | DU5: =IFERROR(VLOOKUP(DR$1&":"&DR5,'Finish order'!$E:$K,3,FALSE()),"") | DV5: =IFERROR(VLOOKUP(DR$1&":"&DR5,'Finish order'!$E:$K,2,FALSE()),"")
